BEGIN:VCALENDAR
VERSION:2.0
PRODID:-//Parroquia Santí­sima Trinidad  (Collado Villalba) - ECPv6.15.20//NONSGML v1.0//EN
CALSCALE:GREGORIAN
METHOD:PUBLISH
X-ORIGINAL-URL:https://psantisimatrinidad.archimadrid.es
X-WR-CALDESC:Eventos para Parroquia Santí­sima Trinidad  (Collado Villalba)
REFRESH-INTERVAL;VALUE=DURATION:PT1H
X-Robots-Tag:noindex
X-PUBLISHED-TTL:PT1H
BEGIN:VTIMEZONE
TZID:Europe/Madrid
BEGIN:DAYLIGHT
TZOFFSETFROM:+0100
TZOFFSETTO:+0200
TZNAME:CEST
DTSTART:20230326T010000
END:DAYLIGHT
BEGIN:STANDARD
TZOFFSETFROM:+0200
TZOFFSETTO:+0100
TZNAME:CET
DTSTART:20231029T010000
END:STANDARD
BEGIN:DAYLIGHT
TZOFFSETFROM:+0100
TZOFFSETTO:+0200
TZNAME:CEST
DTSTART:20240331T010000
END:DAYLIGHT
BEGIN:STANDARD
TZOFFSETFROM:+0200
TZOFFSETTO:+0100
TZNAME:CET
DTSTART:20241027T010000
END:STANDARD
BEGIN:DAYLIGHT
TZOFFSETFROM:+0100
TZOFFSETTO:+0200
TZNAME:CEST
DTSTART:20250330T010000
END:DAYLIGHT
BEGIN:STANDARD
TZOFFSETFROM:+0200
TZOFFSETTO:+0100
TZNAME:CET
DTSTART:20251026T010000
END:STANDARD
END:VTIMEZONE
BEGIN:VEVENT
DTSTART;TZID=Europe/Madrid:20240308T181500
DTEND;TZID=Europe/Madrid:20240308T190000
DTSTAMP:20260420T021501
CREATED:20240301T131317Z
LAST-MODIFIED:20240301T131317Z
UID:17726-1709921700-1709924400@psantisimatrinidad.archimadrid.es
SUMMARY:Via Crucis
DESCRIPTION:VIA CRUCIS\nEstamos todos invitamos al Via Crucis que tendrá lugar hoy a las 18:15h en el templo parroquial\, marcando el inicio de una hermosa tradición que se repetirá todos los viernes de Cuaresma. Esta actividad ha sido preparada por los grupode postcomunión\, confirmación (juveniles y adultos) y jóvenes.\nEn cada estación\, nos sumergiremos en una profunda reflexión\, recordando el sacrificio y el amor infinito que nos fue regalado. Será un momento para unirnos en comunidad\, fortalecer la fe y renovar nuestros corazones\, dispuestos a recibir con gratitud la luz que nos trae la Pascua.
URL:https://psantisimatrinidad.archimadrid.es/event/via-crucis-44/
CATEGORIES:Eventos Evangelización
ATTACH;FMTTYPE=image/png:https://psantisimatrinidad.archimadrid.es/wp-content/uploads/2024/03/page-6-e1709298775870.png
END:VEVENT
END:VCALENDAR