BEGIN:VCALENDAR
VERSION:2.0
PRODID:-//Parroquia Santí­sima Trinidad  (Collado Villalba) - ECPv6.15.20//NONSGML v1.0//EN
CALSCALE:GREGORIAN
METHOD:PUBLISH
X-ORIGINAL-URL:https://psantisimatrinidad.archimadrid.es
X-WR-CALDESC:Eventos para Parroquia Santí­sima Trinidad  (Collado Villalba)
REFRESH-INTERVAL;VALUE=DURATION:PT1H
X-Robots-Tag:noindex
X-PUBLISHED-TTL:PT1H
BEGIN:VTIMEZONE
TZID:Europe/Madrid
BEGIN:DAYLIGHT
TZOFFSETFROM:+0100
TZOFFSETTO:+0200
TZNAME:CEST
DTSTART:20230326T010000
END:DAYLIGHT
BEGIN:STANDARD
TZOFFSETFROM:+0200
TZOFFSETTO:+0100
TZNAME:CET
DTSTART:20231029T010000
END:STANDARD
BEGIN:DAYLIGHT
TZOFFSETFROM:+0100
TZOFFSETTO:+0200
TZNAME:CEST
DTSTART:20240331T010000
END:DAYLIGHT
BEGIN:STANDARD
TZOFFSETFROM:+0200
TZOFFSETTO:+0100
TZNAME:CET
DTSTART:20241027T010000
END:STANDARD
BEGIN:DAYLIGHT
TZOFFSETFROM:+0100
TZOFFSETTO:+0200
TZNAME:CEST
DTSTART:20250330T010000
END:DAYLIGHT
BEGIN:STANDARD
TZOFFSETFROM:+0200
TZOFFSETTO:+0100
TZNAME:CET
DTSTART:20251026T010000
END:STANDARD
END:VTIMEZONE
BEGIN:VEVENT
DTSTART;TZID=Europe/Madrid:20240318T173000
DTEND;TZID=Europe/Madrid:20240318T183000
DTSTAMP:20260420T021512
CREATED:20240316T163032Z
LAST-MODIFIED:20240316T163032Z
UID:17868-1710783000-1710786600@psantisimatrinidad.archimadrid.es
SUMMARY:Taller para padres
DESCRIPTION:👉¡No te pierdas la oportunidad de potenciar la inteligencia emocional de tus hijos! \nÚnete a nuestro emocionante taller para padres que continúa explorando los secretos de la inteligencia emocional en la niñez.\n\n\n¡Acércate hoy a los salones parroquiales\, a las 17:30h y pregunta por Inma para sumergirte en esta experiencia enriquecedora!\n\n\n¡Juntos construiremos la base emocional sólida que tus hijos merecen!
URL:https://psantisimatrinidad.archimadrid.es/event/taller-para-padres-13/
CATEGORIES:Eventos Evangelización
ATTACH;FMTTYPE=image/png:https://psantisimatrinidad.archimadrid.es/wp-content/uploads/2024/03/20240318-Taller-e1710606598302.png
END:VEVENT
BEGIN:VEVENT
DTSTART;TZID=Europe/Madrid:20240318T203000
DTEND;TZID=Europe/Madrid:20240318T210000
DTSTAMP:20260420T021512
CREATED:20240316T163341Z
LAST-MODIFIED:20240318T180036Z
UID:17871-1710793800-1710795600@psantisimatrinidad.archimadrid.es
SUMMARY:Grupo de Fe Cristo Roto
DESCRIPTION:👉Este lunes\, el Grupo de Fe Cristo Roto te invita a unirte a nuestra oración on-line a partir de las 20:30h. En el siguiente enlace: https://youtu.be/i-9m-0t2dgM \n¡Enciende la llama de la esperanza y la unión espiritual desde la comodidad de tu hogar! 🏡\n\n\nÚnete a nosotros en nuestro canal de YouTube parroquial y dejemos que nuestras oraciones resplandezcan juntas.\n\n\n¡Te esperamos para compartir este momento especial!
URL:https://psantisimatrinidad.archimadrid.es/event/grupo-de-fe-cristo-roto-24/
CATEGORIES:Eventos Evangelización
END:VEVENT
END:VCALENDAR