BEGIN:VCALENDAR
VERSION:2.0
PRODID:-//Parroquia Santí­sima Trinidad  (Collado Villalba) - ECPv6.15.20//NONSGML v1.0//EN
CALSCALE:GREGORIAN
METHOD:PUBLISH
X-ORIGINAL-URL:https://psantisimatrinidad.archimadrid.es
X-WR-CALDESC:Eventos para Parroquia Santí­sima Trinidad  (Collado Villalba)
REFRESH-INTERVAL;VALUE=DURATION:PT1H
X-Robots-Tag:noindex
X-PUBLISHED-TTL:PT1H
BEGIN:VTIMEZONE
TZID:Europe/Madrid
BEGIN:DAYLIGHT
TZOFFSETFROM:+0100
TZOFFSETTO:+0200
TZNAME:CEST
DTSTART:20230326T010000
END:DAYLIGHT
BEGIN:STANDARD
TZOFFSETFROM:+0200
TZOFFSETTO:+0100
TZNAME:CET
DTSTART:20231029T010000
END:STANDARD
BEGIN:DAYLIGHT
TZOFFSETFROM:+0100
TZOFFSETTO:+0200
TZNAME:CEST
DTSTART:20240331T010000
END:DAYLIGHT
BEGIN:STANDARD
TZOFFSETFROM:+0200
TZOFFSETTO:+0100
TZNAME:CET
DTSTART:20241027T010000
END:STANDARD
BEGIN:DAYLIGHT
TZOFFSETFROM:+0100
TZOFFSETTO:+0200
TZNAME:CEST
DTSTART:20250330T010000
END:DAYLIGHT
BEGIN:STANDARD
TZOFFSETFROM:+0200
TZOFFSETTO:+0100
TZNAME:CET
DTSTART:20251026T010000
END:STANDARD
END:VTIMEZONE
BEGIN:VEVENT
DTSTART;VALUE=DATE:20240319
DTEND;VALUE=DATE:20240320
DTSTAMP:20260420T021459
CREATED:20240316T165844Z
LAST-MODIFIED:20240316T165844Z
UID:17893-1710806400-1710892799@psantisimatrinidad.archimadrid.es
SUMMARY:Solemnidad de San José
DESCRIPTION:Las misas de hoy serán a las 09:30h y 19:00h
URL:https://psantisimatrinidad.archimadrid.es/event/solemnidad-de-san-jose/
CATEGORIES:Eventos Evangelización
ATTACH;FMTTYPE=image/png:https://psantisimatrinidad.archimadrid.es/wp-content/uploads/2024/03/20240319-San-Jose-e1710608318721.png
END:VEVENT
BEGIN:VEVENT
DTSTART;TZID=Europe/Madrid:20240319T194500
DTEND;TZID=Europe/Madrid:20240319T204500
DTSTAMP:20260420T021459
CREATED:20240316T163803Z
LAST-MODIFIED:20240316T163844Z
UID:17882-1710877500-1710881100@psantisimatrinidad.archimadrid.es
SUMMARY:Formación: El resentimiento II
DESCRIPTION:FORMACIÓN: CURSO SOBRE PSICOLOGÍA Y ESPIRITUALIDAD: EL RESENTIMIENTO\n En esta ocasión se realizará en los salones parroquiales.\nContinuamos con nuestro plan de formación parroquial\, y esta vez nos sumergiremos en el curso de psicología y espiritualidad con la segunda parte del tema ‘el resentimiento’ \nEsta experiencia estará a cargo de nuestro párroco\, el P. Luis Murillo\nPrepárate para absorber cada enseñanza\, ¡te recomendamos traer tu cuaderno y bolígrafo para capturar todas las inspiradoras reflexiones!\n Las sesiones se llevarán a cabo los martes\, quincenalmente\, de 19:45h a 20:45h\nEste espacio de aprendizaje está abierto a todos los agentes de pastoral y a cualquier persona que desee fortalecer su fe y expandir su conocimiento espiritual.\n¡Creceremos juntos en comunidad y amor! ¡No te pierdas la oportunidad de nutrir tu espíritu!
URL:https://psantisimatrinidad.archimadrid.es/event/17882/
CATEGORIES:Eventos Evangelización
ATTACH;FMTTYPE=image/png:https://psantisimatrinidad.archimadrid.es/wp-content/uploads/2024/03/20240319-resentimiento-e1710607070753.png
END:VEVENT
END:VCALENDAR