BEGIN:VCALENDAR
VERSION:2.0
PRODID:-//Parroquia Santí­sima Trinidad  (Collado Villalba) - ECPv6.15.20//NONSGML v1.0//EN
CALSCALE:GREGORIAN
METHOD:PUBLISH
X-ORIGINAL-URL:https://psantisimatrinidad.archimadrid.es
X-WR-CALDESC:Eventos para Parroquia Santí­sima Trinidad  (Collado Villalba)
REFRESH-INTERVAL;VALUE=DURATION:PT1H
X-Robots-Tag:noindex
X-PUBLISHED-TTL:PT1H
BEGIN:VTIMEZONE
TZID:Europe/Madrid
BEGIN:DAYLIGHT
TZOFFSETFROM:+0100
TZOFFSETTO:+0200
TZNAME:CEST
DTSTART:20230326T010000
END:DAYLIGHT
BEGIN:STANDARD
TZOFFSETFROM:+0200
TZOFFSETTO:+0100
TZNAME:CET
DTSTART:20231029T010000
END:STANDARD
BEGIN:DAYLIGHT
TZOFFSETFROM:+0100
TZOFFSETTO:+0200
TZNAME:CEST
DTSTART:20240331T010000
END:DAYLIGHT
BEGIN:STANDARD
TZOFFSETFROM:+0200
TZOFFSETTO:+0100
TZNAME:CET
DTSTART:20241027T010000
END:STANDARD
BEGIN:DAYLIGHT
TZOFFSETFROM:+0100
TZOFFSETTO:+0200
TZNAME:CEST
DTSTART:20250330T010000
END:DAYLIGHT
BEGIN:STANDARD
TZOFFSETFROM:+0200
TZOFFSETTO:+0100
TZNAME:CET
DTSTART:20251026T010000
END:STANDARD
END:VTIMEZONE
BEGIN:VEVENT
DTSTART;TZID=Europe/Madrid:20240427T180000
DTEND;TZID=Europe/Madrid:20240427T180000
DTSTAMP:20260420T040337
CREATED:20240413T095506Z
LAST-MODIFIED:20240414T064739Z
UID:18248-1714240800-1714240800@psantisimatrinidad.archimadrid.es
SUMMARY:Espectáculo: Los Cuatro Ases
DESCRIPTION:¡No te puedes perder el estreno de LOS CUATRO ASES! \n‘Los Chicos Mágicos’ han estado trabajando incansablemente para llevar a cabo este evento\, que se realizará en las instalaciones del Colegio Santísima Trinidad (entrada por la C/ Carlos Ruiz)\, el sábado 27 de abril a las 18:00h. \nEl donativo será para las actividades de verano de la Parroquia
URL:https://psantisimatrinidad.archimadrid.es/event/espectaculo-los-cuatro-ases/
CATEGORIES:Eventos Evangelización
ATTACH;FMTTYPE=image/png:https://psantisimatrinidad.archimadrid.es/wp-content/uploads/2024/04/20240427-magia-e1713002097819.png
END:VEVENT
END:VCALENDAR