BEGIN:VCALENDAR
VERSION:2.0
PRODID:-//Parroquia Santí­sima Trinidad  (Collado Villalba) - ECPv6.15.20//NONSGML v1.0//EN
CALSCALE:GREGORIAN
METHOD:PUBLISH
X-ORIGINAL-URL:https://psantisimatrinidad.archimadrid.es
X-WR-CALDESC:Eventos para Parroquia Santí­sima Trinidad  (Collado Villalba)
REFRESH-INTERVAL;VALUE=DURATION:PT1H
X-Robots-Tag:noindex
X-PUBLISHED-TTL:PT1H
BEGIN:VTIMEZONE
TZID:Europe/Madrid
BEGIN:DAYLIGHT
TZOFFSETFROM:+0100
TZOFFSETTO:+0200
TZNAME:CEST
DTSTART:20230326T010000
END:DAYLIGHT
BEGIN:STANDARD
TZOFFSETFROM:+0200
TZOFFSETTO:+0100
TZNAME:CET
DTSTART:20231029T010000
END:STANDARD
BEGIN:DAYLIGHT
TZOFFSETFROM:+0100
TZOFFSETTO:+0200
TZNAME:CEST
DTSTART:20240331T010000
END:DAYLIGHT
BEGIN:STANDARD
TZOFFSETFROM:+0200
TZOFFSETTO:+0100
TZNAME:CET
DTSTART:20241027T010000
END:STANDARD
BEGIN:DAYLIGHT
TZOFFSETFROM:+0100
TZOFFSETTO:+0200
TZNAME:CEST
DTSTART:20250330T010000
END:DAYLIGHT
BEGIN:STANDARD
TZOFFSETFROM:+0200
TZOFFSETTO:+0100
TZNAME:CET
DTSTART:20251026T010000
END:STANDARD
END:VTIMEZONE
BEGIN:VEVENT
DTSTART;TZID=Europe/Madrid:20240429T173000
DTEND;TZID=Europe/Madrid:20240429T183000
DTSTAMP:20260420T040308
CREATED:20240429T023250Z
LAST-MODIFIED:20240429T023250Z
UID:18445-1714411800-1714415400@psantisimatrinidad.archimadrid.es
SUMMARY:Taller para padres
DESCRIPTION:Continuamos con el taller Inteligencia emocional en la niñez\, a las 17:30h\, en los salones parroquiales. Pregunta por Inma
URL:https://psantisimatrinidad.archimadrid.es/event/taller-para-padres-17/
ATTACH;FMTTYPE=image/png:https://psantisimatrinidad.archimadrid.es/wp-content/uploads/2024/04/20240429-01-e1714357912131.png
END:VEVENT
BEGIN:VEVENT
DTSTART;TZID=Europe/Madrid:20240429T203000
DTEND;TZID=Europe/Madrid:20240429T210000
DTSTAMP:20260420T040308
CREATED:20240429T023053Z
LAST-MODIFIED:20240429T103535Z
UID:18437-1714422600-1714424400@psantisimatrinidad.archimadrid.es
SUMMARY:Oración on-line Grupo de Fe
DESCRIPTION:Hoy el Grupo de Fe Cristo Roto tiene la oración on-line \, la podrás seguir a partir de las 20:30h en nuestro canal de YouTube: https://www.youtube.com/watch?v=uTHYrfP2uKI
URL:https://psantisimatrinidad.archimadrid.es/event/oracion-on-line-grupo-de-fe-2/
CATEGORIES:Eventos Evangelización
ATTACH;FMTTYPE=image/png:https://psantisimatrinidad.archimadrid.es/wp-content/uploads/2024/04/20240429-02-e1714357761816.png
END:VEVENT
END:VCALENDAR