BEGIN:VCALENDAR
VERSION:2.0
PRODID:-//Parroquia Santí­sima Trinidad  (Collado Villalba) - ECPv6.15.20//NONSGML v1.0//EN
CALSCALE:GREGORIAN
METHOD:PUBLISH
X-ORIGINAL-URL:https://psantisimatrinidad.archimadrid.es
X-WR-CALDESC:Eventos para Parroquia Santí­sima Trinidad  (Collado Villalba)
REFRESH-INTERVAL;VALUE=DURATION:PT1H
X-Robots-Tag:noindex
X-PUBLISHED-TTL:PT1H
BEGIN:VTIMEZONE
TZID:Europe/Madrid
BEGIN:DAYLIGHT
TZOFFSETFROM:+0100
TZOFFSETTO:+0200
TZNAME:CEST
DTSTART:20230326T010000
END:DAYLIGHT
BEGIN:STANDARD
TZOFFSETFROM:+0200
TZOFFSETTO:+0100
TZNAME:CET
DTSTART:20231029T010000
END:STANDARD
BEGIN:DAYLIGHT
TZOFFSETFROM:+0100
TZOFFSETTO:+0200
TZNAME:CEST
DTSTART:20240331T010000
END:DAYLIGHT
BEGIN:STANDARD
TZOFFSETFROM:+0200
TZOFFSETTO:+0100
TZNAME:CET
DTSTART:20241027T010000
END:STANDARD
BEGIN:DAYLIGHT
TZOFFSETFROM:+0100
TZOFFSETTO:+0200
TZNAME:CEST
DTSTART:20250330T010000
END:DAYLIGHT
BEGIN:STANDARD
TZOFFSETFROM:+0200
TZOFFSETTO:+0100
TZNAME:CET
DTSTART:20251026T010000
END:STANDARD
END:VTIMEZONE
BEGIN:VEVENT
DTSTART;VALUE=DATE:20240505
DTEND;VALUE=DATE:20240506
DTSTAMP:20260420T040336
CREATED:20240505T072040Z
LAST-MODIFIED:20240505T072154Z
UID:18621-1714867200-1714953599@psantisimatrinidad.archimadrid.es
SUMMARY:Día de la madre
DESCRIPTION:¡Feliz Día de la Madre a todas las mamás que hacen del mundo un lugar mejor con su amor\, dedicación y sacrificio! \nOs recordamos: las misas de hoy son a las 10h\, 11h\, 12h 13h y 19h. \nEn misa de 11h se celebrará el sacramento de la unción de enfermos.
URL:https://psantisimatrinidad.archimadrid.es/event/dia-de-la-madre-2/
CATEGORIES:Eventos Evangelización,Eventos Liturgia
ATTACH;FMTTYPE=image/jpeg:https://psantisimatrinidad.archimadrid.es/wp-content/uploads/2024/05/IMG-20240505-WA0008.jpg
END:VEVENT
BEGIN:VEVENT
DTSTART;TZID=Europe/Madrid:20240505T110000
DTEND;TZID=Europe/Madrid:20240505T120000
DTSTAMP:20260420T040336
CREATED:20240429T130243Z
LAST-MODIFIED:20240429T130243Z
UID:18482-1714906800-1714910400@psantisimatrinidad.archimadrid.es
SUMMARY:Unción de los enfermos
DESCRIPTION:Hoy\, sexto domingo de pascua o pascua del enfermo\, celebraremos de forma comunitaria\, el sacramento de la santa unción\, en misa de 11:00h. \nLa Unción de los Enfermos es un sacramento de consuelo y fortaleza\, donde la gracia divina se derrama sobre aquellos que atraviesan momentos de enfermedad o debilidad. Es un acto de amor y cercanía de la comunidad cristiana hacia quienes más lo necesitan\, recordándoles que nunca están solos en su dolor y/o sufrimiento.
URL:https://psantisimatrinidad.archimadrid.es/event/uncion-de-los-enfermos/
CATEGORIES:Eventos Evangelización,Eventos Liturgia
ATTACH;FMTTYPE=image/png:https://psantisimatrinidad.archimadrid.es/wp-content/uploads/2024/04/20240505-1-e1714395749244.png
END:VEVENT
END:VCALENDAR