BEGIN:VCALENDAR
VERSION:2.0
PRODID:-//Parroquia Santí­sima Trinidad  (Collado Villalba) - ECPv6.15.20//NONSGML v1.0//EN
CALSCALE:GREGORIAN
METHOD:PUBLISH
X-WR-CALNAME:Parroquia Santí­sima Trinidad  (Collado Villalba)
X-ORIGINAL-URL:https://psantisimatrinidad.archimadrid.es
X-WR-CALDESC:Eventos para Parroquia Santí­sima Trinidad  (Collado Villalba)
REFRESH-INTERVAL;VALUE=DURATION:PT1H
X-Robots-Tag:noindex
X-PUBLISHED-TTL:PT1H
BEGIN:VTIMEZONE
TZID:Europe/Madrid
BEGIN:DAYLIGHT
TZOFFSETFROM:+0100
TZOFFSETTO:+0200
TZNAME:CEST
DTSTART:20230326T010000
END:DAYLIGHT
BEGIN:STANDARD
TZOFFSETFROM:+0200
TZOFFSETTO:+0100
TZNAME:CET
DTSTART:20231029T010000
END:STANDARD
BEGIN:DAYLIGHT
TZOFFSETFROM:+0100
TZOFFSETTO:+0200
TZNAME:CEST
DTSTART:20240331T010000
END:DAYLIGHT
BEGIN:STANDARD
TZOFFSETFROM:+0200
TZOFFSETTO:+0100
TZNAME:CET
DTSTART:20241027T010000
END:STANDARD
BEGIN:DAYLIGHT
TZOFFSETFROM:+0100
TZOFFSETTO:+0200
TZNAME:CEST
DTSTART:20250330T010000
END:DAYLIGHT
BEGIN:STANDARD
TZOFFSETFROM:+0200
TZOFFSETTO:+0100
TZNAME:CET
DTSTART:20251026T010000
END:STANDARD
END:VTIMEZONE
BEGIN:VEVENT
DTSTART;TZID=Europe/Madrid:20240508T200000
DTEND;TZID=Europe/Madrid:20240508T213000
DTSTAMP:20260420T055151
CREATED:20240503T094214Z
LAST-MODIFIED:20240503T094234Z
UID:18601-1715198400-1715203800@psantisimatrinidad.archimadrid.es
SUMMARY:Gr. Renovación Carismática
DESCRIPTION:GR. RENOVACIÓN CARISMÁTICA CATÓLICA\n ¡Experimenta la esencia de la fe cada miércoles con el Grupo Renovación Carismática Católica!\nHoy tendremos una celebración de la Eucaristía a las 20:00h en el templo parroquial-\n¡Ven a vivir momentos transformadores llenos de espiritualidad y renovación! \n¿Te unes a nosotros en este viaje espiritual? ¡Te esperamos con los brazos abiertos!\n¡No te pierdas esta oportunidad!
URL:https://psantisimatrinidad.archimadrid.es/event/gr-renovacion-carismatica-17/
CATEGORIES:Eventos Evangelización,Eventos Liturgia
ATTACH;FMTTYPE=image/png:https://psantisimatrinidad.archimadrid.es/wp-content/uploads/2024/05/4-e1714729325529.png
END:VEVENT
END:VCALENDAR