BEGIN:VCALENDAR
VERSION:2.0
PRODID:-//Parroquia Santí­sima Trinidad  (Collado Villalba) - ECPv6.15.20//NONSGML v1.0//EN
CALSCALE:GREGORIAN
METHOD:PUBLISH
X-ORIGINAL-URL:https://psantisimatrinidad.archimadrid.es
X-WR-CALDESC:Eventos para Parroquia Santí­sima Trinidad  (Collado Villalba)
REFRESH-INTERVAL;VALUE=DURATION:PT1H
X-Robots-Tag:noindex
X-PUBLISHED-TTL:PT1H
BEGIN:VTIMEZONE
TZID:Europe/Madrid
BEGIN:DAYLIGHT
TZOFFSETFROM:+0100
TZOFFSETTO:+0200
TZNAME:CEST
DTSTART:20230326T010000
END:DAYLIGHT
BEGIN:STANDARD
TZOFFSETFROM:+0200
TZOFFSETTO:+0100
TZNAME:CET
DTSTART:20231029T010000
END:STANDARD
BEGIN:DAYLIGHT
TZOFFSETFROM:+0100
TZOFFSETTO:+0200
TZNAME:CEST
DTSTART:20240331T010000
END:DAYLIGHT
BEGIN:STANDARD
TZOFFSETFROM:+0200
TZOFFSETTO:+0100
TZNAME:CET
DTSTART:20241027T010000
END:STANDARD
BEGIN:DAYLIGHT
TZOFFSETFROM:+0100
TZOFFSETTO:+0200
TZNAME:CEST
DTSTART:20250330T010000
END:DAYLIGHT
BEGIN:STANDARD
TZOFFSETFROM:+0200
TZOFFSETTO:+0100
TZNAME:CET
DTSTART:20251026T010000
END:STANDARD
END:VTIMEZONE
BEGIN:VEVENT
DTSTART;TZID=Europe/Madrid:20240601T100000
DTEND;TZID=Europe/Madrid:20240601T140000
DTSTAMP:20260420T055247
CREATED:20240525T154514Z
LAST-MODIFIED:20240525T154514Z
UID:18838-1717236000-1717250400@psantisimatrinidad.archimadrid.es
SUMMARY:Cuestación de Cáritas
DESCRIPTION:El 1 de junio\, de 10:00h a 14:00h estaremos en distintos puntos de Villalba dándonos a conocer y recaudando fondos para Cáritas.\nNo dudes en acercarte y colaborar.\n¡¡Te esperamos!!
URL:https://psantisimatrinidad.archimadrid.es/event/cuestacion-de-caritas-2/
CATEGORIES:Eventos Cáritas
ATTACH;FMTTYPE=image/jpeg:https://psantisimatrinidad.archimadrid.es/wp-content/uploads/2024/05/IMG-20240525-WA0032-Personalizado.jpg
END:VEVENT
BEGIN:VEVENT
DTSTART;TZID=Europe/Madrid:20240601T190000
DTEND;TZID=Europe/Madrid:20240601T200000
DTSTAMP:20260420T055247
CREATED:20240526T203006Z
LAST-MODIFIED:20240526T203006Z
UID:18872-1717268400-1717272000@psantisimatrinidad.archimadrid.es
SUMMARY:Misa Sabatina Hdad del Rocío
DESCRIPTION:Os recordaros que este sábado\, a las 19:00 horas\, celebraremos la Misa sabatina organizada por la Hermandad del Rocío\, en nuestro templo. \nLa Misa sabatina es una oportunidad especial para reunirnos como comunidad en torno al altar del Señor\, encomendando nuestros caminos y anhelos a la intercesión de la Virgen del Rocío.
URL:https://psantisimatrinidad.archimadrid.es/event/misa-sabatina-hdad-del-rocio-8/
ATTACH;FMTTYPE=image/png:https://psantisimatrinidad.archimadrid.es/wp-content/uploads/2024/05/Sabatina-Personalizado.png
END:VEVENT
END:VCALENDAR