BEGIN:VCALENDAR
VERSION:2.0
PRODID:-//Parroquia Santí­sima Trinidad  (Collado Villalba) - ECPv6.15.20//NONSGML v1.0//EN
CALSCALE:GREGORIAN
METHOD:PUBLISH
X-ORIGINAL-URL:https://psantisimatrinidad.archimadrid.es
X-WR-CALDESC:Eventos para Parroquia Santí­sima Trinidad  (Collado Villalba)
REFRESH-INTERVAL;VALUE=DURATION:PT1H
X-Robots-Tag:noindex
X-PUBLISHED-TTL:PT1H
BEGIN:VTIMEZONE
TZID:Europe/Madrid
BEGIN:DAYLIGHT
TZOFFSETFROM:+0100
TZOFFSETTO:+0200
TZNAME:CEST
DTSTART:20230326T010000
END:DAYLIGHT
BEGIN:STANDARD
TZOFFSETFROM:+0200
TZOFFSETTO:+0100
TZNAME:CET
DTSTART:20231029T010000
END:STANDARD
BEGIN:DAYLIGHT
TZOFFSETFROM:+0100
TZOFFSETTO:+0200
TZNAME:CEST
DTSTART:20240331T010000
END:DAYLIGHT
BEGIN:STANDARD
TZOFFSETFROM:+0200
TZOFFSETTO:+0100
TZNAME:CET
DTSTART:20241027T010000
END:STANDARD
BEGIN:DAYLIGHT
TZOFFSETFROM:+0100
TZOFFSETTO:+0200
TZNAME:CEST
DTSTART:20250330T010000
END:DAYLIGHT
BEGIN:STANDARD
TZOFFSETFROM:+0200
TZOFFSETTO:+0100
TZNAME:CET
DTSTART:20251026T010000
END:STANDARD
END:VTIMEZONE
BEGIN:VEVENT
DTSTART;VALUE=DATE:20240602
DTEND;VALUE=DATE:20240603
DTSTAMP:20260420T055247
CREATED:20240525T154854Z
LAST-MODIFIED:20240525T154905Z
UID:18841-1717286400-1717372799@psantisimatrinidad.archimadrid.es
SUMMARY:Corpus Christi
DESCRIPTION:Misa solemne a las 11:00h y posterior procesión. \nEl recorrido de la procesión es el siguiente: \n1 – Salimos del templo\, a las 11:45h\, por C/ Rafael Alberti hacia C/Real \n2 – Tomamos C/ Real y giramos hacia C/ Asturias \n3 – Luego izquierda hacia C/ Pardo Santallana \n4 – Izquierda hacia C/ Ignacio González \n5 – Derecha C/ Morales Antuñano (puerta principal ermita de Santiago) \n6 – Luego hacia plaza de la Estación C/ Domingo Gómez Fdez. \n7 – Y finalizamos en la plaza de la Estación (en un altar) \nSe agradece a quienes deseen engalanar las calles en el recorrido. \nSe suspende la misa de 12:00h; por tanto\, tendremos misa a las 10:00h\, 11:00h\, 13:00h y 19:00h.
URL:https://psantisimatrinidad.archimadrid.es/event/corpus-christi-6/
CATEGORIES:Eventos Cáritas,Eventos Evangelización,Eventos Liturgia
ATTACH;FMTTYPE=image/jpeg:https://psantisimatrinidad.archimadrid.es/wp-content/uploads/2024/05/IMG-20240525-WA0033-Personalizado.jpg
END:VEVENT
END:VCALENDAR