BEGIN:VCALENDAR
VERSION:2.0
PRODID:-//Parroquia Santí­sima Trinidad  (Collado Villalba) - ECPv6.15.20//NONSGML v1.0//EN
CALSCALE:GREGORIAN
METHOD:PUBLISH
X-ORIGINAL-URL:https://psantisimatrinidad.archimadrid.es
X-WR-CALDESC:Eventos para Parroquia Santí­sima Trinidad  (Collado Villalba)
REFRESH-INTERVAL;VALUE=DURATION:PT1H
X-Robots-Tag:noindex
X-PUBLISHED-TTL:PT1H
BEGIN:VTIMEZONE
TZID:Europe/Madrid
BEGIN:DAYLIGHT
TZOFFSETFROM:+0100
TZOFFSETTO:+0200
TZNAME:CEST
DTSTART:20230326T010000
END:DAYLIGHT
BEGIN:STANDARD
TZOFFSETFROM:+0200
TZOFFSETTO:+0100
TZNAME:CET
DTSTART:20231029T010000
END:STANDARD
BEGIN:DAYLIGHT
TZOFFSETFROM:+0100
TZOFFSETTO:+0200
TZNAME:CEST
DTSTART:20240331T010000
END:DAYLIGHT
BEGIN:STANDARD
TZOFFSETFROM:+0200
TZOFFSETTO:+0100
TZNAME:CET
DTSTART:20241027T010000
END:STANDARD
BEGIN:DAYLIGHT
TZOFFSETFROM:+0100
TZOFFSETTO:+0200
TZNAME:CEST
DTSTART:20250330T010000
END:DAYLIGHT
BEGIN:STANDARD
TZOFFSETFROM:+0200
TZOFFSETTO:+0100
TZNAME:CET
DTSTART:20251026T010000
END:STANDARD
END:VTIMEZONE
BEGIN:VEVENT
DTSTART;TZID=Europe/Madrid:20240604T194500
DTEND;TZID=Europe/Madrid:20240604T201500
DTSTAMP:20260420T091948
CREATED:20240601T193159Z
LAST-MODIFIED:20240601T193159Z
UID:18953-1717530300-1717532100@psantisimatrinidad.archimadrid.es
SUMMARY:Oración final de curso Formación Parroquial
DESCRIPTION:A lo largo del 2023-2024 hemos tenido un curso de formación parroquial con diferentes temas y ponentes\, puedes acceder a todo en el siguente enlace: PLAN DE FORMACIÓN PARROQUIAL  \nY la mejor forma de terminar el curso es con una oración final de curso a la que estáis invitados todos los agentes de pastoral. Se realizará el martes 04 de junio\, en el templo parroquial\, a las 19:45h.
URL:https://psantisimatrinidad.archimadrid.es/event/oracion-final-de-curso-formacion-parroquial/
CATEGORIES:Eventos Cáritas,Eventos Evangelización,Eventos Liturgia
ATTACH;FMTTYPE=image/png:https://psantisimatrinidad.archimadrid.es/wp-content/uploads/2024/06/4-Personalizado.png
END:VEVENT
END:VCALENDAR