BEGIN:VCALENDAR
VERSION:2.0
PRODID:-//Parroquia Santí­sima Trinidad  (Collado Villalba) - ECPv6.15.20//NONSGML v1.0//EN
CALSCALE:GREGORIAN
METHOD:PUBLISH
X-ORIGINAL-URL:https://psantisimatrinidad.archimadrid.es
X-WR-CALDESC:Eventos para Parroquia Santí­sima Trinidad  (Collado Villalba)
REFRESH-INTERVAL;VALUE=DURATION:PT1H
X-Robots-Tag:noindex
X-PUBLISHED-TTL:PT1H
BEGIN:VTIMEZONE
TZID:Europe/Madrid
BEGIN:DAYLIGHT
TZOFFSETFROM:+0100
TZOFFSETTO:+0200
TZNAME:CEST
DTSTART:20230326T010000
END:DAYLIGHT
BEGIN:STANDARD
TZOFFSETFROM:+0200
TZOFFSETTO:+0100
TZNAME:CET
DTSTART:20231029T010000
END:STANDARD
BEGIN:DAYLIGHT
TZOFFSETFROM:+0100
TZOFFSETTO:+0200
TZNAME:CEST
DTSTART:20240331T010000
END:DAYLIGHT
BEGIN:STANDARD
TZOFFSETFROM:+0200
TZOFFSETTO:+0100
TZNAME:CET
DTSTART:20241027T010000
END:STANDARD
BEGIN:DAYLIGHT
TZOFFSETFROM:+0100
TZOFFSETTO:+0200
TZNAME:CEST
DTSTART:20250330T010000
END:DAYLIGHT
BEGIN:STANDARD
TZOFFSETFROM:+0200
TZOFFSETTO:+0100
TZNAME:CET
DTSTART:20251026T010000
END:STANDARD
END:VTIMEZONE
BEGIN:VEVENT
DTSTART;VALUE=DATE:20240608
DTEND;VALUE=DATE:20240609
DTSTAMP:20260420T073827
CREATED:20240601T195304Z
LAST-MODIFIED:20240601T195432Z
UID:18961-1717804800-1717891199@psantisimatrinidad.archimadrid.es
SUMMARY:Cambio horario verano
DESCRIPTION:A partir del 08 de junio (incluido)\, cambio horario:\n\nMisas de diario: 09:30h y 20:00h\nMisas Domingos y festivos: 10:00h\, 11:00h\, 12:30h y 20:00h\nDespacho parroquial: lunes y viernes de 18:30h-19:30h (los miércoles no hay despacho parroquial)\nLos jueves eucarísticos la exposición del Santísimo continuará a las 19:30h (antes de misa de 20:00h)
URL:https://psantisimatrinidad.archimadrid.es/event/cambio-horario-verano/
CATEGORIES:Eventos Cáritas,Eventos Evangelización,Eventos Liturgia
ATTACH;FMTTYPE=image/png:https://psantisimatrinidad.archimadrid.es/wp-content/uploads/2024/06/Beige-and-Brown-Elegant-Watercolor-Autumn-Floral-A4-Stationery-Page-Border-Post-de-Instagram-Personalizado.png
END:VEVENT
END:VCALENDAR