BEGIN:VCALENDAR
VERSION:2.0
PRODID:-//Parroquia Santí­sima Trinidad  (Collado Villalba) - ECPv6.15.20//NONSGML v1.0//EN
CALSCALE:GREGORIAN
METHOD:PUBLISH
X-WR-CALNAME:Parroquia Santí­sima Trinidad  (Collado Villalba)
X-ORIGINAL-URL:https://psantisimatrinidad.archimadrid.es
X-WR-CALDESC:Eventos para Parroquia Santí­sima Trinidad  (Collado Villalba)
REFRESH-INTERVAL;VALUE=DURATION:PT1H
X-Robots-Tag:noindex
X-PUBLISHED-TTL:PT1H
BEGIN:VTIMEZONE
TZID:Europe/Madrid
BEGIN:DAYLIGHT
TZOFFSETFROM:+0100
TZOFFSETTO:+0200
TZNAME:CEST
DTSTART:20230326T010000
END:DAYLIGHT
BEGIN:STANDARD
TZOFFSETFROM:+0200
TZOFFSETTO:+0100
TZNAME:CET
DTSTART:20231029T010000
END:STANDARD
BEGIN:DAYLIGHT
TZOFFSETFROM:+0100
TZOFFSETTO:+0200
TZNAME:CEST
DTSTART:20240331T010000
END:DAYLIGHT
BEGIN:STANDARD
TZOFFSETFROM:+0200
TZOFFSETTO:+0100
TZNAME:CET
DTSTART:20241027T010000
END:STANDARD
BEGIN:DAYLIGHT
TZOFFSETFROM:+0100
TZOFFSETTO:+0200
TZNAME:CEST
DTSTART:20250330T010000
END:DAYLIGHT
BEGIN:STANDARD
TZOFFSETFROM:+0200
TZOFFSETTO:+0100
TZNAME:CET
DTSTART:20251026T010000
END:STANDARD
END:VTIMEZONE
BEGIN:VEVENT
DTSTART;TZID=Europe/Madrid:20241021T173000
DTEND;TZID=Europe/Madrid:20241021T183000
DTSTAMP:20260422T180236
CREATED:20241018T123917Z
LAST-MODIFIED:20241018T123943Z
UID:19891-1729531800-1729535400@psantisimatrinidad.archimadrid.es
SUMMARY:Taller para padres
DESCRIPTION:¡No te pierdas la oportunidad de potenciar la inteligencia emocional de tus hijos!  Únete a nuestro emocionante taller para padres que continúa explorando los secretos de la inteligencia emocional en la niñez.\n¡Acércate hoy a los salones parroquiales\, a las 17:30h y pregunta por Inma para sumergirte en esta experiencia enriquecedora!\n¡Juntos construiremos la base emocional sólida que tus hijos merecen!
URL:https://psantisimatrinidad.archimadrid.es/event/taller-para-padres-22/
CATEGORIES:Eventos Cáritas,Eventos Evangelización
ATTACH;FMTTYPE=image/png:https://psantisimatrinidad.archimadrid.es/wp-content/uploads/2024/10/20241021-Taller-padres.png
END:VEVENT
BEGIN:VEVENT
DTSTART;TZID=Europe/Madrid:20241021T194500
DTEND;TZID=Europe/Madrid:20241021T203000
DTSTAMP:20260422T180236
CREATED:20241018T124041Z
LAST-MODIFIED:20241018T124041Z
UID:19894-1729539900-1729542600@psantisimatrinidad.archimadrid.es
SUMMARY:Grupo de fe Cristo Roto
DESCRIPTION:👉Este lunes\, el Grupo de Fe Cristo Roto\, te invitamos a unirte a nuestra oración a las 19:45h en el templo parroquial. \n¡Te esperamos para compartir este momento especial!
URL:https://psantisimatrinidad.archimadrid.es/event/grupo-de-fe-cristo-roto-34/
CATEGORIES:Eventos Evangelización
ATTACH;FMTTYPE=image/png:https://psantisimatrinidad.archimadrid.es/wp-content/uploads/2024/10/20241021-Grupo-de-fe.png
END:VEVENT
END:VCALENDAR