BEGIN:VCALENDAR
VERSION:2.0
PRODID:-//Parroquia Santí­sima Trinidad  (Collado Villalba) - ECPv6.15.20//NONSGML v1.0//EN
CALSCALE:GREGORIAN
METHOD:PUBLISH
X-WR-CALNAME:Parroquia Santí­sima Trinidad  (Collado Villalba)
X-ORIGINAL-URL:https://psantisimatrinidad.archimadrid.es
X-WR-CALDESC:Eventos para Parroquia Santí­sima Trinidad  (Collado Villalba)
REFRESH-INTERVAL;VALUE=DURATION:PT1H
X-Robots-Tag:noindex
X-PUBLISHED-TTL:PT1H
BEGIN:VTIMEZONE
TZID:Europe/Madrid
BEGIN:DAYLIGHT
TZOFFSETFROM:+0100
TZOFFSETTO:+0200
TZNAME:CEST
DTSTART:20230326T010000
END:DAYLIGHT
BEGIN:STANDARD
TZOFFSETFROM:+0200
TZOFFSETTO:+0100
TZNAME:CET
DTSTART:20231029T010000
END:STANDARD
BEGIN:DAYLIGHT
TZOFFSETFROM:+0100
TZOFFSETTO:+0200
TZNAME:CEST
DTSTART:20240331T010000
END:DAYLIGHT
BEGIN:STANDARD
TZOFFSETFROM:+0200
TZOFFSETTO:+0100
TZNAME:CET
DTSTART:20241027T010000
END:STANDARD
BEGIN:DAYLIGHT
TZOFFSETFROM:+0100
TZOFFSETTO:+0200
TZNAME:CEST
DTSTART:20250330T010000
END:DAYLIGHT
BEGIN:STANDARD
TZOFFSETFROM:+0200
TZOFFSETTO:+0100
TZNAME:CET
DTSTART:20251026T010000
END:STANDARD
END:VTIMEZONE
BEGIN:VEVENT
DTSTART;VALUE=DATE:20241110
DTEND;VALUE=DATE:20241111
DTSTAMP:20260422T194036
CREATED:20241103T183523Z
LAST-MODIFIED:20241103T185913Z
UID:20170-1731196800-1731283199@psantisimatrinidad.archimadrid.es
SUMMARY:Día de la Iglesia Diocesana
DESCRIPTION:El domingo\, 10 de noviembre\, celebramos el Día de la Iglesia Diocesana 2024 bajo el lema ‘¿Y si lo que buscas está en tu interior?‘. \nEl horario de misas es 10:00h\, 11:00h\, 12:00h\, 13:00h y 19:00h
URL:https://psantisimatrinidad.archimadrid.es/event/dia-de-la-iglesia-diocesana-4/
CATEGORIES:Eventos Evangelización
ATTACH;FMTTYPE=image/jpeg:https://psantisimatrinidad.archimadrid.es/wp-content/uploads/2024/11/1080x1080_DID24_RRSS_Cs-740x740-1.jpg
END:VEVENT
END:VCALENDAR