BEGIN:VCALENDAR
VERSION:2.0
PRODID:-//Parroquia Santí­sima Trinidad  (Collado Villalba) - ECPv6.15.20//NONSGML v1.0//EN
CALSCALE:GREGORIAN
METHOD:PUBLISH
X-ORIGINAL-URL:https://psantisimatrinidad.archimadrid.es
X-WR-CALDESC:Eventos para Parroquia Santí­sima Trinidad  (Collado Villalba)
REFRESH-INTERVAL;VALUE=DURATION:PT1H
X-Robots-Tag:noindex
X-PUBLISHED-TTL:PT1H
BEGIN:VTIMEZONE
TZID:Europe/Madrid
BEGIN:DAYLIGHT
TZOFFSETFROM:+0100
TZOFFSETTO:+0200
TZNAME:CEST
DTSTART:20230326T010000
END:DAYLIGHT
BEGIN:STANDARD
TZOFFSETFROM:+0200
TZOFFSETTO:+0100
TZNAME:CET
DTSTART:20231029T010000
END:STANDARD
BEGIN:DAYLIGHT
TZOFFSETFROM:+0100
TZOFFSETTO:+0200
TZNAME:CEST
DTSTART:20240331T010000
END:DAYLIGHT
BEGIN:STANDARD
TZOFFSETFROM:+0200
TZOFFSETTO:+0100
TZNAME:CET
DTSTART:20241027T010000
END:STANDARD
BEGIN:DAYLIGHT
TZOFFSETFROM:+0100
TZOFFSETTO:+0200
TZNAME:CEST
DTSTART:20250330T010000
END:DAYLIGHT
BEGIN:STANDARD
TZOFFSETFROM:+0200
TZOFFSETTO:+0100
TZNAME:CET
DTSTART:20251026T010000
END:STANDARD
END:VTIMEZONE
BEGIN:VEVENT
DTSTART;TZID=Europe/Madrid:20241119T194500
DTEND;TZID=Europe/Madrid:20241119T204500
DTSTAMP:20260422T194112
CREATED:20241117T193708Z
LAST-MODIFIED:20241117T193708Z
UID:20286-1732045500-1732049100@psantisimatrinidad.archimadrid.es
SUMMARY:Formación parroquial
DESCRIPTION:👉 Continuamos la Formación parroquial\, con el bloque formativo: Psicología y Espiritualidad. Este bloque será impartido por el P. Luis Murillo \nLas sesiones se realizarán en los salones parroquiales\, a las 19:45h
URL:https://psantisimatrinidad.archimadrid.es/event/formacion-parroquial-2/
CATEGORIES:Eventos Cáritas,Eventos Evangelización
ATTACH;FMTTYPE=image/png:https://psantisimatrinidad.archimadrid.es/wp-content/uploads/2024/11/3-Personalizado-1.png
END:VEVENT
END:VCALENDAR