BEGIN:VCALENDAR
VERSION:2.0
PRODID:-//Parroquia Santí­sima Trinidad  (Collado Villalba) - ECPv6.15.20//NONSGML v1.0//EN
CALSCALE:GREGORIAN
METHOD:PUBLISH
X-ORIGINAL-URL:https://psantisimatrinidad.archimadrid.es
X-WR-CALDESC:Eventos para Parroquia Santí­sima Trinidad  (Collado Villalba)
REFRESH-INTERVAL;VALUE=DURATION:PT1H
X-Robots-Tag:noindex
X-PUBLISHED-TTL:PT1H
BEGIN:VTIMEZONE
TZID:Europe/Madrid
BEGIN:DAYLIGHT
TZOFFSETFROM:+0100
TZOFFSETTO:+0200
TZNAME:CEST
DTSTART:20240331T010000
END:DAYLIGHT
BEGIN:STANDARD
TZOFFSETFROM:+0200
TZOFFSETTO:+0100
TZNAME:CET
DTSTART:20241027T010000
END:STANDARD
BEGIN:DAYLIGHT
TZOFFSETFROM:+0100
TZOFFSETTO:+0200
TZNAME:CEST
DTSTART:20250330T010000
END:DAYLIGHT
BEGIN:STANDARD
TZOFFSETFROM:+0200
TZOFFSETTO:+0100
TZNAME:CET
DTSTART:20251026T010000
END:STANDARD
BEGIN:DAYLIGHT
TZOFFSETFROM:+0100
TZOFFSETTO:+0200
TZNAME:CEST
DTSTART:20260329T010000
END:DAYLIGHT
BEGIN:STANDARD
TZOFFSETFROM:+0200
TZOFFSETTO:+0100
TZNAME:CET
DTSTART:20261025T010000
END:STANDARD
END:VTIMEZONE
BEGIN:VEVENT
DTSTART;TZID=Europe/Madrid:20250224T173000
DTEND;TZID=Europe/Madrid:20250224T183000
DTSTAMP:20260422T145036
CREATED:20250222T175806Z
LAST-MODIFIED:20250222T175806Z
UID:21318-1740418200-1740421800@psantisimatrinidad.archimadrid.es
SUMMARY:Taller para padres
DESCRIPTION:Lunes 24 – Taller para padres (17:30h\, salones parroquiales) \nEducar es sembrar en tierra sagrada. Los hijos son un don de Dios\, y acompañarlos en su crecimiento es una tarea llena de amor\, paciencia y fe. Que este encuentro sea un espacio para compartir\, aprender y fortalecer el corazón en la misión de ser familia.
URL:https://psantisimatrinidad.archimadrid.es/event/taller-para-padres-37/
CATEGORIES:Eventos Evangelización
ATTACH;FMTTYPE=image/png:https://psantisimatrinidad.archimadrid.es/wp-content/uploads/2025/02/1-Personalizado.png
END:VEVENT
BEGIN:VEVENT
DTSTART;TZID=Europe/Madrid:20250224T203000
DTEND;TZID=Europe/Madrid:20250224T210000
DTSTAMP:20260422T145036
CREATED:20250222T180001Z
LAST-MODIFIED:20250224T072551Z
UID:21327-1740429000-1740430800@psantisimatrinidad.archimadrid.es
SUMMARY:Oración on-line Grupo de Fe Cristo Roto
DESCRIPTION:Lunes 24: Grupo de fe «Cristo Roto»\nEl grupo de fe «Cristo Roto» tiene la oración on-line\, la podrás seguir a partir de las 20:30h en nuestro canal de YouTube (https://youtu.be/_i_WNWzvZec). Un momento de encuentro espiritual para reflexionar\, orar y fortalecer nuestra relación con Cristo desde la vivencia de nuestra fe.
URL:https://psantisimatrinidad.archimadrid.es/event/oracion-on-line-grupo-de-fe-cristo-roto-2/
CATEGORIES:Eventos Evangelización
ATTACH;FMTTYPE=image/png:https://psantisimatrinidad.archimadrid.es/wp-content/uploads/2025/02/2-Personalizado.png
END:VEVENT
END:VCALENDAR