BEGIN:VCALENDAR
VERSION:2.0
PRODID:-//Parroquia Santí­sima Trinidad  (Collado Villalba) - ECPv6.15.20//NONSGML v1.0//EN
CALSCALE:GREGORIAN
METHOD:PUBLISH
X-ORIGINAL-URL:https://psantisimatrinidad.archimadrid.es
X-WR-CALDESC:Eventos para Parroquia Santí­sima Trinidad  (Collado Villalba)
REFRESH-INTERVAL;VALUE=DURATION:PT1H
X-Robots-Tag:noindex
X-PUBLISHED-TTL:PT1H
BEGIN:VTIMEZONE
TZID:Europe/Madrid
BEGIN:DAYLIGHT
TZOFFSETFROM:+0100
TZOFFSETTO:+0200
TZNAME:CEST
DTSTART:20240331T010000
END:DAYLIGHT
BEGIN:STANDARD
TZOFFSETFROM:+0200
TZOFFSETTO:+0100
TZNAME:CET
DTSTART:20241027T010000
END:STANDARD
BEGIN:DAYLIGHT
TZOFFSETFROM:+0100
TZOFFSETTO:+0200
TZNAME:CEST
DTSTART:20250330T010000
END:DAYLIGHT
BEGIN:STANDARD
TZOFFSETFROM:+0200
TZOFFSETTO:+0100
TZNAME:CET
DTSTART:20251026T010000
END:STANDARD
BEGIN:DAYLIGHT
TZOFFSETFROM:+0100
TZOFFSETTO:+0200
TZNAME:CEST
DTSTART:20260329T010000
END:DAYLIGHT
BEGIN:STANDARD
TZOFFSETFROM:+0200
TZOFFSETTO:+0100
TZNAME:CET
DTSTART:20261025T010000
END:STANDARD
END:VTIMEZONE
BEGIN:VEVENT
DTSTART;VALUE=DATE:20250305
DTEND;VALUE=DATE:20250306
DTSTAMP:20260422T145111
CREATED:20250302T204857Z
LAST-MODIFIED:20250305T063027Z
UID:21524-1741132800-1741219199@psantisimatrinidad.archimadrid.es
SUMMARY:Miércoles de ceniza
DESCRIPTION:Este miércoles de Ceniza las misas serán: 9:30h\, 12:00h\, 19:00h y 20:00h. y en todas se impondrá la ceniza.
URL:https://psantisimatrinidad.archimadrid.es/event/miercoles-de-ceniza-9/
CATEGORIES:Eventos Cáritas,Eventos Evangelización,Eventos Liturgia
ATTACH;FMTTYPE=image/png:https://psantisimatrinidad.archimadrid.es/wp-content/uploads/2025/03/taller-para-padres-1.png
END:VEVENT
BEGIN:VEVENT
DTSTART;TZID=Europe/Madrid:20250305T173000
DTEND;TZID=Europe/Madrid:20250305T181500
DTSTAMP:20260422T145111
CREATED:20250302T204557Z
LAST-MODIFIED:20250302T204557Z
UID:21520-1741195800-1741198500@psantisimatrinidad.archimadrid.es
SUMMARY:Vida ascendente
DESCRIPTION:Miércoles 05 – Vida Ascendente (17:30h\, salones parroquiales) \nCada etapa de la vida es un regalo para seguir creciendo en el amor de Dios. La madurez en la fe es luz y testimonio para los demás. Que este encuentro sea un tiempo de compartir esperanza y seguir ascendiendo juntos hacia el corazón del Padre.
URL:https://psantisimatrinidad.archimadrid.es/event/vida-ascendente-9/
CATEGORIES:Eventos Evangelización
ATTACH;FMTTYPE=image/png:https://psantisimatrinidad.archimadrid.es/wp-content/uploads/2025/03/2-Personalizado.png
END:VEVENT
BEGIN:VEVENT
DTSTART;TZID=Europe/Madrid:20250305T194500
DTEND;TZID=Europe/Madrid:20250305T211500
DTSTAMP:20260422T145111
CREATED:20250302T204730Z
LAST-MODIFIED:20250302T204730Z
UID:21522-1741203900-1741209300@psantisimatrinidad.archimadrid.es
SUMMARY:Renovación carismática
DESCRIPTION:Miércoles 05 – Renovación Carismática (19:45h\, salones parroquiales) \nEl Espíritu Santo es fuego que renueva\, sana y transforma. Nos convoca a vivir con alegría el Evangelio y a ser testigos de su amor. Que este encuentro sea un nuevo Pentecostés en nuestras vidas\, encendiendo en nosotros el ardor de su presencia.
URL:https://psantisimatrinidad.archimadrid.es/event/renovacion-carismatica-3/
CATEGORIES:Eventos Evangelización
ATTACH;FMTTYPE=image/png:https://psantisimatrinidad.archimadrid.es/wp-content/uploads/2025/03/4-Personalizado-1.png
END:VEVENT
END:VCALENDAR