BEGIN:VCALENDAR
VERSION:2.0
PRODID:-//Parroquia Santí­sima Trinidad  (Collado Villalba) - ECPv6.15.20//NONSGML v1.0//EN
CALSCALE:GREGORIAN
METHOD:PUBLISH
X-WR-CALNAME:Parroquia Santí­sima Trinidad  (Collado Villalba)
X-ORIGINAL-URL:https://psantisimatrinidad.archimadrid.es
X-WR-CALDESC:Eventos para Parroquia Santí­sima Trinidad  (Collado Villalba)
REFRESH-INTERVAL;VALUE=DURATION:PT1H
X-Robots-Tag:noindex
X-PUBLISHED-TTL:PT1H
BEGIN:VTIMEZONE
TZID:Europe/Madrid
BEGIN:DAYLIGHT
TZOFFSETFROM:+0100
TZOFFSETTO:+0200
TZNAME:CEST
DTSTART:20240331T010000
END:DAYLIGHT
BEGIN:STANDARD
TZOFFSETFROM:+0200
TZOFFSETTO:+0100
TZNAME:CET
DTSTART:20241027T010000
END:STANDARD
BEGIN:DAYLIGHT
TZOFFSETFROM:+0100
TZOFFSETTO:+0200
TZNAME:CEST
DTSTART:20250330T010000
END:DAYLIGHT
BEGIN:STANDARD
TZOFFSETFROM:+0200
TZOFFSETTO:+0100
TZNAME:CET
DTSTART:20251026T010000
END:STANDARD
BEGIN:DAYLIGHT
TZOFFSETFROM:+0100
TZOFFSETTO:+0200
TZNAME:CEST
DTSTART:20260329T010000
END:DAYLIGHT
BEGIN:STANDARD
TZOFFSETFROM:+0200
TZOFFSETTO:+0100
TZNAME:CET
DTSTART:20261025T010000
END:STANDARD
END:VTIMEZONE
BEGIN:VEVENT
DTSTART;TZID=Europe/Madrid:20250317T173000
DTEND;TZID=Europe/Madrid:20250317T183000
DTSTAMP:20260422T144919
CREATED:20250316T080037Z
LAST-MODIFIED:20250316T080037Z
UID:21623-1742232600-1742236200@psantisimatrinidad.archimadrid.es
SUMMARY:Taller para padres
DESCRIPTION:Lunes 17 – Taller para padres (17:30h\, salones parroquiales) \nEducar es sembrar en tierra sagrada. Los hijos son un don de Dios\, y acompañarlos en su crecimiento es una tarea llena de amor\, paciencia y fe. Que este encuentro sea un espacio para compartir\, aprender y fortalecer el corazón en la misión de ser familia.
URL:https://psantisimatrinidad.archimadrid.es/event/taller-para-padres-40/
CATEGORIES:Eventos Evangelización
ATTACH;FMTTYPE=image/png:https://psantisimatrinidad.archimadrid.es/wp-content/uploads/2025/03/1-Personalizado-2.png
END:VEVENT
BEGIN:VEVENT
DTSTART;TZID=Europe/Madrid:20250317T194500
DTEND;TZID=Europe/Madrid:20250317T203000
DTSTAMP:20260422T144919
CREATED:20250316T080219Z
LAST-MODIFIED:20250316T080219Z
UID:21633-1742240700-1742243400@psantisimatrinidad.archimadrid.es
SUMMARY:Grupo de Fe: Cristo roto
DESCRIPTION:Este lunes\, el Grupo de Fe Cristo Roto\, te invitamos a unirte a nuestra oración a las 19:45h en el oratorio. \n¡Te esperamos para compartir este momento especial!
URL:https://psantisimatrinidad.archimadrid.es/event/grupo-de-fe-cristo-roto-47/
CATEGORIES:Eventos Evangelización
ATTACH;FMTTYPE=image/png:https://psantisimatrinidad.archimadrid.es/wp-content/uploads/2025/03/2-Personalizado-2.png
END:VEVENT
END:VCALENDAR