BEGIN:VCALENDAR
VERSION:2.0
PRODID:-//Parroquia Santí­sima Trinidad  (Collado Villalba) - ECPv6.15.20//NONSGML v1.0//EN
CALSCALE:GREGORIAN
METHOD:PUBLISH
X-ORIGINAL-URL:https://psantisimatrinidad.archimadrid.es
X-WR-CALDESC:Eventos para Parroquia Santí­sima Trinidad  (Collado Villalba)
REFRESH-INTERVAL;VALUE=DURATION:PT1H
X-Robots-Tag:noindex
X-PUBLISHED-TTL:PT1H
BEGIN:VTIMEZONE
TZID:Europe/Madrid
BEGIN:DAYLIGHT
TZOFFSETFROM:+0100
TZOFFSETTO:+0200
TZNAME:CEST
DTSTART:20240331T010000
END:DAYLIGHT
BEGIN:STANDARD
TZOFFSETFROM:+0200
TZOFFSETTO:+0100
TZNAME:CET
DTSTART:20241027T010000
END:STANDARD
BEGIN:DAYLIGHT
TZOFFSETFROM:+0100
TZOFFSETTO:+0200
TZNAME:CEST
DTSTART:20250330T010000
END:DAYLIGHT
BEGIN:STANDARD
TZOFFSETFROM:+0200
TZOFFSETTO:+0100
TZNAME:CET
DTSTART:20251026T010000
END:STANDARD
BEGIN:DAYLIGHT
TZOFFSETFROM:+0100
TZOFFSETTO:+0200
TZNAME:CEST
DTSTART:20260329T010000
END:DAYLIGHT
BEGIN:STANDARD
TZOFFSETFROM:+0200
TZOFFSETTO:+0100
TZNAME:CET
DTSTART:20261025T010000
END:STANDARD
END:VTIMEZONE
BEGIN:VEVENT
DTSTART;TZID=Europe/Madrid:20250324T173000
DTEND;TZID=Europe/Madrid:20250324T183000
DTSTAMP:20260422T145110
CREATED:20250323T194035Z
LAST-MODIFIED:20250323T194035Z
UID:21697-1742837400-1742841000@psantisimatrinidad.archimadrid.es
SUMMARY:Taller para padres
DESCRIPTION:Taller para padres (17:30h\, salones parroquiales) \nEducar es sembrar en tierra sagrada. Los hijos son un don de Dios\, y acompañarlos en su crecimiento es una tarea llena de amor\, paciencia y fe. Que este encuentro sea un espacio para compartir\, aprender y fortalecer el corazón en la misión de ser familia.
URL:https://psantisimatrinidad.archimadrid.es/event/taller-para-padres-41/
CATEGORIES:Eventos Evangelización
ATTACH;FMTTYPE=image/png:https://psantisimatrinidad.archimadrid.es/wp-content/uploads/2025/03/1-Personalizado-3.png
END:VEVENT
END:VCALENDAR