BEGIN:VCALENDAR
VERSION:2.0
PRODID:-//Parroquia Santí­sima Trinidad  (Collado Villalba) - ECPv6.15.20//NONSGML v1.0//EN
CALSCALE:GREGORIAN
METHOD:PUBLISH
X-WR-CALNAME:Parroquia Santí­sima Trinidad  (Collado Villalba)
X-ORIGINAL-URL:https://psantisimatrinidad.archimadrid.es
X-WR-CALDESC:Eventos para Parroquia Santí­sima Trinidad  (Collado Villalba)
REFRESH-INTERVAL;VALUE=DURATION:PT1H
X-Robots-Tag:noindex
X-PUBLISHED-TTL:PT1H
BEGIN:VTIMEZONE
TZID:Europe/Madrid
BEGIN:DAYLIGHT
TZOFFSETFROM:+0100
TZOFFSETTO:+0200
TZNAME:CEST
DTSTART:20240331T010000
END:DAYLIGHT
BEGIN:STANDARD
TZOFFSETFROM:+0200
TZOFFSETTO:+0100
TZNAME:CET
DTSTART:20241027T010000
END:STANDARD
BEGIN:DAYLIGHT
TZOFFSETFROM:+0100
TZOFFSETTO:+0200
TZNAME:CEST
DTSTART:20250330T010000
END:DAYLIGHT
BEGIN:STANDARD
TZOFFSETFROM:+0200
TZOFFSETTO:+0100
TZNAME:CET
DTSTART:20251026T010000
END:STANDARD
BEGIN:DAYLIGHT
TZOFFSETFROM:+0100
TZOFFSETTO:+0200
TZNAME:CEST
DTSTART:20260329T010000
END:DAYLIGHT
BEGIN:STANDARD
TZOFFSETFROM:+0200
TZOFFSETTO:+0100
TZNAME:CET
DTSTART:20261025T010000
END:STANDARD
END:VTIMEZONE
BEGIN:VEVENT
DTSTART;TZID=Europe/Madrid:20250411T181500
DTEND;TZID=Europe/Madrid:20250411T190000
DTSTAMP:20260422T130128
CREATED:20250408T133749Z
LAST-MODIFIED:20250408T133749Z
UID:21883-1744395300-1744398000@psantisimatrinidad.archimadrid.es
SUMMARY:Via crucis
DESCRIPTION:Viernes 11 abril\, a las 18:15h: tenemos via crucis en el templo organizado por varios grupos parroquiales.
URL:https://psantisimatrinidad.archimadrid.es/event/via-crucis-51/
CATEGORIES:Eventos Cáritas,Eventos Evangelización,Eventos Liturgia
ATTACH;FMTTYPE=image/png:https://psantisimatrinidad.archimadrid.es/wp-content/uploads/2025/04/7.png
END:VEVENT
BEGIN:VEVENT
DTSTART;TZID=Europe/Madrid:20250411T194500
DTEND;TZID=Europe/Madrid:20250411T211500
DTSTAMP:20260422T130128
CREATED:20250408T133945Z
LAST-MODIFIED:20250408T133945Z
UID:21885-1744400700-1744406100@psantisimatrinidad.archimadrid.es
SUMMARY:Amigos en la fe
DESCRIPTION:Grupo Amigos en la fe (19:45h\, salones parroquiales) \nLa fe crece cuando se comparte. Ser amigos en Cristo es caminar juntos\, sostenernos y descubrir que Dios nos ha regalado la alegría del encuentro. Que este grupo sea un espacio de fraternidad y testimonio vivo del Evangelio.
URL:https://psantisimatrinidad.archimadrid.es/event/amigos-en-la-fe-9/
CATEGORIES:Eventos Evangelización
ATTACH;FMTTYPE=image/png:https://psantisimatrinidad.archimadrid.es/wp-content/uploads/2025/04/8.png
END:VEVENT
END:VCALENDAR