BEGIN:VCALENDAR
VERSION:2.0
PRODID:-//Parroquia Santí­sima Trinidad  (Collado Villalba) - ECPv6.15.20//NONSGML v1.0//EN
CALSCALE:GREGORIAN
METHOD:PUBLISH
X-ORIGINAL-URL:https://psantisimatrinidad.archimadrid.es
X-WR-CALDESC:Eventos para Parroquia Santí­sima Trinidad  (Collado Villalba)
REFRESH-INTERVAL;VALUE=DURATION:PT1H
X-Robots-Tag:noindex
X-PUBLISHED-TTL:PT1H
BEGIN:VTIMEZONE
TZID:Europe/Madrid
BEGIN:DAYLIGHT
TZOFFSETFROM:+0100
TZOFFSETTO:+0200
TZNAME:CEST
DTSTART:20230326T010000
END:DAYLIGHT
BEGIN:STANDARD
TZOFFSETFROM:+0200
TZOFFSETTO:+0100
TZNAME:CET
DTSTART:20231029T010000
END:STANDARD
BEGIN:DAYLIGHT
TZOFFSETFROM:+0100
TZOFFSETTO:+0200
TZNAME:CEST
DTSTART:20240331T010000
END:DAYLIGHT
BEGIN:STANDARD
TZOFFSETFROM:+0200
TZOFFSETTO:+0100
TZNAME:CET
DTSTART:20241027T010000
END:STANDARD
BEGIN:DAYLIGHT
TZOFFSETFROM:+0100
TZOFFSETTO:+0200
TZNAME:CEST
DTSTART:20250330T010000
END:DAYLIGHT
BEGIN:STANDARD
TZOFFSETFROM:+0200
TZOFFSETTO:+0100
TZNAME:CET
DTSTART:20251026T010000
END:STANDARD
END:VTIMEZONE
BEGIN:VEVENT
DTSTART;TZID=Europe/Madrid:20241201T093000
DTEND;TZID=Europe/Madrid:20241201T143000
DTSTAMP:20260422T002106
CREATED:20241127T065741Z
LAST-MODIFIED:20241127T065741Z
UID:20332-1733045400-1733063400@psantisimatrinidad.archimadrid.es
SUMMARY:Desayuno solidario de Cáritas
DESCRIPTION:El 1 de diciembre\, tenemos nuestro Desayuno solidarios de Cáritas. Estaremos al finalizar las misas de la mañana. \nContamos contigo!! Te esperamos!!
URL:https://psantisimatrinidad.archimadrid.es/event/desayuno-solidario-de-caritas/
CATEGORIES:Eventos Cáritas
ATTACH;FMTTYPE=image/png:https://psantisimatrinidad.archimadrid.es/wp-content/uploads/2024/11/7-1.png
END:VEVENT
END:VCALENDAR