BEGIN:VCALENDAR
VERSION:2.0
PRODID:-//Parroquia Santí­sima Trinidad  (Collado Villalba) - ECPv6.15.20//NONSGML v1.0//EN
CALSCALE:GREGORIAN
METHOD:PUBLISH
X-WR-CALNAME:Parroquia Santí­sima Trinidad  (Collado Villalba)
X-ORIGINAL-URL:https://psantisimatrinidad.archimadrid.es
X-WR-CALDESC:Eventos para Parroquia Santí­sima Trinidad  (Collado Villalba)
REFRESH-INTERVAL;VALUE=DURATION:PT1H
X-Robots-Tag:noindex
X-PUBLISHED-TTL:PT1H
BEGIN:VTIMEZONE
TZID:Europe/Madrid
BEGIN:DAYLIGHT
TZOFFSETFROM:+0100
TZOFFSETTO:+0200
TZNAME:CEST
DTSTART:20240331T010000
END:DAYLIGHT
BEGIN:STANDARD
TZOFFSETFROM:+0200
TZOFFSETTO:+0100
TZNAME:CET
DTSTART:20241027T010000
END:STANDARD
BEGIN:DAYLIGHT
TZOFFSETFROM:+0100
TZOFFSETTO:+0200
TZNAME:CEST
DTSTART:20250330T010000
END:DAYLIGHT
BEGIN:STANDARD
TZOFFSETFROM:+0200
TZOFFSETTO:+0100
TZNAME:CET
DTSTART:20251026T010000
END:STANDARD
BEGIN:DAYLIGHT
TZOFFSETFROM:+0100
TZOFFSETTO:+0200
TZNAME:CEST
DTSTART:20260329T010000
END:DAYLIGHT
BEGIN:STANDARD
TZOFFSETFROM:+0200
TZOFFSETTO:+0100
TZNAME:CET
DTSTART:20261025T010000
END:STANDARD
END:VTIMEZONE
BEGIN:VEVENT
DTSTART;TZID=Europe/Madrid:20250525T100000
DTEND;TZID=Europe/Madrid:20250525T140000
DTSTAMP:20260421T162402
CREATED:20250518T175227Z
LAST-MODIFIED:20250518T175227Z
UID:22320-1748167200-1748181600@psantisimatrinidad.archimadrid.es
SUMMARY:Clausura Jornadas Cáritas
DESCRIPTION:Para finalizar las II Jornadas de Cáritas Párroquial\, el próximo domingo 25 tendremos a los miembros de Cáritas fuera del templo\, dando a conocer la actividad de Cáritas\, anotando voluntarios. Por otra parte\, tenemos a vuestra disposición folios de inscripción como donante para Cáritas parroquial. Recordemos que este tipo de donaciones gozan de la desgravación fiscal.
URL:https://psantisimatrinidad.archimadrid.es/event/clausura-jornadas-caritas/
CATEGORIES:Eventos Cáritas
ATTACH;FMTTYPE=image/png:https://psantisimatrinidad.archimadrid.es/wp-content/uploads/2025/05/9-Personalizado-1.png
END:VEVENT
END:VCALENDAR