BEGIN:VCALENDAR
VERSION:2.0
PRODID:-//Parroquia Santí­sima Trinidad  (Collado Villalba) - ECPv6.15.20//NONSGML v1.0//EN
CALSCALE:GREGORIAN
METHOD:PUBLISH
X-WR-CALNAME:Parroquia Santí­sima Trinidad  (Collado Villalba)
X-ORIGINAL-URL:https://psantisimatrinidad.archimadrid.es
X-WR-CALDESC:Eventos para Parroquia Santí­sima Trinidad  (Collado Villalba)
REFRESH-INTERVAL;VALUE=DURATION:PT1H
X-Robots-Tag:noindex
X-PUBLISHED-TTL:PT1H
BEGIN:VTIMEZONE
TZID:Europe/Madrid
BEGIN:DAYLIGHT
TZOFFSETFROM:+0100
TZOFFSETTO:+0200
TZNAME:CEST
DTSTART:20220327T010000
END:DAYLIGHT
BEGIN:STANDARD
TZOFFSETFROM:+0200
TZOFFSETTO:+0100
TZNAME:CET
DTSTART:20221030T010000
END:STANDARD
BEGIN:DAYLIGHT
TZOFFSETFROM:+0100
TZOFFSETTO:+0200
TZNAME:CEST
DTSTART:20230326T010000
END:DAYLIGHT
BEGIN:STANDARD
TZOFFSETFROM:+0200
TZOFFSETTO:+0100
TZNAME:CET
DTSTART:20231029T010000
END:STANDARD
BEGIN:DAYLIGHT
TZOFFSETFROM:+0100
TZOFFSETTO:+0200
TZNAME:CEST
DTSTART:20240331T010000
END:DAYLIGHT
BEGIN:STANDARD
TZOFFSETFROM:+0200
TZOFFSETTO:+0100
TZNAME:CET
DTSTART:20241027T010000
END:STANDARD
END:VTIMEZONE
BEGIN:VEVENT
DTSTART;TZID=Europe/Madrid:20230911T173000
DTEND;TZID=Europe/Madrid:20230915T190000
DTSTAMP:20260422T142254
CREATED:20230911T091208Z
LAST-MODIFIED:20230911T091208Z
UID:15440-1694453400-1694804400@psantisimatrinidad.archimadrid.es
SUMMARY:Inscripciones catequesis
DESCRIPTION:Os recordamos que iniciamos las inscripciones para catequesis: \n📌Fecha: del lunes 11 – 15 de septiembre \n📍Lugar: despachos parroquiales \n🕟Horario: 17:30h-19:00h \n👉Primera comunión: Niños a partir de 2º de primaria \n👉Postcomunión: 10-14 años (de 5º primaria a 2º de la ESO) \n👉Juveniles (confirmación): entre 14 y 18 años \n👉Jóvenes: a partir de 19 años \n👉Adultos: todos aquellos que deseen crecer en la fe o desea recibir alguno de los sacramentos de iniciación Cristiana. \n🙏🏻¡Os esperamos para crecer juntos en el seguimiento de Jesús!
URL:https://psantisimatrinidad.archimadrid.es/event/inscripciones-catequesis/
CATEGORIES:Eventos Evangelización
ATTACH;FMTTYPE=image/png:https://psantisimatrinidad.archimadrid.es/wp-content/uploads/2023/09/horarios-e1694423518843.png
END:VEVENT
BEGIN:VEVENT
DTSTART;TZID=Europe/Madrid:20230913T200000
DTEND;TZID=Europe/Madrid:20230913T203000
DTSTAMP:20260422T142255
CREATED:20230705T092657Z
LAST-MODIFIED:20230911T084133Z
UID:15177-1694635200-1694637000@psantisimatrinidad.archimadrid.es
SUMMARY:Gr. Renovación Carismática
DESCRIPTION:👉 Este miércoles\, el GRUPO RENOVACIÓN CARISMÁTICA CATÓLICA SANTÍSIMA TRINIDAD reiniciamos nuestros encuentros semanales\, esta semana acompañando con nuestro canto en misa de 20:00h.
URL:https://psantisimatrinidad.archimadrid.es/event/15177/
CATEGORIES:Eventos Evangelización
ATTACH;FMTTYPE=image/jpeg:https://psantisimatrinidad.archimadrid.es/wp-content/uploads/2023/07/Imagen-de-WhatsApp-2023-09-08-a-las-08.53.07-e1694421683167.jpg
END:VEVENT
BEGIN:VEVENT
DTSTART;VALUE=DATE:20230916
DTEND;VALUE=DATE:20230918
DTSTAMP:20260422T142255
CREATED:20230913T112342Z
LAST-MODIFIED:20230913T112449Z
UID:15465-1694822400-1694995199@psantisimatrinidad.archimadrid.es
SUMMARY:Cambio horario misas
DESCRIPTION:Os recordamos que desde hoy\, sábado 16\, comenzamos con el horario otoño invierno; por tanto\, el horario de misas será: \n\nDe lunes a sábado: 9:30h y 19:00h.\nDomingos y festivos. 10:00h\, 11:00h\, 12:00h\, 13:00h y 19:00h.\n\nTened presente que también cambia el horario del despacho parroquial.
URL:https://psantisimatrinidad.archimadrid.es/event/cambio-horario-misas/
CATEGORIES:Eventos Cáritas,Eventos Evangelización,Eventos Liturgia
ATTACH;FMTTYPE=image/jpeg:https://psantisimatrinidad.archimadrid.es/wp-content/uploads/2023/09/cambio-horario-e1694604178169.jpg
END:VEVENT
BEGIN:VEVENT
DTSTART;VALUE=DATE:20230920
DTEND;VALUE=DATE:20230921
DTSTAMP:20260422T142255
CREATED:20230920T121521Z
LAST-MODIFIED:20230920T122452Z
UID:15522-1695168000-1695254399@psantisimatrinidad.archimadrid.es
SUMMARY:Cumpleaños de D. José Cobo
DESCRIPTION:Hoy\, es el cumpleaños de nuestro arzobispo\, monseñor José Cobo Cano. \nDesde nuestra parroquia nos unimos en acción de gracias por su vida y le deseamos lo mejor en esta fecha especial. que pase un bonito día. \nMuchas felicidades!!
URL:https://psantisimatrinidad.archimadrid.es/event/cumpleanos-de-d-jose-cobo/
CATEGORIES:Eventos Cáritas,Eventos Evangelización,Eventos Liturgia
ATTACH;FMTTYPE=image/png:https://psantisimatrinidad.archimadrid.es/wp-content/uploads/2023/09/Cumple-e1695212095149.png
END:VEVENT
BEGIN:VEVENT
DTSTART;TZID=Europe/Madrid:20230920T194500
DTEND;TZID=Europe/Madrid:20230920T210000
DTSTAMP:20260422T142255
CREATED:20230916T140654Z
LAST-MODIFIED:20230916T140654Z
UID:15486-1695239100-1695243600@psantisimatrinidad.archimadrid.es
SUMMARY:Gr. Renovación Carismática Católica
DESCRIPTION:👉 Los miércoles\, a las 19:45h\, el GRUPO RENOVACIÓN CARISMÁTICA CATÓLICA SANTÍSIMA TRINIDAD tenemos nuestro encuentro semanal\, os estaremos esperando en los salones parroquiales.
URL:https://psantisimatrinidad.archimadrid.es/event/gr-renovacion-carismatica-catolica-30/
CATEGORIES:Eventos Evangelización
ATTACH;FMTTYPE=image/png:https://psantisimatrinidad.archimadrid.es/wp-content/uploads/2023/09/Carismaticos-001-e1694873204978.png
END:VEVENT
BEGIN:VEVENT
DTSTART;TZID=Europe/Madrid:20230921T193000
DTEND;TZID=Europe/Madrid:20230921T200000
DTSTAMP:20260422T142255
CREATED:20230916T140826Z
LAST-MODIFIED:20230916T140858Z
UID:15490-1695324600-1695326400@psantisimatrinidad.archimadrid.es
SUMMARY:Exposición del Santísimo
DESCRIPTION:👉Los jueves\, a las 19:30h (al finalizar la misa de 19h) en el templo parroquial\, estamos invitados a pasar un ratito con Jesús Sacramentado. \nRecordemos que la exposición y bendición con el Santísimo Sacramento es un acto comunitario en el que debe estar presente la celebración de la Palabra de Dios y el silencio contemplativo. La exposición eucarística ayuda a reconocer en ella la maravillosa presencia de Cristo o invita a la unión más íntima con él\, que adquiere su culmen en la comunión Sacramental.
URL:https://psantisimatrinidad.archimadrid.es/event/exposicion-del-santisimo-81/
CATEGORIES:Eventos Evangelización,Eventos Liturgia
END:VEVENT
BEGIN:VEVENT
DTSTART;VALUE=DATE:20230924
DTEND;VALUE=DATE:20230925
DTSTAMP:20260422T142255
CREATED:20230920T074741Z
LAST-MODIFIED:20230920T074741Z
UID:15518-1695513600-1695599999@psantisimatrinidad.archimadrid.es
SUMMARY:Jornada Mundial del Migrante y del Refugiado
DESCRIPTION:Hoy\, en la Iglesia\, celebramos la Jornada Mundial del Migrante y del Refugiado… \nPor si estás interesado: a las 10:30 horas en la parroquia de Nuestra Señora de los Desamparados de Villaverde se celebrará una Eucaristía organizada por la Subcomisión de Migraciones de la Conferencia Episcopal\, retransmitida por La 2 de TVE.
URL:https://psantisimatrinidad.archimadrid.es/event/jornada-mundial-del-migrante-y-del-refugiado-2/
CATEGORIES:Eventos Evangelización
ATTACH;FMTTYPE=image/jpeg:https://psantisimatrinidad.archimadrid.es/wp-content/uploads/2023/09/Diapositiva2-e1695188382822.jpg
END:VEVENT
BEGIN:VEVENT
DTSTART;VALUE=DATE:20230927
DTEND;VALUE=DATE:20230928
DTSTAMP:20260422T142255
CREATED:20230921T130400Z
LAST-MODIFIED:20230927T052523Z
UID:15536-1695772800-1695859199@psantisimatrinidad.archimadrid.es
SUMMARY:San Vicente de Paúl
DESCRIPTION:Celebramos hoy la fiesta de uno de los grandes amigos de Jesús\, San Vicente de Paúl\, fundador de las Hijas de la Caridad\, juntamente con Santa Luisa de Marillac. Desde pequeño destacó por su responsabilidad en el trabajo y en el estudio. Amigo de viajes y aventuras\, descubrió las llamadas de Dios\, a través de las necesidades de los pobres. \nFelicitamos a las hermanas de la comunidad de Villalba\, en este día tan especial. \n👉Leer una entrada sobre San Vicente de Paúl
URL:https://psantisimatrinidad.archimadrid.es/event/san-vicente-de-paul/
CATEGORIES:Eventos Evangelización
ATTACH;FMTTYPE=image/png:https://psantisimatrinidad.archimadrid.es/wp-content/uploads/2023/09/20230927-San-Vicente-e1695301423784.png
END:VEVENT
BEGIN:VEVENT
DTSTART;TZID=Europe/Madrid:20230927T194500
DTEND;TZID=Europe/Madrid:20230927T211500
DTSTAMP:20260422T142255
CREATED:20230921T125341Z
LAST-MODIFIED:20230921T125341Z
UID:15528-1695843900-1695849300@psantisimatrinidad.archimadrid.es
SUMMARY:Gr. Renovación Carismática
DESCRIPTION:👉 Los miércoles\, a las 19:45h\, el GRUPO RENOVACIÓN CARISMÁTICA CATÓLICA SANTÍSIMA TRINIDAD tenemos nuestro encuentro semanal\, os estaremos esperando en los salones parroquiales.
URL:https://psantisimatrinidad.archimadrid.es/event/gr-renovacion-carismatica-2/
CATEGORIES:Eventos Evangelización
ATTACH;FMTTYPE=image/png:https://psantisimatrinidad.archimadrid.es/wp-content/uploads/2023/09/20230927-Carismaticos-e1695300804349.png
END:VEVENT
BEGIN:VEVENT
DTSTART;TZID=Europe/Madrid:20230928T193000
DTEND;TZID=Europe/Madrid:20230928T200000
DTSTAMP:20260422T142255
CREATED:20230921T130535Z
LAST-MODIFIED:20230922T055506Z
UID:15538-1695929400-1695931200@psantisimatrinidad.archimadrid.es
SUMMARY:Exposición del Santísimo
DESCRIPTION:👉Los jueves\, a las 19:30h (al finalizar la misa de 19h) en el templo parroquial\, estamos invitados a pasar un ratito con Jesús Sacramentado. \nRecordemos que la exposición y bendición con el Santísimo Sacramento es un acto comunitario en el que debe estar presente la celebración de la Palabra de Dios y el silencio contemplativo. La exposición eucarística ayuda a reconocer en ella la maravillosa presencia de Cristo o invita a la unión más íntima con él\, que adquiere su culmen en la comunión Sacramental.
URL:https://psantisimatrinidad.archimadrid.es/event/exposicion-del-santisimo-82/
CATEGORIES:Eventos Liturgia
END:VEVENT
BEGIN:VEVENT
DTSTART;VALUE=DATE:20230929
DTEND;VALUE=DATE:20230930
DTSTAMP:20260422T142255
CREATED:20230921T131218Z
LAST-MODIFIED:20230929T053514Z
UID:15540-1695945600-1696031999@psantisimatrinidad.archimadrid.es
SUMMARY:Santos Arcángeles
DESCRIPTION:👉Hoy celebramos la fiesta de los Santos Arcángeles Miguel\, Gabriel y Rafael. \n😇Felicidades a quienes celebráis vuestro onomástico… \n🔥Miguel («¡Quién como Dios!»)\, Gabriel («Fortaleza de Dios») y Rafael («Medicina de Dios»)\, son mensajeros de Dios. \n😇La fiesta de san Miguel\, san Gabriel y san Rafael nos recuerda que ante Dios todos tenemos una identidad personal que es salvaguardada\, cuidada y protegida por estas criaturas espirituales. Una identidad personal que será plena en la medida en que acojamos cada día más ser de Dios. \n😇Señor\, los ángeles que Tú nos envías pueden ser sobrenaturales\, como Miguel\, Gabriel y Rafael; pero\, también pueden ser de carne y hueso; a veces ese ángel es el compañero de trabajo o de estudios\, el amigo\, o familiar\,… que nos transmite tu sonrisa… \n🙏Compartimos la orden Papa Francisco a los arcángeles: \nMiguel\, ayúdanos en la lucha; cada uno sabe qué lucha hay en su vida hoy. Cada uno de nosotros sabe cuál es su lucha principal\, la que hace que corra riesgo la salvación. Ayúdanos\, Gabriel\, tráenos noticias\, tráenos la Buena Noticia de la salvación\, que Jesús está con nosotros\, que Jesús nos ha salvado y danos esperanza. Rafael\, tómanos de la mano y ayúdanos en el camino para no equivocarnos de dirección\, para no quedarnos parados. Siempre caminar\, pero ayudados por ti”.
URL:https://psantisimatrinidad.archimadrid.es/event/santos-arcangeles/
CATEGORIES:Eventos Evangelización
ATTACH;FMTTYPE=image/png:https://psantisimatrinidad.archimadrid.es/wp-content/uploads/2023/09/20230929-Arcangeles-e1695301814662.png
END:VEVENT
BEGIN:VEVENT
DTSTART;TZID=Europe/Madrid:20230930T103000
DTEND;TZID=Europe/Madrid:20230930T140000
DTSTAMP:20260422T142255
CREATED:20230921T131534Z
LAST-MODIFIED:20230930T055153Z
UID:15542-1696069800-1696082400@psantisimatrinidad.archimadrid.es
SUMMARY:Asamblea parroquial
DESCRIPTION:Recuerda que hoy estamos convocados a nuestra asamblea parroquial\nDía: sábado\, 30 de septiembre\nHora: 10:30h a 14:00h\nLugar:  Colegio Santísima Trinidad\, hijas de la Caridad. Entrada por la C/ Morales Antuñano\nComida: terminaremos juntos con la comida para compartir!\nInformar: a todos los miembros de vuestros grupos .\nTraer: los mejores deseos y actitud para juntos iniciar este curso \nOs esperamos! 👍🙏🏻
URL:https://psantisimatrinidad.archimadrid.es/event/asamblea-parroquial-2/
CATEGORIES:Eventos Cáritas,Eventos Evangelización,Eventos Liturgia
ATTACH;FMTTYPE=image/png:https://psantisimatrinidad.archimadrid.es/wp-content/uploads/2023/09/Asamblea-1-e1696053100443.png
END:VEVENT
BEGIN:VEVENT
DTSTART;VALUE=DATE:20231001
DTEND;VALUE=DATE:20231002
DTSTAMP:20260422T142255
CREATED:20230921T131703Z
LAST-MODIFIED:20230921T131703Z
UID:15544-1696118400-1696204799@psantisimatrinidad.archimadrid.es
SUMMARY:Domingo por la Comunión
DESCRIPTION:La Comisión Diocesana por la Comunión Eclesial nos convoca a toda la Iglesia en Madrid a un nuevo Domingo por la Comunión en la Iglesia Diocesana\, que se celebrará el domingo 1 octubre con el lema ‘Todos Uno’.
URL:https://psantisimatrinidad.archimadrid.es/event/domingo-por-la-comunion/
CATEGORIES:Eventos Cáritas,Eventos Evangelización,Eventos Liturgia
ATTACH;FMTTYPE=image/png:https://psantisimatrinidad.archimadrid.es/wp-content/uploads/2023/09/20231001-Comunion-e1695302216513.png
END:VEVENT
BEGIN:VEVENT
DTSTART;TZID=Europe/Madrid:20231001T130000
DTEND;TZID=Europe/Madrid:20231001T140000
DTSTAMP:20260422T142255
CREATED:20230924T081219Z
LAST-MODIFIED:20230924T081219Z
UID:15577-1696165200-1696168800@psantisimatrinidad.archimadrid.es
SUMMARY:Envío de Agentes de Pastoral
DESCRIPTION:El Domingo\, 1 de octubre\, en misa de 13:00h\, se realizará el Envío de Agentes de Pastoral; es decir\, aquellas personas que\, en nombre de la Iglesia\, llevarán a cabo\, junto a los sacerdotes\, diversa tareas en la comunidad. Es un modo de expresar que no actúan en nombre propio\, sino en nombre de la Iglesia.
URL:https://psantisimatrinidad.archimadrid.es/event/envio-de-agentes-de-pastoral-3/
CATEGORIES:Eventos Cáritas,Eventos Evangelización,Eventos Liturgia
ATTACH;FMTTYPE=image/png:https://psantisimatrinidad.archimadrid.es/wp-content/uploads/2023/09/Envio-e1695543117736.png
END:VEVENT
BEGIN:VEVENT
DTSTART;TZID=Europe/Madrid:20231002T194500
DTEND;TZID=Europe/Madrid:20231002T201500
DTSTAMP:20260422T142255
CREATED:20230930T170810Z
LAST-MODIFIED:20230930T170810Z
UID:15651-1696275900-1696277700@psantisimatrinidad.archimadrid.es
SUMMARY:Gr de Fe Cristo Roto
DESCRIPTION:👉 Los lunes\, a las 19:45h\, el GRUPO DE FE CRISTO ROTO\, te invitamos a un momento de oración delante del sagrario. ¡Te esperamos en el templo parroquial! \n ℹ️ Respecto de vísperas sabías que: las Vísperas se celebran por la tarde\, cuando ya declina el día\, “en acción de gracias por cuanto se nos ha otorgado en la jornada y por cuanto hemos logrado realizar con acierto” \n🕯️ Desde el Grupo de Comunicación Parroquial deseamos que esta píldora sea como un farolillo espiritual que ilumine tu tarde. \n🙏 Nos unimos en oración con la oración final de vísperas: Oh Dios\, que en tu providencia amorosa te has dignado enviar para nuestra custodia a tus santos ángeles\, concédenos\, atento a nuestras súplicas\, vernos siempre defendidos por su protección y gozar eternamente de su compañía.
URL:https://psantisimatrinidad.archimadrid.es/event/gr-de-fe-cristo-roto-6/
CATEGORIES:Eventos Evangelización
END:VEVENT
BEGIN:VEVENT
DTSTART;TZID=Europe/Madrid:20231002T194500
DTEND;TZID=Europe/Madrid:20231002T210000
DTSTAMP:20260422T142255
CREATED:20230930T175609Z
LAST-MODIFIED:20231002T044030Z
UID:15666-1696275900-1696280400@psantisimatrinidad.archimadrid.es
SUMMARY:Grupo de Escucha en el Duelo
DESCRIPTION:👉Hoy damos comienzo a la tercera tanda del Grupo de Escucha en el Duelo. \nSe realizará los lunes\, en los salones parroquiales\, en horario de 19:45h a 21:00h. \nConsta de 16 sesiones que finalizará el 12 de febrero de 2024. \n 
URL:https://psantisimatrinidad.archimadrid.es/event/grupo-de-escucha-en-el-duelo/
CATEGORIES:Eventos Evangelización
ATTACH;FMTTYPE=image/png:https://psantisimatrinidad.archimadrid.es/wp-content/uploads/2023/09/1696190748684-e1696221577519.png
END:VEVENT
BEGIN:VEVENT
DTSTART;TZID=Europe/Madrid:20231004T194500
DTEND;TZID=Europe/Madrid:20231004T194500
DTSTAMP:20260422T142255
CREATED:20230930T171324Z
LAST-MODIFIED:20230930T171324Z
UID:15655-1696448700-1696448700@psantisimatrinidad.archimadrid.es
SUMMARY:Gr. Renovación Carismática
DESCRIPTION:👉 Los miércoles\, a las 19:45h\, el GRUPO RENOVACIÓN CARISMÁTICA CATÓLICA SANTÍSIMA TRINIDAD tenemos nuestro encuentro semanal\, hoy os estaremos esperando en el templo parroquial. \nEste encuentro es especial\, haremos adoración ante el Santísimo expuesto. Al mismo tiempo algunos hermanos saldrán a evangelizar por la calle invitando a las personas a las que llevemos el kerigma a visitar el Santísimo.
URL:https://psantisimatrinidad.archimadrid.es/event/gr-renovacion-carismatica-3/
CATEGORIES:Eventos Evangelización,Eventos Liturgia
ATTACH;FMTTYPE=image/png:https://psantisimatrinidad.archimadrid.es/wp-content/uploads/2023/09/20231004-Carismaticos-e1696093956409.png
END:VEVENT
BEGIN:VEVENT
DTSTART;VALUE=DATE:20231005
DTEND;VALUE=DATE:20231006
DTSTAMP:20260422T142255
CREATED:20231005T075321Z
LAST-MODIFIED:20231005T075321Z
UID:15698-1696464000-1696550399@psantisimatrinidad.archimadrid.es
SUMMARY:Témporas de Acción de Gracias y de Petición
DESCRIPTION:Las Témporas son días de acción de gracias y de petición que la comunidad cristiana ofrece a Dios\, terminadas las vacaciones y la recolección de las cosechas\, al reemprender la actividad habitual
URL:https://psantisimatrinidad.archimadrid.es/event/temporas-de-accion-de-gracias-y-de-peticion/
CATEGORIES:Eventos Evangelización
ATTACH;FMTTYPE=image/png:https://psantisimatrinidad.archimadrid.es/wp-content/uploads/2023/10/temporas-e1696492393998.png
END:VEVENT
BEGIN:VEVENT
DTSTART;TZID=Europe/Madrid:20231005T193000
DTEND;TZID=Europe/Madrid:20231005T203000
DTSTAMP:20260422T142255
CREATED:20230930T171759Z
LAST-MODIFIED:20230930T171759Z
UID:15657-1696534200-1696537800@psantisimatrinidad.archimadrid.es
SUMMARY:Exposición del Santísimo
DESCRIPTION:👉Los jueves\, a las 19:30h (al finalizar la misa de 19h) en el templo parroquial\, estamos invitados a pasar un ratito con Jesús Sacramentado. \nRecordemos que la exposición y bendición con el Santísimo Sacramento es un acto comunitario en el que debe estar presente la celebración de la Palabra de Dios y el silencio contemplativo. La exposición eucarística ayuda a reconocer en ella la maravillosa presencia de Cristo o invita a la unión más íntima con él\, que adquiere su culmen en la comunión Sacramental.
URL:https://psantisimatrinidad.archimadrid.es/event/exposicion-del-santisimo-83/
CATEGORIES:Eventos Evangelización,Eventos Liturgia
END:VEVENT
BEGIN:VEVENT
DTSTART;TZID=Europe/Madrid:20231006T200000
DTEND;TZID=Europe/Madrid:20231006T200000
DTSTAMP:20260422T142255
CREATED:20230930T172044Z
LAST-MODIFIED:20230930T172044Z
UID:15662-1696622400-1696622400@psantisimatrinidad.archimadrid.es
SUMMARY:Oración de Taizé
DESCRIPTION:👉Los primeros viernes de mes\, a las 20:00h\, estáis invitados a la Oración de Taizé. Nos juntaremos en el templo parroquial. \nEsta oración está abierta a cualquier persona que busque un momento de recogimiento y silencio a través del estilo de oración de Taizé\, basado fundamentalmente en cantos meditativos\, lecturas\, silencio y un lugar acogedor.
URL:https://psantisimatrinidad.archimadrid.es/event/oracion-de-taize-36/
CATEGORIES:Eventos Evangelización,Eventos Liturgia
ATTACH;FMTTYPE=image/png:https://psantisimatrinidad.archimadrid.es/wp-content/uploads/2023/09/20231006-Oracion-Taize-e1696094429950.png
END:VEVENT
BEGIN:VEVENT
DTSTART;TZID=Europe/Madrid:20231007T190000
DTEND;TZID=Europe/Madrid:20231007T190000
DTSTAMP:20260422T142255
CREATED:20230930T172330Z
LAST-MODIFIED:20230930T172330Z
UID:15664-1696705200-1696705200@psantisimatrinidad.archimadrid.es
SUMMARY:Misa Sabatina Hdad del Rocío
DESCRIPTION:👉Hoy\, primer sábado de mes\, a las 19:00h\, en el Templo parroquial\, se celebra la Misa Sabatina\, que cada mes organiza la Hermandad del Rocío.
URL:https://psantisimatrinidad.archimadrid.es/event/misa-sabatina-hdad-del-rocio-3/
CATEGORIES:Eventos Evangelización,Eventos Liturgia
ATTACH;FMTTYPE=image/png:https://psantisimatrinidad.archimadrid.es/wp-content/uploads/2023/09/20231007-Misa-Sabatina-e1696094602232.png
END:VEVENT
BEGIN:VEVENT
DTSTART;TZID=Europe/Madrid:20231009T194500
DTEND;TZID=Europe/Madrid:20231009T201500
DTSTAMP:20260422T142255
CREATED:20231006T141502Z
LAST-MODIFIED:20231006T141502Z
UID:15713-1696880700-1696882500@psantisimatrinidad.archimadrid.es
SUMMARY:Gr. de Fe Cristo Roto
DESCRIPTION:👉 Los lunes\, a las 19:45h\, el GRUPO DE FE CRISTO ROTO\, te invitamos a un momento de oración delante del sagrario. ¡Te esperamos en el templo parroquial! \nℹ️ Respecto de vísperas sabías que: con la oración de vísperas hacemos memoria de la Redención: el sacrificio de Cristo en la cruz ha supuesto para nosotros el perdón de los pecados y la participación en la misma vida de Dios\, que nos ha hecho hijos en el Hijo. Esta memoria de la redención se hace en las Vísperas mediante la oración. \n🕯️ Desde el Grupo de Comunicación Parroquial deseamos que esta píldora sea como un farolillo espiritual que ilumine tu tarde. \n🙏 Nos unimos en oración con la oración final de vísperas: Señor\, tú que con razón eres llamado luz indeficiente\, ilumina nuestro espíritu en esta hora vespertina\, y dígnate perdonar benignamente nuestras faltas.
URL:https://psantisimatrinidad.archimadrid.es/event/gr-de-fe-cristo-roto-7/
CATEGORIES:Eventos Evangelización,Eventos Liturgia
END:VEVENT
BEGIN:VEVENT
DTSTART;TZID=Europe/Madrid:20231009T194500
DTEND;TZID=Europe/Madrid:20231009T210000
DTSTAMP:20260422T142255
CREATED:20231008T061044Z
LAST-MODIFIED:20231008T061044Z
UID:15747-1696880700-1696885200@psantisimatrinidad.archimadrid.es
SUMMARY:Grupo de Escucha en el Duelo
DESCRIPTION:👉Continuamos con el Grupo de Escucha en el Duelo. Aún te puedes inscribir. \nSe realizará los lunes\, en los salones parroquiales\, en horario de 19:45h a 21:00h. \nConsta de 16 sesiones que finalizará el 12 de febrero de 2024.
URL:https://psantisimatrinidad.archimadrid.es/event/grupo-de-escucha-en-el-duelo-2/
CATEGORIES:Eventos Evangelización
ATTACH;FMTTYPE=image/png:https://psantisimatrinidad.archimadrid.es/wp-content/uploads/2023/10/20231009-Duelo-e1696745424475.png
END:VEVENT
BEGIN:VEVENT
DTSTART;TZID=Europe/Madrid:20231011T194500
DTEND;TZID=Europe/Madrid:20231011T194500
DTSTAMP:20260422T142255
CREATED:20231006T141623Z
LAST-MODIFIED:20231006T141623Z
UID:15724-1697053500-1697053500@psantisimatrinidad.archimadrid.es
SUMMARY:Gr. Renovación Carismática
DESCRIPTION:👉 Los miércoles\, a las 19:45h\, el GRUPO RENOVACIÓN CARISMÁTICA CATÓLICA SANTÍSIMA TRINIDAD tenemos nuestro encuentro semanal\, os estaremos esperando en los salones parroquiales.
URL:https://psantisimatrinidad.archimadrid.es/event/gr-renovacion-carismatica-4/
CATEGORIES:Eventos Evangelización,Eventos Liturgia
ATTACH;FMTTYPE=image/png:https://psantisimatrinidad.archimadrid.es/wp-content/uploads/2023/10/20231011-Carismaticos-e1696601776941.png
END:VEVENT
BEGIN:VEVENT
DTSTART;VALUE=DATE:20231012
DTEND;VALUE=DATE:20231013
DTSTAMP:20260422T142255
CREATED:20231006T142105Z
LAST-MODIFIED:20231012T071609Z
UID:15728-1697068800-1697155199@psantisimatrinidad.archimadrid.es
SUMMARY:Virgen del Pilar
DESCRIPTION:👉Hoy celebramos la fiesta de Nuestra Señora del Pilar. No es día de precepto; por tanto\, las misas serán en horario de diario; es decir\, a las 09:30h y a las 19:00h \n😇La Virgen del Pilar es una de las advocaciones marianas de la Iglesia católica\, que data desde el año 40 a Santiago Apóstol en Zaragoza\, cuya imagen tiene su principal centro de culto en la Catedral Basílica del Pilar de Zaragoza. \nℹ Si deseas saber algo más puedes leer nuestra entrada en la web: Nuestra Señora del Pilar\, Madre de la Evangelización \nFelicidades a quienes celebráis vuestro onomástico . \n 
URL:https://psantisimatrinidad.archimadrid.es/event/virgen-del-pilar/
CATEGORIES:Eventos Evangelización
ATTACH;FMTTYPE=image/png:https://psantisimatrinidad.archimadrid.es/wp-content/uploads/2023/10/20231012-Pilar-e1696602057851.png
END:VEVENT
BEGIN:VEVENT
DTSTART;TZID=Europe/Madrid:20231012T193000
DTEND;TZID=Europe/Madrid:20231012T200000
DTSTAMP:20260422T142255
CREATED:20231006T141748Z
LAST-MODIFIED:20231006T141748Z
UID:15726-1697139000-1697140800@psantisimatrinidad.archimadrid.es
SUMMARY:Exposición del Santísimo Sacramento
DESCRIPTION:👉Los jueves\, a las 19:30h (al finalizar la misa de 19h) en el templo parroquial\, estamos invitados a pasar un ratito con Jesús Sacramentado. \nRecordemos que la exposición y bendición con el Santísimo Sacramento es un acto comunitario en el que debe estar presente la celebración de la Palabra de Dios y el silencio contemplativo. La exposición eucarística ayuda a reconocer en ella la maravillosa presencia de Cristo o invita a la unión más íntima con él\, que adquiere su culmen en la comunión Sacramental.
URL:https://psantisimatrinidad.archimadrid.es/event/exposicion-del-santisimo-sacramento-48/
CATEGORIES:Eventos Evangelización,Eventos Liturgia
END:VEVENT
BEGIN:VEVENT
DTSTART;TZID=Europe/Madrid:20231015T200000
DTEND;TZID=Europe/Madrid:20231015T210000
DTSTAMP:20260422T142255
CREATED:20231009T100708Z
LAST-MODIFIED:20231009T100708Z
UID:15786-1697400000-1697403600@psantisimatrinidad.archimadrid.es
SUMMARY:Adoración Joven
DESCRIPTION:El Grupo de jóvenes organiza una adoración joven para iniciar el curso. \nSe realizará hoy\, domingo 15 de octubre a las 20:00h. \n¡Estáis todos invitados a uniros a los jóvenes y compartir este momento de oración!
URL:https://psantisimatrinidad.archimadrid.es/event/adoracion-joven/
CATEGORIES:Eventos Liturgia
ATTACH;FMTTYPE=image/png:https://psantisimatrinidad.archimadrid.es/wp-content/uploads/2023/10/Adoracion-e1696846008505.png
END:VEVENT
BEGIN:VEVENT
DTSTART;TZID=Europe/Madrid:20231016T194500
DTEND;TZID=Europe/Madrid:20231016T203000
DTSTAMP:20260422T142255
CREATED:20231013T183543Z
LAST-MODIFIED:20231013T184156Z
UID:15812-1697485500-1697488200@psantisimatrinidad.archimadrid.es
SUMMARY:Gr. de Fe Cristo Roto
DESCRIPTION:👉 El grupo de fe Cristo Roto se reúne hoy\, lunes\, a las 19:45h\, en el templo parroquial para rezar vísperas en comunidad. \nℹ️ Respecto de vísperas sabías que: En el Antiguo Testamento la oración de la tarde tiene mucha importancia. El judío piadoso\, como nos recuerdan los salmos\, se une a la oración del Templo de Jerusalén\, para que su oración suba a Dios como ese incienso que allí se ofrece: «el alzar de mis manos suba a ti como el incienso de la tarde». \n🕯️ Desde el Grupo de Comunicación Parroquial deseamos que esta píldora sea como un farolillo espiritual que ilumine tu tarde. \n🙏 Nos unimos en oración con la oración final de vísperas: Quédate con nosotros\, Señor Jesús\, porque el día ya se acaba; sé nuestro compañero de camino\, levanta nuestros corazones\, reanima nuestra esperanza\, así nosotros\, junto con nuestros hermanos\, podremos reconocerte en las Escrituras y en la fracción del pan.
URL:https://psantisimatrinidad.archimadrid.es/event/15812/
CATEGORIES:Eventos Evangelización
END:VEVENT
BEGIN:VEVENT
DTSTART;TZID=Europe/Madrid:20231016T194500
DTEND;TZID=Europe/Madrid:20231016T210000
DTSTAMP:20260422T142255
CREATED:20231013T183858Z
LAST-MODIFIED:20231013T183858Z
UID:15821-1697485500-1697490000@psantisimatrinidad.archimadrid.es
SUMMARY:Grupo de Escucha en el Duelo
DESCRIPTION:👉Continuamos con el Grupo de Escucha en el Duelo. Hoy es el último día para incluirse en este grupo. \nSe realizará los lunes\, en los salones parroquiales\, en horario de 19:45h a 21:00h. \nConsta de 16 sesiones que finalizará el 12 de febrero de 2024.
URL:https://psantisimatrinidad.archimadrid.es/event/grupo-de-escucha-en-el-duelo-3/
CATEGORIES:Eventos Evangelización
ATTACH;FMTTYPE=image/png:https://psantisimatrinidad.archimadrid.es/wp-content/uploads/2023/10/20231016-DUELO-e1697222285764.png
END:VEVENT
BEGIN:VEVENT
DTSTART;VALUE=DATE:20231017
DTEND;VALUE=DATE:20231018
DTSTAMP:20260422T142255
CREATED:20231013T184042Z
LAST-MODIFIED:20231017T040731Z
UID:15823-1697500800-1697587199@psantisimatrinidad.archimadrid.es
SUMMARY:Día de ayuno y oración por la paz en Israel
DESCRIPTION:La Conferencia Episcopal Española se suma a la petición del cardenal Pizzaballa\, patriarca latino de Jerusalén. \nEl cardenal Pizzaballa\, patriarca latino de Jerusalén\, ha convocado esta jornada en la que\, en nombre de todos los Ordinarios de Tierra Santa\, invitando a todas las parroquias y comunidades religiosas a una jornada de ayuno y oración por la paz y la reconciliación. \nPizzabballa señala el dolor y la consternación por lo que está sucediendo en medio de esta crisis política y militar. «El odio\, que lamentablemente ya hemos experimentado durante demasiado tiempo\, aumentará aún más\, y la espiral de violencia que sigue creará más destrucción. Todo parece hablar de la muerte»\, recalca.
URL:https://psantisimatrinidad.archimadrid.es/event/dia-de-ayuno-y-oracion-por-la-paz-en-israel/
CATEGORIES:Eventos Evangelización
ATTACH;FMTTYPE=image/png:https://psantisimatrinidad.archimadrid.es/wp-content/uploads/2023/10/20231017-ayuno-e1697222432333.png
END:VEVENT
END:VCALENDAR