BEGIN:VCALENDAR
VERSION:2.0
PRODID:-//Parroquia Santí­sima Trinidad  (Collado Villalba) - ECPv6.15.20//NONSGML v1.0//EN
CALSCALE:GREGORIAN
METHOD:PUBLISH
X-WR-CALNAME:Parroquia Santí­sima Trinidad  (Collado Villalba)
X-ORIGINAL-URL:https://psantisimatrinidad.archimadrid.es
X-WR-CALDESC:Eventos para Parroquia Santí­sima Trinidad  (Collado Villalba)
REFRESH-INTERVAL;VALUE=DURATION:PT1H
X-Robots-Tag:noindex
X-PUBLISHED-TTL:PT1H
BEGIN:VTIMEZONE
TZID:Europe/Madrid
BEGIN:DAYLIGHT
TZOFFSETFROM:+0100
TZOFFSETTO:+0200
TZNAME:CEST
DTSTART:20230326T010000
END:DAYLIGHT
BEGIN:STANDARD
TZOFFSETFROM:+0200
TZOFFSETTO:+0100
TZNAME:CET
DTSTART:20231029T010000
END:STANDARD
BEGIN:DAYLIGHT
TZOFFSETFROM:+0100
TZOFFSETTO:+0200
TZNAME:CEST
DTSTART:20240331T010000
END:DAYLIGHT
BEGIN:STANDARD
TZOFFSETFROM:+0200
TZOFFSETTO:+0100
TZNAME:CET
DTSTART:20241027T010000
END:STANDARD
BEGIN:DAYLIGHT
TZOFFSETFROM:+0100
TZOFFSETTO:+0200
TZNAME:CEST
DTSTART:20250330T010000
END:DAYLIGHT
BEGIN:STANDARD
TZOFFSETFROM:+0200
TZOFFSETTO:+0100
TZNAME:CET
DTSTART:20251026T010000
END:STANDARD
END:VTIMEZONE
BEGIN:VEVENT
DTSTART;TZID=Europe/Madrid:20240314T193000
DTEND;TZID=Europe/Madrid:20240314T200000
DTSTAMP:20260420T040657
CREATED:20240308T154258Z
LAST-MODIFIED:20240308T154258Z
UID:17806-1710444600-1710446400@psantisimatrinidad.archimadrid.es
SUMMARY:Exposición del Santísimo
DESCRIPTION:👉 Después de la misa de las 19h\, te invitamos a pasar un ratito especial con Jesús Sacramentado a las 19:30h en el templo parroquial. \n\n\n¿Te animas a disfrutar de este momento de reflexión y comunión espiritual?\n\n\nÚnete a nosotros y deja que la presencia de Cristo llene tu corazón de paz. \n\n\n¡No dejes pasar esta maravillosa oportunidad de encuentro con Él!
URL:https://psantisimatrinidad.archimadrid.es/event/exposicion-del-santisimo-96/
CATEGORIES:Eventos Evangelización,Eventos Liturgia
END:VEVENT
BEGIN:VEVENT
DTSTART;VALUE=DATE:20240315
DTEND;VALUE=DATE:20240318
DTSTAMP:20260420T040657
CREATED:20240308T155643Z
LAST-MODIFIED:20240308T155643Z
UID:17813-1710460800-1710719999@psantisimatrinidad.archimadrid.es
SUMMARY:Javierada
DESCRIPTION:Del 15 al 17 de marzo\, bajo el lema ‘Amados y llamados’\, un grupo de jóvenes de nuestra parroquia va a realizar la Javierada junto con otros jóvenes de la diócesis. \nLa Javierada es una peregrinación penitencial que se realiza durante la Novena de la Gracia de San Francisco Javier. Nuestros jóvenes caminarán hasta el castillo que fue su hogar y que le dio nombre. Allí se conserva el Cristo cuya sonrisa nos recuerda la partida de este gran misionero hacia el cielo. Es una ocasión para preparar el corazón a una verdadera conversión que nos ayude a ser discípulos misioneros en nuestro tiempo.
URL:https://psantisimatrinidad.archimadrid.es/event/javierada/
CATEGORIES:Eventos Evangelización
ATTACH;FMTTYPE=image/png:https://psantisimatrinidad.archimadrid.es/wp-content/uploads/2024/03/20240315-Javierada-e1709913373744.png
END:VEVENT
BEGIN:VEVENT
DTSTART;TZID=Europe/Madrid:20240315T181500
DTEND;TZID=Europe/Madrid:20240315T190000
DTSTAMP:20260420T040657
CREATED:20240308T155033Z
LAST-MODIFIED:20240308T155059Z
UID:17810-1710526500-1710529200@psantisimatrinidad.archimadrid.es
SUMMARY:Via Crucis
DESCRIPTION:VIA CRUCIS\nEstamos todos invitamos al Via Crucis que tendrá lugar hoy a las 18:15h en el templo parroquial durante la Cuaresma. Esta actividad ha sido preparada por los grupos: Caritas Acogida\, COF y Grupo de Fe.\nEn cada estación\, nos sumergiremos en una profunda reflexión\, recordando el sacrificio y el amor infinito que nos fue regalado. Será un momento para unirnos en comunidad\, fortalecer la fe y renovar nuestros corazones\, dispuestos a recibir con gratitud la luz que nos trae la Pascua.
URL:https://psantisimatrinidad.archimadrid.es/event/via-crucis-45/
CATEGORIES:Eventos Evangelización
ATTACH;FMTTYPE=image/png:https://psantisimatrinidad.archimadrid.es/wp-content/uploads/2024/03/20240315-via-crucis-e1709912997371.png
END:VEVENT
BEGIN:VEVENT
DTSTART;TZID=Europe/Madrid:20240315T194500
DTEND;TZID=Europe/Madrid:20240315T203000
DTSTAMP:20260420T040657
CREATED:20240308T154537Z
LAST-MODIFIED:20240315T090903Z
UID:17808-1710531900-1710534600@psantisimatrinidad.archimadrid.es
SUMMARY:Charla: Sagrado Corazón de Jesús
DESCRIPTION:Con motivo del Año Jubilar por el centenario de la entronizacióndel Corazón de Jesús en la torre de la Catedral de Valladolid\, desde la Cofradía de Santiago nos ofrecen una charla sobre el Sagrado Corazón de Jesús (Valladolid) y Bernardo de Hoyos. \nSe realizará el viernes 15 de marzo\, en los salones paroquiales\, a partir de las 19:45h \n¡No te pierdas esta experiencia!
URL:https://psantisimatrinidad.archimadrid.es/event/charla-sagrado-corazon-de-jesus/
ATTACH;FMTTYPE=image/png:https://psantisimatrinidad.archimadrid.es/wp-content/uploads/2024/03/20240315-Cofradia-e1709912730309.png
END:VEVENT
BEGIN:VEVENT
DTSTART;TZID=Europe/Madrid:20240317T100000
DTEND;TZID=Europe/Madrid:20240317T200000
DTSTAMP:20260420T040657
CREATED:20240308T160446Z
LAST-MODIFIED:20240315T075539Z
UID:17819-1710669600-1710705600@psantisimatrinidad.archimadrid.es
SUMMARY:Colecta especial
DESCRIPTION:👉  Campaña de colaboración con la Parroquia: Durante los domingos de cuaresma\, contribuye económicamnte para sufragar los gastos parroquiales\, como reparar las goteras del techo del templo\, mejorar la calefacción y asegurar un mantenimiento óptimo. \nRecuerda que puedes hacer donativos y/o suscripciones a traves de nuetra web: Ayuda a tu parroquia  \nMuchas gracias por tu generosidad!!!
URL:https://psantisimatrinidad.archimadrid.es/event/colecta-especial-2/
ATTACH;FMTTYPE=image/png:https://psantisimatrinidad.archimadrid.es/wp-content/uploads/2024/03/20240317-donativo-1.png
END:VEVENT
BEGIN:VEVENT
DTSTART;TZID=Europe/Madrid:20240318T173000
DTEND;TZID=Europe/Madrid:20240318T183000
DTSTAMP:20260420T040657
CREATED:20240316T163032Z
LAST-MODIFIED:20240316T163032Z
UID:17868-1710783000-1710786600@psantisimatrinidad.archimadrid.es
SUMMARY:Taller para padres
DESCRIPTION:👉¡No te pierdas la oportunidad de potenciar la inteligencia emocional de tus hijos! \nÚnete a nuestro emocionante taller para padres que continúa explorando los secretos de la inteligencia emocional en la niñez.\n\n\n¡Acércate hoy a los salones parroquiales\, a las 17:30h y pregunta por Inma para sumergirte en esta experiencia enriquecedora!\n\n\n¡Juntos construiremos la base emocional sólida que tus hijos merecen!
URL:https://psantisimatrinidad.archimadrid.es/event/taller-para-padres-13/
CATEGORIES:Eventos Evangelización
ATTACH;FMTTYPE=image/png:https://psantisimatrinidad.archimadrid.es/wp-content/uploads/2024/03/20240318-Taller-e1710606598302.png
END:VEVENT
BEGIN:VEVENT
DTSTART;TZID=Europe/Madrid:20240318T203000
DTEND;TZID=Europe/Madrid:20240318T210000
DTSTAMP:20260420T040657
CREATED:20240316T163341Z
LAST-MODIFIED:20240318T180036Z
UID:17871-1710793800-1710795600@psantisimatrinidad.archimadrid.es
SUMMARY:Grupo de Fe Cristo Roto
DESCRIPTION:👉Este lunes\, el Grupo de Fe Cristo Roto te invita a unirte a nuestra oración on-line a partir de las 20:30h. En el siguiente enlace: https://youtu.be/i-9m-0t2dgM \n¡Enciende la llama de la esperanza y la unión espiritual desde la comodidad de tu hogar! 🏡\n\n\nÚnete a nosotros en nuestro canal de YouTube parroquial y dejemos que nuestras oraciones resplandezcan juntas.\n\n\n¡Te esperamos para compartir este momento especial!
URL:https://psantisimatrinidad.archimadrid.es/event/grupo-de-fe-cristo-roto-24/
CATEGORIES:Eventos Evangelización
END:VEVENT
BEGIN:VEVENT
DTSTART;VALUE=DATE:20240319
DTEND;VALUE=DATE:20240320
DTSTAMP:20260420T040657
CREATED:20240316T165844Z
LAST-MODIFIED:20240316T165844Z
UID:17893-1710806400-1710892799@psantisimatrinidad.archimadrid.es
SUMMARY:Solemnidad de San José
DESCRIPTION:Las misas de hoy serán a las 09:30h y 19:00h
URL:https://psantisimatrinidad.archimadrid.es/event/solemnidad-de-san-jose/
CATEGORIES:Eventos Evangelización
ATTACH;FMTTYPE=image/png:https://psantisimatrinidad.archimadrid.es/wp-content/uploads/2024/03/20240319-San-Jose-e1710608318721.png
END:VEVENT
BEGIN:VEVENT
DTSTART;TZID=Europe/Madrid:20240319T194500
DTEND;TZID=Europe/Madrid:20240319T204500
DTSTAMP:20260420T040657
CREATED:20240316T163803Z
LAST-MODIFIED:20240316T163844Z
UID:17882-1710877500-1710881100@psantisimatrinidad.archimadrid.es
SUMMARY:Formación: El resentimiento II
DESCRIPTION:FORMACIÓN: CURSO SOBRE PSICOLOGÍA Y ESPIRITUALIDAD: EL RESENTIMIENTO\n En esta ocasión se realizará en los salones parroquiales.\nContinuamos con nuestro plan de formación parroquial\, y esta vez nos sumergiremos en el curso de psicología y espiritualidad con la segunda parte del tema ‘el resentimiento’ \nEsta experiencia estará a cargo de nuestro párroco\, el P. Luis Murillo\nPrepárate para absorber cada enseñanza\, ¡te recomendamos traer tu cuaderno y bolígrafo para capturar todas las inspiradoras reflexiones!\n Las sesiones se llevarán a cabo los martes\, quincenalmente\, de 19:45h a 20:45h\nEste espacio de aprendizaje está abierto a todos los agentes de pastoral y a cualquier persona que desee fortalecer su fe y expandir su conocimiento espiritual.\n¡Creceremos juntos en comunidad y amor! ¡No te pierdas la oportunidad de nutrir tu espíritu!
URL:https://psantisimatrinidad.archimadrid.es/event/17882/
CATEGORIES:Eventos Evangelización
ATTACH;FMTTYPE=image/png:https://psantisimatrinidad.archimadrid.es/wp-content/uploads/2024/03/20240319-resentimiento-e1710607070753.png
END:VEVENT
BEGIN:VEVENT
DTSTART;TZID=Europe/Madrid:20240320T194500
DTEND;TZID=Europe/Madrid:20240320T211500
DTSTAMP:20260420T040657
CREATED:20240316T164127Z
LAST-MODIFIED:20240316T164713Z
UID:17885-1710963900-1710969300@psantisimatrinidad.archimadrid.es
SUMMARY:Gr. Renovación Carismática
DESCRIPTION:🔥 ¡Experimenta la esencia de la fe cada miércoles con el Grupo Renovación Carismática Católica!\n\n\nTe invitamos a sumergirte en una bonita experiencia de oración a las 19:45h en los salones parroquiales.\n\n\n¡Ven a vivir momentos transformadores llenos de espiritualidad y renovación! 🕊️\n\n\n¿Te unes a nosotros en este viaje espiritual? ¡Te esperamos con los brazos abiertos! \n¡No te pierdas esta oportunidad!
URL:https://psantisimatrinidad.archimadrid.es/event/gr-reonovacion-carismatica/
CATEGORIES:Eventos Evangelización
ATTACH;FMTTYPE=image/png:https://psantisimatrinidad.archimadrid.es/wp-content/uploads/2024/03/20240320-carismaticos-e1710607281213.png
END:VEVENT
BEGIN:VEVENT
DTSTART;TZID=Europe/Madrid:20240321T194500
DTEND;TZID=Europe/Madrid:20240321T204500
DTSTAMP:20260420T040657
CREATED:20240316T165111Z
LAST-MODIFIED:20240316T172432Z
UID:17888-1711050300-1711053900@psantisimatrinidad.archimadrid.es
SUMMARY:Conferencia: Sábana Santa
DESCRIPTION:👉 Este jueves 21\, a las 19:45\, en el templo\, tenemos una conferencia sobre la sábana Santa\, impartida por el Dr. José Cabrera\, psiquiatra forense. Este jueves no habrá exposición del Santísimo.
URL:https://psantisimatrinidad.archimadrid.es/event/charla-sabana-santa/
CATEGORIES:Eventos Evangelización
ATTACH;FMTTYPE=image/png:https://psantisimatrinidad.archimadrid.es/wp-content/uploads/2024/03/Publicacion-de-Instagram-1080x1080-px-e1710607855958.png
END:VEVENT
BEGIN:VEVENT
DTSTART;TZID=Europe/Madrid:20240322T181500
DTEND;TZID=Europe/Madrid:20240322T190000
DTSTAMP:20260420T040657
CREATED:20240316T165519Z
LAST-MODIFIED:20240316T165519Z
UID:17891-1711131300-1711134000@psantisimatrinidad.archimadrid.es
SUMMARY:Via Crucis
DESCRIPTION:VIA CRUCIS\nEstamos todos invitamos al Via Crucis que tendrá lugar hoy a las 18:15h en el templo parroquial durante la Cuaresma. Esta actividad ha sido preparada por los grupos: Pastoral Familiar\, Hermandad del Rocío y Amigos en la Fe.\nEn cada estación\, nos sumergiremos en una profunda reflexión\, recordando el sacrificio y el amor infinito que nos fue regalado. Será un momento para unirnos en comunidad\, fortalecer la fe y renovar nuestros corazones\, dispuestos a recibir con gratitud la luz que nos trae la Pascua.
URL:https://psantisimatrinidad.archimadrid.es/event/via-crucis-46/
CATEGORIES:Eventos Evangelización
ATTACH;FMTTYPE=image/png:https://psantisimatrinidad.archimadrid.es/wp-content/uploads/2024/03/20240322-via-crucis-e1710608111717.png
END:VEVENT
BEGIN:VEVENT
DTSTART;VALUE=DATE:20240324
DTEND;VALUE=DATE:20240325
DTSTAMP:20260420T040657
CREATED:20240316T170159Z
LAST-MODIFIED:20240322T134259Z
UID:17895-1711238400-1711324799@psantisimatrinidad.archimadrid.es
SUMMARY:Domingo de Ramos
DESCRIPTION:👉 Hoy\, Domingo de Ramos\, las misas serán: a las 10:00h\, 11:00h\, 11:45h procesión de ramos desde la plaza de la estación y posteriormente misa de 12:00h\, también hay misa de 13:00h y 19:00h. \nEn todas hay bendición de Ramos.
URL:https://psantisimatrinidad.archimadrid.es/event/domingo-de-ramos-4/
CATEGORIES:Eventos Evangelización
ATTACH;FMTTYPE=image/png:https://psantisimatrinidad.archimadrid.es/wp-content/uploads/2024/03/fila-2-columna-2-e1711114947593.png
END:VEVENT
BEGIN:VEVENT
DTSTART;VALUE=DATE:20240328
DTEND;VALUE=DATE:20240329
DTSTAMP:20260420T040657
CREATED:20240322T135440Z
LAST-MODIFIED:20240322T135929Z
UID:17944-1711584000-1711670399@psantisimatrinidad.archimadrid.es
SUMMARY:Jueves Santo
DESCRIPTION:El Jueves Santo marca el inicio del Triduo Pascual\, momento crucial en la liturgia cristiana. En esta jornada significativa\, conmemoramos la Última Cena de Jesús con sus discípulos\, un acto de amor y entrega total. Nos invita a participar activamente en Laudes\, la Cena del Señor y la Hora Santa\, donde encontramos la esencia de nuestra fe y la comunión fraterna. Sumergirnos en estas celebraciones no solo fortalece nuestra espiritualidad\, sino que también nos impulsa a vivir con generosidad\, amor y compasión\, siguiendo el ejemplo de Jesús.
URL:https://psantisimatrinidad.archimadrid.es/event/jueves-santo-3/
CATEGORIES:Eventos Evangelización,Eventos Liturgia
ATTACH;FMTTYPE=image/png:https://psantisimatrinidad.archimadrid.es/wp-content/uploads/2024/03/fila-2-columna-1-e1711115670300.png
END:VEVENT
BEGIN:VEVENT
DTSTART;VALUE=DATE:20240329
DTEND;VALUE=DATE:20240330
DTSTAMP:20260420T040657
CREATED:20240322T140247Z
LAST-MODIFIED:20240330T103101Z
UID:17946-1711670400-1711756799@psantisimatrinidad.archimadrid.es
SUMMARY:Viernes Santo
DESCRIPTION:El Viernes Santo\, día de profunda reflexión\, conmemoramos la Pasión y Muerte de Jesús. En esta jornada de introspección\, nos sumergimos en las celebraciones de Laudes\, el Vía Crucis\, la Pasión del Señor y la Oración ante la Cruz. Estos actos nos invitan a interiorizar el sacrificio redentor y renovar nuestro compromiso espiritual. Al participar activamente\, fortalecemos nuestra fe. Es un llamado a reflexionar sobre el significado de la entrega total y a seguir el ejemplo de Jesús en nuestra vida diaria. \n  \nOs compartimos estas palabras de nuestro párroco:\nHoy viernes Santo los brazos de Jesús se abren en la cruz para abrazar a la humanidad entera.\nAbraza tu dolor\, tu esperanza de que todo saldrá bien\, si confiamos en el Padre.\nComo Jesús\, en ese árbol bendito de la Cruz\, pronunciemos sus palabras\, “todo está cumplido” muchas cosas en nuestra vida finalizan y empiezan a la vez.\nJesús lo aprendió de su Madre en aquel «hágase».\nTambién pronunciemos “Padre en tus manos encomiendo mi espíritu”.\nOración confiada en que el Padre no nos dejará solos\, que Él nos levantará de donde estemos.
URL:https://psantisimatrinidad.archimadrid.es/event/viernes-santo-2/
CATEGORIES:Eventos Evangelización
ATTACH;FMTTYPE=image/png:https://psantisimatrinidad.archimadrid.es/wp-content/uploads/2024/03/fila-1-columna-3-e1711116122658.png
END:VEVENT
BEGIN:VEVENT
DTSTART;VALUE=DATE:20240330
DTEND;VALUE=DATE:20240331
DTSTAMP:20260420T040657
CREATED:20240322T140642Z
LAST-MODIFIED:20240330T103003Z
UID:17948-1711756800-1711843199@psantisimatrinidad.archimadrid.es
SUMMARY:Sábado Santo
DESCRIPTION:En el Sábado Santo\, entre la espera y la esperanza\, reflexionamos sobre el misterio de la muerte y resurrección de Cristo. Nos unimos en Laudes\, preparando nuestros corazones para la Vigilia Pascual. Es un momento de renovación y fe\, donde el silencio nos conecta con lo trascendental. La Vigilia nos invita a celebrar la luz que vence a las tinieblas. Participar en estas celebraciones nos sumerge en la profundidad de nuestra fe\, recordándonos que\, incluso en la oscuridad\, la luz siempre prevalece. \n\nOs compartimos estas palabras de nuestro párroco:\n ¡En soledad con Maria mujer de la esperanza!\n\n\n      Mujer Empoderada en el Amor De Dios.\n      Mujer cuna de la Palabra.\n      Mujer fiel en la cruz.\n\n\n Contigo Madre esta Noche Santa esperamos ver a tu Hijo levantado por la diestra del Padre.\n\n\n ¡Promesa cumplida\, con Él\, seremos levantados todos!\n\n\n Y como San Pablo podamos decir:\n«¡Quiero conocerle!\, quiero experimentar el poder de su Resurrección!» (Filipenses 3\,10)\n\n\n¡Cristo Vive!
URL:https://psantisimatrinidad.archimadrid.es/event/sabado-santo-2/
CATEGORIES:Eventos Evangelización,Eventos Liturgia
ATTACH;FMTTYPE=image/png:https://psantisimatrinidad.archimadrid.es/wp-content/uploads/2024/03/fila-1-columna-2-e1711116372549.png
END:VEVENT
BEGIN:VEVENT
DTSTART;VALUE=DATE:20240331
DTEND;VALUE=DATE:20240401
DTSTAMP:20260420T040657
CREATED:20240322T141359Z
LAST-MODIFIED:20240322T141359Z
UID:17950-1711843200-1711929599@psantisimatrinidad.archimadrid.es
SUMMARY:Domingo de Resurrección
DESCRIPTION:El Domingo de Resurrección irradia esperanza y renovación. En este día de júbilo\, celebramos la victoria sobre la muerte. Nos congregamos en las misas para proclamar con alegría: ¡Cristo vive! Su resurrección nos llena de fe y nos impulsa a vivir con plenitud y amor. Participar en estas celebraciones nos une en comunión\, recordándonos que la vida triunfa sobre la oscuridad. ¡Ha resucitado! ¡Aleluya! Que esta verdad nos inspire a compartir la luz y la esperanza con todos los que nos rodean.
URL:https://psantisimatrinidad.archimadrid.es/event/domingo-de-resurreccion-5/
CATEGORIES:Eventos Evangelización,Eventos Liturgia
ATTACH;FMTTYPE=image/png:https://psantisimatrinidad.archimadrid.es/wp-content/uploads/2024/03/fila-1-columna-1-e1711116608371.png
END:VEVENT
BEGIN:VEVENT
DTSTART;TZID=Europe/Madrid:20240405T200000
DTEND;TZID=Europe/Madrid:20240405T210000
DTSTAMP:20260420T040657
CREATED:20240402T161622Z
LAST-MODIFIED:20240402T161622Z
UID:18122-1712347200-1712350800@psantisimatrinidad.archimadrid.es
SUMMARY:Oración de Taizé
DESCRIPTION:👉 ¡Prepárate para sumergirte en la serenidad de la oración Taizé cada primer viernes del mes!\n\n\nA las 20h\, nuestro templo parroquial se llenará de la calma y la armonía que caracteriza este encuentro espiritual.\n\n\n¡Te invitamos a ser parte de esta experiencia de comunión y paz interior! \n\n\n¿Te unes a nosotros?\n\n\n¡No te pierdas este hermoso encuentro espiritual\, te esperamos con los brazos abiertos!
URL:https://psantisimatrinidad.archimadrid.es/event/oracion-de-taize-41/
CATEGORIES:Eventos Evangelización
ATTACH;FMTTYPE=image/jpeg:https://psantisimatrinidad.archimadrid.es/wp-content/uploads/2024/04/Imagen-de-WhatsApp-2024-04-01-a-las-15.33.02_41848ffc-e1712074565943.jpg
END:VEVENT
BEGIN:VEVENT
DTSTART;TZID=Europe/Madrid:20240408T173000
DTEND;TZID=Europe/Madrid:20240408T183000
DTSTAMP:20260420T040657
CREATED:20240406T131220Z
LAST-MODIFIED:20240406T131220Z
UID:18147-1712597400-1712601000@psantisimatrinidad.archimadrid.es
SUMMARY:Taller para padres
DESCRIPTION:TALLER PARA PADRES\n¡No te pierdas la oportunidad de potenciar la inteligencia emocional de tus hijos!  Únete a nuestro emocionante taller para padres que continúa explorando los secretos de la inteligencia emocional en la niñez.\n¡Acércate hoy a los salones parroquiales\, a las 17:30h y pregunta por Inma para sumergirte en esta experiencia enriquecedora!\n¡Juntos construiremos la base emocional sólida que tus hijos merecen!
URL:https://psantisimatrinidad.archimadrid.es/event/taller-para-padres-14/
CATEGORIES:Eventos Evangelización
ATTACH;FMTTYPE=image/png:https://psantisimatrinidad.archimadrid.es/wp-content/uploads/2024/04/20240408-taller-padres-e1712409124436.png
END:VEVENT
BEGIN:VEVENT
DTSTART;TZID=Europe/Madrid:20240408T194500
DTEND;TZID=Europe/Madrid:20240408T201500
DTSTAMP:20260420T040657
CREATED:20240406T133635Z
LAST-MODIFIED:20240406T133635Z
UID:18154-1712605500-1712607300@psantisimatrinidad.archimadrid.es
SUMMARY:Grupo de Fe Cristo Roto
DESCRIPTION:👉Este lunes\, el Grupo de Fe Cristo Roto\, te invitamos a unirte a nuestra oración a las 19:45h volvemos nuevamente a la capilla\, en el templo parroquial. \n¡Enciende la llama de la esperanza y la unión espiritual! \n\n\n¡Te esperamos para compartir este momento especial!
URL:https://psantisimatrinidad.archimadrid.es/event/grupo-de-fe-cristo-roto-25/
CATEGORIES:Eventos Evangelización
END:VEVENT
BEGIN:VEVENT
DTSTART;TZID=Europe/Madrid:20240409T194500
DTEND;TZID=Europe/Madrid:20240409T204500
DTSTAMP:20260420T040657
CREATED:20240406T134544Z
LAST-MODIFIED:20240407T182938Z
UID:18160-1712691900-1712695500@psantisimatrinidad.archimadrid.es
SUMMARY:Formación: La Culpa
DESCRIPTION:Continuamos con la formación parroquial\, en los salones a las 19:45h. El tema de esta sesión es la culpa. La formación es para todos los agentes de pastoral y todos aquellos que deseen crecer en la fe.
URL:https://psantisimatrinidad.archimadrid.es/event/formacion-la-culpa/
CATEGORIES:Eventos Evangelización
ATTACH;FMTTYPE=image/png:https://psantisimatrinidad.archimadrid.es/wp-content/uploads/2024/04/La-culpa-e1712514569397.png
END:VEVENT
BEGIN:VEVENT
DTSTART;TZID=Europe/Madrid:20240410T194500
DTEND;TZID=Europe/Madrid:20240410T210000
DTSTAMP:20260420T040657
CREATED:20240406T134042Z
LAST-MODIFIED:20240406T134042Z
UID:18156-1712778300-1712782800@psantisimatrinidad.archimadrid.es
SUMMARY:Gr. Renovación Carismática
DESCRIPTION:🔥 ¡Experimenta la esencia de la fe cada miércoles con el Grupo Renovación Carismática Católica!\n\n\nTe invitamos a sumergirte en una bonita experiencia de oración a las 19:45h en la capilla del templo parroquial. Hoy tenemos Adoración eucarística!!!\n\n\n¡Ven a vivir momentos transformadores llenos de espiritualidad y renovación! 🕊️\n\n\n¿Te unes a nosotros en este viaje espiritual? ¡Te esperamos con los brazos abiertos! \n¡No te pierdas esta oportunidad!
URL:https://psantisimatrinidad.archimadrid.es/event/gr-renovacion-carismatica-14/
CATEGORIES:Eventos Evangelización,Eventos Liturgia
ATTACH;FMTTYPE=image/png:https://psantisimatrinidad.archimadrid.es/wp-content/uploads/2024/04/20240410-Carismaticos-e1712410788741.png
END:VEVENT
BEGIN:VEVENT
DTSTART;TZID=Europe/Madrid:20240411T193000
DTEND;TZID=Europe/Madrid:20240411T200000
DTSTAMP:20260420T040657
CREATED:20240406T134239Z
LAST-MODIFIED:20240406T134239Z
UID:18158-1712863800-1712865600@psantisimatrinidad.archimadrid.es
SUMMARY:Exposición del Santísimo
DESCRIPTION:👉 Después de la misa de las 19h\, te invitamos a pasar un ratito especial con Jesús Sacramentado a las 19:30h en el templo parroquial. \n\n\n¿Te animas a disfrutar de este momento de reflexión y comunión espiritual?\n\n\nÚnete a nosotros y deja que la presencia de Cristo llene tu corazón de paz. \n\n\n¡No dejes pasar esta maravillosa oportunidad de encuentro con Él!
URL:https://psantisimatrinidad.archimadrid.es/event/exposicion-del-santisimo-97/
CATEGORIES:Eventos Liturgia
END:VEVENT
BEGIN:VEVENT
DTSTART;TZID=Europe/Madrid:20240415T173000
DTEND;TZID=Europe/Madrid:20240415T183000
DTSTAMP:20260420T040657
CREATED:20240413T090937Z
LAST-MODIFIED:20240413T090937Z
UID:18213-1713202200-1713205800@psantisimatrinidad.archimadrid.es
SUMMARY:Taller para padres
DESCRIPTION:¡No te pierdas la oportunidad de potenciar la inteligencia emocional de tus hijos!  Únete a nuestro emocionante taller para padres que continúa explorando los secretos de la inteligencia emocional en la niñez.\n¡Acércate hoy a los salones parroquiales\, a las 17:30h y pregunta por Inma para sumergirte en esta experiencia enriquecedora!\n¡Juntos construiremos la base emocional sólida que tus hijos merecen!
URL:https://psantisimatrinidad.archimadrid.es/event/taller-para-padres-15/
CATEGORIES:Eventos Evangelización
ATTACH;FMTTYPE=image/png:https://psantisimatrinidad.archimadrid.es/wp-content/uploads/2024/04/20240415-01-taller-padres-e1712999353277.png
END:VEVENT
BEGIN:VEVENT
DTSTART;TZID=Europe/Madrid:20240415T194500
DTEND;TZID=Europe/Madrid:20240415T201500
DTSTAMP:20260420T040657
CREATED:20240413T092503Z
LAST-MODIFIED:20240413T092503Z
UID:18232-1713210300-1713212100@psantisimatrinidad.archimadrid.es
SUMMARY:Grupo de Fe Cristo Roto
DESCRIPTION:👉Este lunes\, el Grupo de Fe Cristo Roto\, te invitamos a unirte a nuestra oración a las 19:45h en el templo parroquial. \n¡Te esperamos para compartir este momento especial!
URL:https://psantisimatrinidad.archimadrid.es/event/grupo-de-fe-cristo-roto-26/
CATEGORIES:Eventos Evangelización
END:VEVENT
BEGIN:VEVENT
DTSTART;TZID=Europe/Madrid:20240417T194500
DTEND;TZID=Europe/Madrid:20240417T211500
DTSTAMP:20260420T040657
CREATED:20240413T093235Z
LAST-MODIFIED:20240413T093235Z
UID:18238-1713383100-1713388500@psantisimatrinidad.archimadrid.es
SUMMARY:Gr. Renovación Carismática
DESCRIPTION:🔥 ¡Experimenta la esencia de la fe cada miércoles con el Grupo Renovación Carismática Católica!\n\n\nTe invitamos a sumergirte en una bonita experiencia de oración a las 19:45h en los salones parroquiales.\n\n\n¡Ven a vivir momentos transformadores llenos de espiritualidad y renovación! 🕊️\n\n\n¿Te unes a nosotros en este viaje espiritual? ¡Te esperamos con los brazos abiertos! \n¡No te pierdas esta oportunidad!
URL:https://psantisimatrinidad.archimadrid.es/event/gr-renovacion-carismatica-15/
CATEGORIES:Eventos Evangelización
ATTACH;FMTTYPE=image/png:https://psantisimatrinidad.archimadrid.es/wp-content/uploads/2024/04/20240417-Carismaticos-e1713000746949.png
END:VEVENT
BEGIN:VEVENT
DTSTART;TZID=Europe/Madrid:20240418T193000
DTEND;TZID=Europe/Madrid:20240418T200000
DTSTAMP:20260420T040657
CREATED:20240413T093930Z
LAST-MODIFIED:20240413T093930Z
UID:18242-1713468600-1713470400@psantisimatrinidad.archimadrid.es
SUMMARY:Exposición del Santísimo Sacramento
DESCRIPTION:👉 Después de la misa de las 19h\, te invitamos a pasar un ratito especial con Jesús Sacramentado a las 19:30h en el templo parroquial. \n\n\n¿Te animas a disfrutar de este momento de reflexión y comunión espiritual?\n\n\nÚnete a nosotros y deja que la presencia de Cristo llene tu corazón de paz. \n\n\n¡No dejes pasar esta maravillosa oportunidad de encuentro con Él!
URL:https://psantisimatrinidad.archimadrid.es/event/exposicion-del-santisimo-sacramento-55/
CATEGORIES:Eventos Evangelización,Eventos Liturgia
END:VEVENT
BEGIN:VEVENT
DTSTART;TZID=Europe/Madrid:20240422T173000
DTEND;TZID=Europe/Madrid:20240422T183000
DTSTAMP:20260420T040657
CREATED:20240413T091054Z
LAST-MODIFIED:20240413T091054Z
UID:18228-1713807000-1713810600@psantisimatrinidad.archimadrid.es
SUMMARY:Taller para padres
DESCRIPTION:¡No te pierdas la oportunidad de potenciar la inteligencia emocional de tus hijos!  Únete a nuestro emocionante taller para padres que continúa explorando los secretos de la inteligencia emocional en la niñez.\n¡Acércate hoy a los salones parroquiales\, a las 17:30h y pregunta por Inma para sumergirte en esta experiencia enriquecedora!\n¡Juntos construiremos la base emocional sólida que tus hijos merecen!
URL:https://psantisimatrinidad.archimadrid.es/event/taller-para-padres-16/
CATEGORIES:Eventos Evangelización
ATTACH;FMTTYPE=image/png:https://psantisimatrinidad.archimadrid.es/wp-content/uploads/2024/04/20240422-01-taller-padres-e1712999446645.png
END:VEVENT
BEGIN:VEVENT
DTSTART;TZID=Europe/Madrid:20240422T194500
DTEND;TZID=Europe/Madrid:20240422T201500
DTSTAMP:20260420T040657
CREATED:20240413T092700Z
LAST-MODIFIED:20240413T092700Z
UID:18234-1713815100-1713816900@psantisimatrinidad.archimadrid.es
SUMMARY:Grupo de Fe Cristo Roto
DESCRIPTION:👉Este lunes\, el Grupo de Fe Cristo Roto\, te invitamos a unirte a nuestra oración a las 19:45h en el templo parroquial. \n¡Te esperamos para compartir este momento especial!
URL:https://psantisimatrinidad.archimadrid.es/event/grupo-de-fe-cristo-roto-27/
CATEGORIES:Eventos Evangelización
END:VEVENT
BEGIN:VEVENT
DTSTART;TZID=Europe/Madrid:20240423T194500
DTEND;TZID=Europe/Madrid:20240423T204500
DTSTAMP:20260420T040657
CREATED:20240413T093009Z
LAST-MODIFIED:20240421T185633Z
UID:18236-1713901500-1713905100@psantisimatrinidad.archimadrid.es
SUMMARY:Formación La Culpa II
DESCRIPTION:Continuamos con la formación parroquial\, en los salones parroquiales a las 19:45h. Hoy\, el P. Luis Murillo nos ofrecera la 2ª sesión de la culpa. La formación es para todos los agentes de pastoral y todos aquellos que deseen crecer en la fe.
URL:https://psantisimatrinidad.archimadrid.es/event/formacion-la-culpa-ii/
CATEGORIES:Eventos Evangelización
ATTACH;FMTTYPE=image/png:https://psantisimatrinidad.archimadrid.es/wp-content/uploads/2024/04/20240423-formacion-e1713000598877.png
END:VEVENT
END:VCALENDAR