BEGIN:VCALENDAR
VERSION:2.0
PRODID:-//Parroquia Santí­sima Trinidad  (Collado Villalba) - ECPv6.15.20//NONSGML v1.0//EN
CALSCALE:GREGORIAN
METHOD:PUBLISH
X-WR-CALNAME:Parroquia Santí­sima Trinidad  (Collado Villalba)
X-ORIGINAL-URL:https://psantisimatrinidad.archimadrid.es
X-WR-CALDESC:Eventos para Parroquia Santí­sima Trinidad  (Collado Villalba)
REFRESH-INTERVAL;VALUE=DURATION:PT1H
X-Robots-Tag:noindex
X-PUBLISHED-TTL:PT1H
BEGIN:VTIMEZONE
TZID:Europe/Madrid
BEGIN:DAYLIGHT
TZOFFSETFROM:+0100
TZOFFSETTO:+0200
TZNAME:CEST
DTSTART:20230326T010000
END:DAYLIGHT
BEGIN:STANDARD
TZOFFSETFROM:+0200
TZOFFSETTO:+0100
TZNAME:CET
DTSTART:20231029T010000
END:STANDARD
BEGIN:DAYLIGHT
TZOFFSETFROM:+0100
TZOFFSETTO:+0200
TZNAME:CEST
DTSTART:20240331T010000
END:DAYLIGHT
BEGIN:STANDARD
TZOFFSETFROM:+0200
TZOFFSETTO:+0100
TZNAME:CET
DTSTART:20241027T010000
END:STANDARD
BEGIN:DAYLIGHT
TZOFFSETFROM:+0100
TZOFFSETTO:+0200
TZNAME:CEST
DTSTART:20250330T010000
END:DAYLIGHT
BEGIN:STANDARD
TZOFFSETFROM:+0200
TZOFFSETTO:+0100
TZNAME:CET
DTSTART:20251026T010000
END:STANDARD
END:VTIMEZONE
BEGIN:VEVENT
DTSTART;TZID=Europe/Madrid:20240509T193000
DTEND;TZID=Europe/Madrid:20240509T200000
DTSTAMP:20260420T074128
CREATED:20240503T094509Z
LAST-MODIFIED:20240503T094509Z
UID:18605-1715283000-1715284800@psantisimatrinidad.archimadrid.es
SUMMARY:Exposición del Santísimo Sacramento
DESCRIPTION:👉 Después de la misa de las 19h\, te invitamos a pasar un ratito especial con Jesús Sacramentado\, a las 19:30h en el templo parroquial. \n\n\n¿Te animas a disfrutar de este momento de reflexión y comunión espiritual?\n\n\nÚnete a nosotros y deja que la presencia de Cristo llene tu corazón de paz. \n\n\n¡Aprovecha esta oportunidad de encuentro con Él!
URL:https://psantisimatrinidad.archimadrid.es/event/exposicion-del-santisimo-sacramento-58/
CATEGORIES:Eventos Evangelización,Eventos Liturgia
ATTACH;FMTTYPE=image/png:https://psantisimatrinidad.archimadrid.es/wp-content/uploads/2024/05/5-e1714729430321.png
END:VEVENT
BEGIN:VEVENT
DTSTART;TZID=Europe/Madrid:20240511T110000
DTEND;TZID=Europe/Madrid:20240511T140000
DTSTAMP:20260420T074128
CREATED:20240503T095436Z
LAST-MODIFIED:20240503T095436Z
UID:18609-1715425200-1715436000@psantisimatrinidad.archimadrid.es
SUMMARY:Primeras Comuniones
DESCRIPTION:👉 Este 11 de mayo es un día especial en nuestra comunidad. ¡Es el día de las Primeras Comuniones! \nReserva estas horas: 11:00h y 13:00h\, para unirte en oración por este hermoso momento en la vida de nuestros niños. Será un día lleno de alegría\, fe y amor\, ¡y queremos que formes parte de él! \n 
URL:https://psantisimatrinidad.archimadrid.es/event/primeras-comuniones-9/
CATEGORIES:Eventos Evangelización,Eventos Liturgia
ATTACH;FMTTYPE=image/png:https://psantisimatrinidad.archimadrid.es/wp-content/uploads/2024/05/7-e1714730069439.png
END:VEVENT
BEGIN:VEVENT
DTSTART;TZID=Europe/Madrid:20240513T173000
DTEND;TZID=Europe/Madrid:20240513T183000
DTSTAMP:20260420T074128
CREATED:20240511T122110Z
LAST-MODIFIED:20240511T122110Z
UID:18671-1715621400-1715625000@psantisimatrinidad.archimadrid.es
SUMMARY:Taller para padres
DESCRIPTION:TALLER PARA PADRES\n¡No te pierdas la oportunidad de potenciar la inteligencia emocional de tus hijos!  Únete a nuestro emocionante taller para padres que continúa explorando los secretos de la inteligencia emocional en la niñez.\n¡Acércate hoy a los salones parroquiales\, a las 17:30h y pregunta por Inma para sumergirte en esta experiencia enriquecedora!\n¡Juntos construiremos la base emocional sólida que tus hijos merecen!
URL:https://psantisimatrinidad.archimadrid.es/event/taller-para-padres-19/
CATEGORIES:Eventos Evangelización
ATTACH;FMTTYPE=image/png:https://psantisimatrinidad.archimadrid.es/wp-content/uploads/2024/05/2-1-e1715430051989.png
END:VEVENT
BEGIN:VEVENT
DTSTART;TZID=Europe/Madrid:20240513T194500
DTEND;TZID=Europe/Madrid:20240513T201500
DTSTAMP:20260420T074128
CREATED:20240511T122252Z
LAST-MODIFIED:20240518T114712Z
UID:18678-1715629500-1715631300@psantisimatrinidad.archimadrid.es
SUMMARY:Grupo de Fe Cristo Roto
DESCRIPTION:👉Este lunes\, el Grupo de Fe Cristo Roto\, te invitamos a unirte a nuestra oración a las 19:45h en el templo parroquial. \n¡Te esperamos para compartir este momento especial!
URL:https://psantisimatrinidad.archimadrid.es/event/grupo-de-fe-cristo-roto-29/
CATEGORIES:Eventos Evangelización
ATTACH;FMTTYPE=image/png:https://psantisimatrinidad.archimadrid.es/wp-content/uploads/2024/05/1-1-e1716032819666.png
END:VEVENT
BEGIN:VEVENT
DTSTART;TZID=Europe/Madrid:20240515T194500
DTEND;TZID=Europe/Madrid:20240515T211500
DTSTAMP:20260420T074128
CREATED:20240511T122437Z
LAST-MODIFIED:20240511T122437Z
UID:18680-1715802300-1715807700@psantisimatrinidad.archimadrid.es
SUMMARY:Gr. Renovación Carismática
DESCRIPTION:🔥 ¡Experimenta la esencia de la fe cada miércoles con el Grupo Renovación Carismática Católica!\n\n\nTe invitamos a sumergirte en una bonita experiencia de oración a las 19:45h en los salones parroquiales.\n\n\n¡Ven a vivir momentos transformadores llenos de espiritualidad y renovación! 🕊️\n\n\n¿Te unes a nosotros en este viaje espiritual? ¡Te esperamos con los brazos abiertos! \n¡No te pierdas esta oportunidad!
URL:https://psantisimatrinidad.archimadrid.es/event/gr-renovacion-carismatica-18/
CATEGORIES:Eventos Evangelización
ATTACH;FMTTYPE=image/png:https://psantisimatrinidad.archimadrid.es/wp-content/uploads/2024/05/3-1-e1715430271535.png
END:VEVENT
BEGIN:VEVENT
DTSTART;TZID=Europe/Madrid:20240516T193000
DTEND;TZID=Europe/Madrid:20240516T200000
DTSTAMP:20260420T074128
CREATED:20240511T122611Z
LAST-MODIFIED:20240511T122611Z
UID:18682-1715887800-1715889600@psantisimatrinidad.archimadrid.es
SUMMARY:Exposición Santísimo
DESCRIPTION:👉 Después de la misa de las 19h\, te invitamos a pasar un ratito especial con Jesús Sacramentado a las 19:30h en el templo parroquial. \n\n\n¿Te animas a disfrutar de este momento de reflexión y comunión espiritual?\n\n\nÚnete a nosotros y deja que la presencia de Cristo llene tu corazón de paz. \n\n\n¡No dejes pasar esta maravillosa oportunidad de encuentro con Él!
URL:https://psantisimatrinidad.archimadrid.es/event/exposicion-santisimo/
CATEGORIES:Eventos Evangelización,Eventos Liturgia
ATTACH;FMTTYPE=image/png:https://psantisimatrinidad.archimadrid.es/wp-content/uploads/2024/05/4-2-e1715430363540.png
END:VEVENT
BEGIN:VEVENT
DTSTART;TZID=Europe/Madrid:20240518T110000
DTEND;TZID=Europe/Madrid:20240518T140000
DTSTAMP:20260420T074128
CREATED:20240511T122816Z
LAST-MODIFIED:20240511T122817Z
UID:18684-1716030000-1716040800@psantisimatrinidad.archimadrid.es
SUMMARY:Primeras Comuniones
DESCRIPTION:👉 Este 18 de mayo es un día especial en nuestra comunidad. ¡Es el día de las Primeras Comuniones! \nReserva estas horas: 11:00h y 13:00h\, para unirte en oración por este hermoso momento en la vida de nuestros niños. Será un día lleno de alegría\, fe y amor\, ¡y queremos que formes parte de él!
URL:https://psantisimatrinidad.archimadrid.es/event/primeras-comuniones-10/
CATEGORIES:Eventos Evangelización,Eventos Liturgia
ATTACH;FMTTYPE=image/png:https://psantisimatrinidad.archimadrid.es/wp-content/uploads/2024/05/5-1-e1715430490552.png
END:VEVENT
BEGIN:VEVENT
DTSTART;TZID=Europe/Madrid:20240518T200000
DTEND;TZID=Europe/Madrid:20240518T210000
DTSTAMP:20260420T074128
CREATED:20240513T091258Z
LAST-MODIFIED:20240513T091258Z
UID:18711-1716062400-1716066000@psantisimatrinidad.archimadrid.es
SUMMARY:Vigilia Pentecostés
DESCRIPTION:👉 Os invitamos a la Vigilia de Pentecostés\, una hora de oración\, reflexión y comunión fraterna. Será un momento propicio para renovar nuestra entrega al Espíritu Santo\, para abrir nuestros corazones a su acción transformadora y para fortalecer los lazos que nos unen como comunidad de fe. \nOs esperamos el sábado 18 de mayo\, a las 20:00h\, en el templo parroquial.
URL:https://psantisimatrinidad.archimadrid.es/event/vigilia-pentecostes-2/
CATEGORIES:Eventos Cáritas,Eventos Evangelización,Eventos Liturgia
ATTACH;FMTTYPE=image/png:https://psantisimatrinidad.archimadrid.es/wp-content/uploads/2024/05/Post-de-Instagram-pentecostes-e1715591547177.png
END:VEVENT
BEGIN:VEVENT
DTSTART;TZID=Europe/Madrid:20240520T173000
DTEND;TZID=Europe/Madrid:20240520T183000
DTSTAMP:20260420T074128
CREATED:20240518T114521Z
LAST-MODIFIED:20240518T114521Z
UID:18743-1716226200-1716229800@psantisimatrinidad.archimadrid.es
SUMMARY:Taller para padres
DESCRIPTION:TALLER PARA PADRES\n¡No te pierdas la oportunidad de potenciar la inteligencia emocional de tus hijos!  Únete a nuestro emocionante taller para padres que continúa explorando los secretos de la inteligencia emocional en la niñez.\n¡Acércate hoy a los salones parroquiales\, a las 17:30h y pregunta por Inma para sumergirte en esta experiencia enriquecedora!\n¡Juntos construiremos la base emocional sólida que tus hijos merecen!
URL:https://psantisimatrinidad.archimadrid.es/event/taller-para-padres-20/
CATEGORIES:Eventos Evangelización
ATTACH;FMTTYPE=image/png:https://psantisimatrinidad.archimadrid.es/wp-content/uploads/2024/05/20240520-Taller-padres-Personalizado.png
END:VEVENT
BEGIN:VEVENT
DTSTART;TZID=Europe/Madrid:20240520T194500
DTEND;TZID=Europe/Madrid:20240520T201500
DTSTAMP:20260420T074128
CREATED:20240518T114859Z
LAST-MODIFIED:20240518T114859Z
UID:18753-1716234300-1716236100@psantisimatrinidad.archimadrid.es
SUMMARY:Grupo de Fe Cristo Roto
DESCRIPTION:👉Este lunes\, el Grupo de Fe Cristo Roto\, te invitamos a unirte a nuestra oración a las 19:45h en el templo parroquial. \n¡Te esperamos para compartir este momento especial!
URL:https://psantisimatrinidad.archimadrid.es/event/grupo-de-fe-cristo-roto-30/
CATEGORIES:Eventos Evangelización
ATTACH;FMTTYPE=image/png:https://psantisimatrinidad.archimadrid.es/wp-content/uploads/2024/05/20240520-Cristo-roto-Personalizado.png
END:VEVENT
BEGIN:VEVENT
DTSTART;TZID=Europe/Madrid:20240521T194500
DTEND;TZID=Europe/Madrid:20240521T204500
DTSTAMP:20260420T074128
CREATED:20240518T115216Z
LAST-MODIFIED:20240518T115247Z
UID:18755-1716320700-1716324300@psantisimatrinidad.archimadrid.es
SUMMARY:Formación: El perdón II
DESCRIPTION:👉 Llegamos a la última sesión de la formación parroquial\, en los salones a las 19:45h. El tema de esta sesión\, impartida por el P. Luis Murillo\, es la segunda parte de: el perdón. \nLa formación es para todos los agentes de pastoral y todos aquellos que deseen crecer en la fe.
URL:https://psantisimatrinidad.archimadrid.es/event/18755/
CATEGORIES:Eventos Evangelización
ATTACH;FMTTYPE=image/png:https://psantisimatrinidad.archimadrid.es/wp-content/uploads/2024/05/20240521-Formacion-Personalizado.png
END:VEVENT
BEGIN:VEVENT
DTSTART;TZID=Europe/Madrid:20240522T194500
DTEND;TZID=Europe/Madrid:20240522T211500
DTSTAMP:20260420T074128
CREATED:20240518T115437Z
LAST-MODIFIED:20240518T115508Z
UID:18758-1716407100-1716412500@psantisimatrinidad.archimadrid.es
SUMMARY:Gr. Renovación Carismática
DESCRIPTION:🔥 ¡Experimenta la esencia de la fe cada miércoles con el Grupo Renovación Carismática Católica!\n\n\nTe invitamos a sumergirte en una bonita experiencia de oración a las 19:45h en los salones parroquiales.\n\n\n¡Ven a vivir momentos transformadores llenos de espiritualidad y renovación! 🕊️\n\n\n¿Te unes a nosotros en este viaje espiritual? ¡Te esperamos con los brazos abiertos! \n¡No te pierdas esta oportunidad!
URL:https://psantisimatrinidad.archimadrid.es/event/18758/
CATEGORIES:Eventos Evangelización
ATTACH;FMTTYPE=image/png:https://psantisimatrinidad.archimadrid.es/wp-content/uploads/2024/05/20240522-Carismaticos-Personalizado.png
END:VEVENT
BEGIN:VEVENT
DTSTART;TZID=Europe/Madrid:20240523T193000
DTEND;TZID=Europe/Madrid:20240523T200000
DTSTAMP:20260420T074128
CREATED:20240518T115628Z
LAST-MODIFIED:20240518T115628Z
UID:18761-1716492600-1716494400@psantisimatrinidad.archimadrid.es
SUMMARY:Exposición del Santísimo
DESCRIPTION:👉 Después de la misa de las 19h\, te invitamos a pasar un ratito especial con Jesús Sacramentado a las 19:30h en el templo parroquial. \n\n\n¿Te animas a disfrutar de este momento de reflexión y comunión espiritual?\n\n\nÚnete a nosotros y deja que la presencia de Cristo llene tu corazón de paz. \n\n\n¡No dejes pasar esta maravillosa oportunidad de encuentro con Él!
URL:https://psantisimatrinidad.archimadrid.es/event/exposicion-del-santisimo-98/
CATEGORIES:Eventos Evangelización,Eventos Liturgia
ATTACH;FMTTYPE=image/png:https://psantisimatrinidad.archimadrid.es/wp-content/uploads/2024/05/20240523-Exposicion-Personalizado.png
END:VEVENT
BEGIN:VEVENT
DTSTART;TZID=Europe/Madrid:20240524T173000
DTEND;TZID=Europe/Madrid:20240524T173000
DTSTAMP:20260420T074128
CREATED:20240503T094921Z
LAST-MODIFIED:20240518T120004Z
UID:18607-1716571800-1716571800@psantisimatrinidad.archimadrid.es
SUMMARY:Peregrinación Mariana
DESCRIPTION:👉 Peregrinación mariana de las tres parroquias desde los Maristas a El Enebral\, el viernes 24 de mayo\, iniciaremos en el colegio de los maristas a las 17:30h\, para rezar el Rosario y donde se puede llevar imágenes de la Virgen. \nNos unimos en la oración.
URL:https://psantisimatrinidad.archimadrid.es/event/peregrinacion-mariana/
CATEGORIES:Eventos Evangelización
ATTACH;FMTTYPE=image/png:https://psantisimatrinidad.archimadrid.es/wp-content/uploads/2024/05/20240524-peregrinacion-Personalizado.png
END:VEVENT
BEGIN:VEVENT
DTSTART;TZID=Europe/Madrid:20240525T103000
DTEND;TZID=Europe/Madrid:20240525T140000
DTSTAMP:20260420T074128
CREATED:20240518T120651Z
LAST-MODIFIED:20240520T071031Z
UID:18765-1716633000-1716645600@psantisimatrinidad.archimadrid.es
SUMMARY:Asamblea parroquial
DESCRIPTION:El próximo sábado 25 de mayo\, todos los agentes de pastoral estamos cordialmente convocados a nuestra ASAMBLEA PARROQUIAL de fin de curso. Nos reuniremos en el Colegio Santísima Trinidad (entrada por la Calle Carlos Ruiz)\, comenzando a las 10:30h y concluyendo a las 14:00h\, tras compartir juntos la comida. Os pedimos que cada uno traiga algo para compartir y así poder disfrutar de un momento fraternal y comunitario. \nEl tema principal de nuestra asamblea será la Evaluación del curso. Sin embargo\, este año contamos con una novedad especial: la Presentación del proyecto de misión parroquial para los próximos tres años. Este es un momento muy importante para nuestra comunidad\, donde juntos podremos discernir y planificar nuestro camino en la fe. \nContamos con vuestra presencia y participación activa. \n¡Nos vemos!
URL:https://psantisimatrinidad.archimadrid.es/event/asamblea-parroquial-3/
CATEGORIES:Eventos Cáritas,Eventos Evangelización,Eventos Liturgia
ATTACH;FMTTYPE=image/png:https://psantisimatrinidad.archimadrid.es/wp-content/uploads/2024/05/asamblea-e1716189006236.png
END:VEVENT
BEGIN:VEVENT
DTSTART;VALUE=DATE:20240526
DTEND;VALUE=DATE:20240527
DTSTAMP:20260420T074128
CREATED:20240518T121105Z
LAST-MODIFIED:20240518T121105Z
UID:18767-1716681600-1716767999@psantisimatrinidad.archimadrid.es
SUMMARY:Santísima Trinidad
DESCRIPTION:Celebramos la  fiesta titular de nuestra parroquia: Santísima Trinidad. \nEl horario de misas es a las 10:00h\, 11:00h\, 12:00h\, 13:00h y 19:00h; la misa solemne se celebrará a las 12:00h. con bendición del nuevo icono de la Santísima Trinidad de Rublev. \nDespues de la misa solemne de 12h\, estamos invitados a un picoteo en los salones parroquiales (de 13h a 14h)
URL:https://psantisimatrinidad.archimadrid.es/event/santisima-trinidad-4/
CATEGORIES:Eventos Cáritas,Eventos Evangelización,Eventos Liturgia
ATTACH;FMTTYPE=image/png:https://psantisimatrinidad.archimadrid.es/wp-content/uploads/2024/05/20240526-fiesta-parroquia-Personalizado.png
END:VEVENT
BEGIN:VEVENT
DTSTART;TZID=Europe/Madrid:20240527T173000
DTEND;TZID=Europe/Madrid:20240527T183000
DTSTAMP:20260420T074128
CREATED:20240525T151322Z
LAST-MODIFIED:20240525T151322Z
UID:18823-1716831000-1716834600@psantisimatrinidad.archimadrid.es
SUMMARY:Taller para padres
DESCRIPTION:TALLER PARA PADRES\n¡No te pierdas la oportunidad de potenciar la inteligencia emocional de tus hijos!  Únete a nuestro emocionante taller para padres que continúa explorando los secretos de la inteligencia emocional en la niñez.\n¡Acércate hoy a los salones parroquiales\, a las 17:30h y pregunta por Inma para sumergirte en esta experiencia enriquecedora!\n¡Juntos construiremos la base emocional sólida que tus hijos merecen!
URL:https://psantisimatrinidad.archimadrid.es/event/taller-para-padres-21/
CATEGORIES:Eventos Evangelización
ATTACH;FMTTYPE=image/jpeg:https://psantisimatrinidad.archimadrid.es/wp-content/uploads/2024/05/IMG-20240525-WA0027-Personalizado.jpg
END:VEVENT
BEGIN:VEVENT
DTSTART;TZID=Europe/Madrid:20240527T203000
DTEND;TZID=Europe/Madrid:20240527T210000
DTSTAMP:20260420T074128
CREATED:20240525T151701Z
LAST-MODIFIED:20240526T202757Z
UID:18826-1716841800-1716843600@psantisimatrinidad.archimadrid.es
SUMMARY:Oración on-line Grupo de Fe
DESCRIPTION:Hoy el Grupo de Fe Cristo Roto tiene la oración on-line\, la podrás seguir a partir de las 20:30h en nuestro canal de YouTube en el siguiente enlace: https://youtu.be/Xh2d9VIs3fM
URL:https://psantisimatrinidad.archimadrid.es/event/oracion-on-line-grupo-de-fe-3/
CATEGORIES:Eventos Evangelización
ATTACH;FMTTYPE=image/jpeg:https://psantisimatrinidad.archimadrid.es/wp-content/uploads/2024/05/IMG-20240525-WA0029-Personalizado.jpg
END:VEVENT
BEGIN:VEVENT
DTSTART;TZID=Europe/Madrid:20240529T194500
DTEND;TZID=Europe/Madrid:20240529T211500
DTSTAMP:20260420T074128
CREATED:20240525T152111Z
LAST-MODIFIED:20240525T152152Z
UID:18829-1717011900-1717017300@psantisimatrinidad.archimadrid.es
SUMMARY:Grupo Renovación Carismática
DESCRIPTION:🔥 ¡Experimenta la esencia de la fe cada miércoles con el Grupo Renovación Carismática Católica!\n\n\nTe invitamos a sumergirte en una bonita experiencia de oración a las 19:45h en los salones parroquiales.\n\n\n¡Ven a vivir momentos transformadores llenos de espiritualidad y renovación! 🕊️\n\n\n¿Te unes a nosotros en este viaje espiritual? ¡Te esperamos con los brazos abiertos! \n¡No te pierdas esta oportunidad!
URL:https://psantisimatrinidad.archimadrid.es/event/grupo-renovacion-carismatica-20/
CATEGORIES:Eventos Evangelización
ATTACH;FMTTYPE=image/jpeg:https://psantisimatrinidad.archimadrid.es/wp-content/uploads/2024/05/IMG-20240525-WA0031-Personalizado.jpg
END:VEVENT
BEGIN:VEVENT
DTSTART;TZID=Europe/Madrid:20240530T193000
DTEND;TZID=Europe/Madrid:20240530T200000
DTSTAMP:20260420T074128
CREATED:20240525T152746Z
LAST-MODIFIED:20240525T152746Z
UID:18832-1717097400-1717099200@psantisimatrinidad.archimadrid.es
SUMMARY:Exposición del Santísimo
DESCRIPTION:👉 Después de la misa de las 19h\, te invitamos a pasar un ratito especial con Jesús Sacramentado a las 19:30h en el templo parroquial. \n\n\n¿Te animas a disfrutar de este momento de reflexión y comunión espiritual?\n\n\nÚnete a nosotros y deja que la presencia de Cristo llene tu corazón de paz. \n\n\n¡No dejes pasar esta maravillosa oportunidad de encuentro con Él!
URL:https://psantisimatrinidad.archimadrid.es/event/exposicion-del-santisimo-99/
CATEGORIES:Eventos Evangelización,Eventos Liturgia
ATTACH;FMTTYPE=image/jpeg:https://psantisimatrinidad.archimadrid.es/wp-content/uploads/2024/05/IMG-20240525-WA0030-Personalizado.jpg
END:VEVENT
BEGIN:VEVENT
DTSTART;TZID=Europe/Madrid:20240531T194500
DTEND;TZID=Europe/Madrid:20240531T203000
DTSTAMP:20260420T074128
CREATED:20240525T153256Z
LAST-MODIFIED:20240525T153256Z
UID:18835-1717184700-1717187400@psantisimatrinidad.archimadrid.es
SUMMARY:Oración Cofradía de Santiago
DESCRIPTION:Hoy\, a las 19:45h la COFRADÍA DE SANTIAGO tendremos nuestro encuentro mensual de oración. \nNos reuniremos en el templo parroquial. \n¡Te esperamos!
URL:https://psantisimatrinidad.archimadrid.es/event/oracion-cofradia-de-santiago-10/
CATEGORIES:Eventos Evangelización
ATTACH;FMTTYPE=image/jpeg:https://psantisimatrinidad.archimadrid.es/wp-content/uploads/2024/05/IMG-20240525-WA0028-Personalizado.jpg
END:VEVENT
BEGIN:VEVENT
DTSTART;TZID=Europe/Madrid:20240601T100000
DTEND;TZID=Europe/Madrid:20240601T140000
DTSTAMP:20260420T074128
CREATED:20240525T154514Z
LAST-MODIFIED:20240525T154514Z
UID:18838-1717236000-1717250400@psantisimatrinidad.archimadrid.es
SUMMARY:Cuestación de Cáritas
DESCRIPTION:El 1 de junio\, de 10:00h a 14:00h estaremos en distintos puntos de Villalba dándonos a conocer y recaudando fondos para Cáritas.\nNo dudes en acercarte y colaborar.\n¡¡Te esperamos!!
URL:https://psantisimatrinidad.archimadrid.es/event/cuestacion-de-caritas-2/
CATEGORIES:Eventos Cáritas
ATTACH;FMTTYPE=image/jpeg:https://psantisimatrinidad.archimadrid.es/wp-content/uploads/2024/05/IMG-20240525-WA0032-Personalizado.jpg
END:VEVENT
BEGIN:VEVENT
DTSTART;TZID=Europe/Madrid:20240601T190000
DTEND;TZID=Europe/Madrid:20240601T200000
DTSTAMP:20260420T074128
CREATED:20240526T203006Z
LAST-MODIFIED:20240526T203006Z
UID:18872-1717268400-1717272000@psantisimatrinidad.archimadrid.es
SUMMARY:Misa Sabatina Hdad del Rocío
DESCRIPTION:Os recordaros que este sábado\, a las 19:00 horas\, celebraremos la Misa sabatina organizada por la Hermandad del Rocío\, en nuestro templo. \nLa Misa sabatina es una oportunidad especial para reunirnos como comunidad en torno al altar del Señor\, encomendando nuestros caminos y anhelos a la intercesión de la Virgen del Rocío.
URL:https://psantisimatrinidad.archimadrid.es/event/misa-sabatina-hdad-del-rocio-8/
ATTACH;FMTTYPE=image/png:https://psantisimatrinidad.archimadrid.es/wp-content/uploads/2024/05/Sabatina-Personalizado.png
END:VEVENT
BEGIN:VEVENT
DTSTART;VALUE=DATE:20240602
DTEND;VALUE=DATE:20240603
DTSTAMP:20260420T074128
CREATED:20240525T154854Z
LAST-MODIFIED:20240525T154905Z
UID:18841-1717286400-1717372799@psantisimatrinidad.archimadrid.es
SUMMARY:Corpus Christi
DESCRIPTION:Misa solemne a las 11:00h y posterior procesión. \nEl recorrido de la procesión es el siguiente: \n1 – Salimos del templo\, a las 11:45h\, por C/ Rafael Alberti hacia C/Real \n2 – Tomamos C/ Real y giramos hacia C/ Asturias \n3 – Luego izquierda hacia C/ Pardo Santallana \n4 – Izquierda hacia C/ Ignacio González \n5 – Derecha C/ Morales Antuñano (puerta principal ermita de Santiago) \n6 – Luego hacia plaza de la Estación C/ Domingo Gómez Fdez. \n7 – Y finalizamos en la plaza de la Estación (en un altar) \nSe agradece a quienes deseen engalanar las calles en el recorrido. \nSe suspende la misa de 12:00h; por tanto\, tendremos misa a las 10:00h\, 11:00h\, 13:00h y 19:00h.
URL:https://psantisimatrinidad.archimadrid.es/event/corpus-christi-6/
CATEGORIES:Eventos Cáritas,Eventos Evangelización,Eventos Liturgia
ATTACH;FMTTYPE=image/jpeg:https://psantisimatrinidad.archimadrid.es/wp-content/uploads/2024/05/IMG-20240525-WA0033-Personalizado.jpg
END:VEVENT
BEGIN:VEVENT
DTSTART;TZID=Europe/Madrid:20240603T194500
DTEND;TZID=Europe/Madrid:20240603T201500
DTSTAMP:20260420T074128
CREATED:20240601T192657Z
LAST-MODIFIED:20240601T192657Z
UID:18944-1717443900-1717445700@psantisimatrinidad.archimadrid.es
SUMMARY:Oración Grupo de Fe Cristo Roto
DESCRIPTION:👉Este lunes\, el Grupo de Fe Cristo Roto\, te invitamos a unirte a nuestra oración a las 19:45h en el templo parroquial. \n¡Te esperamos para compartir este momento especial!
URL:https://psantisimatrinidad.archimadrid.es/event/oracion-grupo-de-fe-cristo-roto-33/
CATEGORIES:Eventos Evangelización
ATTACH;FMTTYPE=image/png:https://psantisimatrinidad.archimadrid.es/wp-content/uploads/2024/06/5-Personalizado.png
END:VEVENT
BEGIN:VEVENT
DTSTART;TZID=Europe/Madrid:20240604T194500
DTEND;TZID=Europe/Madrid:20240604T201500
DTSTAMP:20260420T074128
CREATED:20240601T193159Z
LAST-MODIFIED:20240601T193159Z
UID:18953-1717530300-1717532100@psantisimatrinidad.archimadrid.es
SUMMARY:Oración final de curso Formación Parroquial
DESCRIPTION:A lo largo del 2023-2024 hemos tenido un curso de formación parroquial con diferentes temas y ponentes\, puedes acceder a todo en el siguente enlace: PLAN DE FORMACIÓN PARROQUIAL  \nY la mejor forma de terminar el curso es con una oración final de curso a la que estáis invitados todos los agentes de pastoral. Se realizará el martes 04 de junio\, en el templo parroquial\, a las 19:45h.
URL:https://psantisimatrinidad.archimadrid.es/event/oracion-final-de-curso-formacion-parroquial/
CATEGORIES:Eventos Cáritas,Eventos Evangelización,Eventos Liturgia
ATTACH;FMTTYPE=image/png:https://psantisimatrinidad.archimadrid.es/wp-content/uploads/2024/06/4-Personalizado.png
END:VEVENT
BEGIN:VEVENT
DTSTART;TZID=Europe/Madrid:20240605T194500
DTEND;TZID=Europe/Madrid:20240605T210000
DTSTAMP:20260420T074128
CREATED:20240601T193832Z
LAST-MODIFIED:20240601T193832Z
UID:18955-1717616700-1717621200@psantisimatrinidad.archimadrid.es
SUMMARY:Grupo Renovación Carismática
DESCRIPTION:🔥 ¡Experimenta la esencia de la fe cada miércoles con el Grupo Renovación Carismática Católica!\n\n\nTe invitamos a sumergirte en una bonita experiencia de oración a las 19:45h en la capilla del templo parroquial. Hoy tenemos Adoración eucarística!!!\n\n\n¡Ven a vivir momentos transformadores llenos de espiritualidad y renovación! 🕊️\n\n\n¿Te unes a nosotros en este viaje espiritual? ¡Te esperamos con los brazos abiertos! \n¡No te pierdas esta oportunidad!
URL:https://psantisimatrinidad.archimadrid.es/event/grupo-renovacion-carismatica-21/
CATEGORIES:Eventos Evangelización,Eventos Liturgia
ATTACH;FMTTYPE=image/png:https://psantisimatrinidad.archimadrid.es/wp-content/uploads/2024/06/3-Personalizado.png
END:VEVENT
BEGIN:VEVENT
DTSTART;TZID=Europe/Madrid:20240606T193000
DTEND;TZID=Europe/Madrid:20240606T200000
DTSTAMP:20260420T074128
CREATED:20240601T194003Z
LAST-MODIFIED:20240601T194003Z
UID:18957-1717702200-1717704000@psantisimatrinidad.archimadrid.es
SUMMARY:Exposición del Santísimo
DESCRIPTION:👉 Después de la misa de las 19h\, te invitamos a pasar un ratito especial con Jesús Sacramentado a las 19:30h en el templo parroquial. \n\n\n¿Te animas a disfrutar de este momento de reflexión y comunión espiritual?\n\n\nÚnete a nosotros y deja que la presencia de Cristo llene tu corazón de paz. \n\n\n¡No dejes pasar esta maravillosa oportunidad de encuentro con Él!
URL:https://psantisimatrinidad.archimadrid.es/event/exposicion-del-santisimo-100/
CATEGORIES:Eventos Liturgia
ATTACH;FMTTYPE=image/png:https://psantisimatrinidad.archimadrid.es/wp-content/uploads/2024/06/2-Personalizado.png
END:VEVENT
BEGIN:VEVENT
DTSTART;TZID=Europe/Madrid:20240607T200000
DTEND;TZID=Europe/Madrid:20240607T210000
DTSTAMP:20260420T074128
CREATED:20240601T194146Z
LAST-MODIFIED:20240601T194146Z
UID:18959-1717790400-1717794000@psantisimatrinidad.archimadrid.es
SUMMARY:Oración de Taizé
DESCRIPTION:Os recordaros que hoy\, primer viernes de mes\, a las 20:00 horas\, tendremos la oración de Taizé en nuestro templo. \nLa oración de Taizé es un momento de profunda contemplación y comunión con Dios. Nos brinda la oportunidad de sumergirnos en la belleza de la música\, las palabras y el silencio\, para abrir nuestros corazones a la presencia amorosa de nuestro Señor.
URL:https://psantisimatrinidad.archimadrid.es/event/oracion-de-taize-43/
CATEGORIES:Eventos Evangelización,Eventos Liturgia
ATTACH;FMTTYPE=image/png:https://psantisimatrinidad.archimadrid.es/wp-content/uploads/2024/06/1-Personalizado.png
END:VEVENT
BEGIN:VEVENT
DTSTART;VALUE=DATE:20240608
DTEND;VALUE=DATE:20240609
DTSTAMP:20260420T074128
CREATED:20240601T195304Z
LAST-MODIFIED:20240601T195432Z
UID:18961-1717804800-1717891199@psantisimatrinidad.archimadrid.es
SUMMARY:Cambio horario verano
DESCRIPTION:A partir del 08 de junio (incluido)\, cambio horario:\n\nMisas de diario: 09:30h y 20:00h\nMisas Domingos y festivos: 10:00h\, 11:00h\, 12:30h y 20:00h\nDespacho parroquial: lunes y viernes de 18:30h-19:30h (los miércoles no hay despacho parroquial)\nLos jueves eucarísticos la exposición del Santísimo continuará a las 19:30h (antes de misa de 20:00h)
URL:https://psantisimatrinidad.archimadrid.es/event/cambio-horario-verano/
CATEGORIES:Eventos Cáritas,Eventos Evangelización,Eventos Liturgia
ATTACH;FMTTYPE=image/png:https://psantisimatrinidad.archimadrid.es/wp-content/uploads/2024/06/Beige-and-Brown-Elegant-Watercolor-Autumn-Floral-A4-Stationery-Page-Border-Post-de-Instagram-Personalizado.png
END:VEVENT
END:VCALENDAR