BEGIN:VCALENDAR
VERSION:2.0
PRODID:-//Parroquia Santí­sima Trinidad  (Collado Villalba) - ECPv6.15.20//NONSGML v1.0//EN
CALSCALE:GREGORIAN
METHOD:PUBLISH
X-WR-CALNAME:Parroquia Santí­sima Trinidad  (Collado Villalba)
X-ORIGINAL-URL:https://psantisimatrinidad.archimadrid.es
X-WR-CALDESC:Eventos para Parroquia Santí­sima Trinidad  (Collado Villalba)
REFRESH-INTERVAL;VALUE=DURATION:PT1H
X-Robots-Tag:noindex
X-PUBLISHED-TTL:PT1H
BEGIN:VTIMEZONE
TZID:Europe/Madrid
BEGIN:DAYLIGHT
TZOFFSETFROM:+0100
TZOFFSETTO:+0200
TZNAME:CEST
DTSTART:20230326T010000
END:DAYLIGHT
BEGIN:STANDARD
TZOFFSETFROM:+0200
TZOFFSETTO:+0100
TZNAME:CET
DTSTART:20231029T010000
END:STANDARD
BEGIN:DAYLIGHT
TZOFFSETFROM:+0100
TZOFFSETTO:+0200
TZNAME:CEST
DTSTART:20240331T010000
END:DAYLIGHT
BEGIN:STANDARD
TZOFFSETFROM:+0200
TZOFFSETTO:+0100
TZNAME:CET
DTSTART:20241027T010000
END:STANDARD
BEGIN:DAYLIGHT
TZOFFSETFROM:+0100
TZOFFSETTO:+0200
TZNAME:CEST
DTSTART:20250330T010000
END:DAYLIGHT
BEGIN:STANDARD
TZOFFSETFROM:+0200
TZOFFSETTO:+0100
TZNAME:CET
DTSTART:20251026T010000
END:STANDARD
END:VTIMEZONE
BEGIN:VEVENT
DTSTART;TZID=Europe/Madrid:20241016T194500
DTEND;TZID=Europe/Madrid:20241016T211500
DTSTAMP:20260422T194336
CREATED:20241013T170131Z
LAST-MODIFIED:20241013T170131Z
UID:19865-1729107900-1729113300@psantisimatrinidad.archimadrid.es
SUMMARY:Gr. Renovación Carismática
DESCRIPTION:🔥 ¡Experimenta la esencia de la fe cada miércoles con el Grupo Renovación Carismática Católica!\n\n\nTe invitamos a sumergirte en una bonita experiencia de oración a las 19:45h en los salones parroquiales.\n\n\n¡Ven a vivir momentos transformadores llenos de espiritualidad y renovación! 🕊️\n\n\n¿Te unes a nosotros en este viaje espiritual? ¡Te esperamos con los brazos abiertos! \n¡No te pierdas esta oportunidad!
URL:https://psantisimatrinidad.archimadrid.es/event/gr-renovacion-carismatica-23/
ATTACH;FMTTYPE=image/png:https://psantisimatrinidad.archimadrid.es/wp-content/uploads/2024/10/2-Personalizado-1.png
END:VEVENT
BEGIN:VEVENT
DTSTART;TZID=Europe/Madrid:20241017T193000
DTEND;TZID=Europe/Madrid:20241017T200000
DTSTAMP:20260422T194336
CREATED:20241013T170255Z
LAST-MODIFIED:20241013T170255Z
UID:19867-1729193400-1729195200@psantisimatrinidad.archimadrid.es
SUMMARY:Exposición del Santísimo Sacramento
DESCRIPTION:👉 Después de la misa de las 19h\, te invitamos a pasar un ratito especial con Jesús Sacramentado a las 19:30h en el templo parroquial. \n\n\n¿Te animas a disfrutar de este momento de reflexión y comunión espiritual?\n\n\nÚnete a nosotros y deja que la presencia de Cristo llene tu corazón de paz. \n\n\n¡No dejes pasar esta maravillosa oportunidad de encuentro con Él!
URL:https://psantisimatrinidad.archimadrid.es/event/exposicion-del-santisimo-sacramento-61/
ATTACH;FMTTYPE=image/png:https://psantisimatrinidad.archimadrid.es/wp-content/uploads/2024/10/3-Personalizado-1.png
END:VEVENT
BEGIN:VEVENT
DTSTART;TZID=Europe/Madrid:20241018T194500
DTEND;TZID=Europe/Madrid:20241018T211500
DTSTAMP:20260422T194336
CREATED:20241013T170427Z
LAST-MODIFIED:20241013T170427Z
UID:19869-1729280700-1729286100@psantisimatrinidad.archimadrid.es
SUMMARY:Grupo Amigos en la Fe
DESCRIPTION:👉🏽Queremos invitar a todos aquellos que deseéis profundizar en vuestra vida espiritual y crecer en la fe junto a otros hermanos\, a que os suméis a «Amigos en la Fe». Este grupo está abierto a todos los mayores de edad que buscan un espacio para caminar en la fe\, guiados por el Señor y acompañados por la comunidad (Hablad previamente con el párroco\, el P. Luis Murillo). \nSe reunen los viernes de 19:45h a 21:15h en los salones parroquiales.
URL:https://psantisimatrinidad.archimadrid.es/event/grupo-amigos-en-la-fe-3/
ATTACH;FMTTYPE=image/png:https://psantisimatrinidad.archimadrid.es/wp-content/uploads/2024/10/4-Personalizado-1.png
END:VEVENT
BEGIN:VEVENT
DTSTART;TZID=Europe/Madrid:20241021T173000
DTEND;TZID=Europe/Madrid:20241021T183000
DTSTAMP:20260422T194336
CREATED:20241018T123917Z
LAST-MODIFIED:20241018T123943Z
UID:19891-1729531800-1729535400@psantisimatrinidad.archimadrid.es
SUMMARY:Taller para padres
DESCRIPTION:¡No te pierdas la oportunidad de potenciar la inteligencia emocional de tus hijos!  Únete a nuestro emocionante taller para padres que continúa explorando los secretos de la inteligencia emocional en la niñez.\n¡Acércate hoy a los salones parroquiales\, a las 17:30h y pregunta por Inma para sumergirte en esta experiencia enriquecedora!\n¡Juntos construiremos la base emocional sólida que tus hijos merecen!
URL:https://psantisimatrinidad.archimadrid.es/event/taller-para-padres-22/
CATEGORIES:Eventos Cáritas,Eventos Evangelización
ATTACH;FMTTYPE=image/png:https://psantisimatrinidad.archimadrid.es/wp-content/uploads/2024/10/20241021-Taller-padres.png
END:VEVENT
BEGIN:VEVENT
DTSTART;TZID=Europe/Madrid:20241021T194500
DTEND;TZID=Europe/Madrid:20241021T203000
DTSTAMP:20260422T194336
CREATED:20241018T124041Z
LAST-MODIFIED:20241018T124041Z
UID:19894-1729539900-1729542600@psantisimatrinidad.archimadrid.es
SUMMARY:Grupo de fe Cristo Roto
DESCRIPTION:👉Este lunes\, el Grupo de Fe Cristo Roto\, te invitamos a unirte a nuestra oración a las 19:45h en el templo parroquial. \n¡Te esperamos para compartir este momento especial!
URL:https://psantisimatrinidad.archimadrid.es/event/grupo-de-fe-cristo-roto-34/
CATEGORIES:Eventos Evangelización
ATTACH;FMTTYPE=image/png:https://psantisimatrinidad.archimadrid.es/wp-content/uploads/2024/10/20241021-Grupo-de-fe.png
END:VEVENT
BEGIN:VEVENT
DTSTART;TZID=Europe/Madrid:20241023T194500
DTEND;TZID=Europe/Madrid:20241023T211500
DTSTAMP:20260422T194336
CREATED:20241018T124201Z
LAST-MODIFIED:20241018T124201Z
UID:19896-1729712700-1729718100@psantisimatrinidad.archimadrid.es
SUMMARY:Gr. Renovación Carismática Católica
DESCRIPTION:🔥 ¡Experimenta la esencia de la fe cada miércoles con el Grupo Renovación Carismática Católica!\n\n\nTe invitamos a sumergirte en una bonita experiencia de oración a las 19:45h en los salones parroquiales.\n\n\n¡Ven a vivir momentos transformadores llenos de espiritualidad y renovación! 🕊️\n\n\n¿Te unes a nosotros en este viaje espiritual? ¡Te esperamos con los brazos abiertos! \n¡No te pierdas esta oportunidad!
URL:https://psantisimatrinidad.archimadrid.es/event/gr-renovacion-carismatica-catolica-35/
ATTACH;FMTTYPE=image/png:https://psantisimatrinidad.archimadrid.es/wp-content/uploads/2024/10/20241023-carismaticos.png
END:VEVENT
BEGIN:VEVENT
DTSTART;TZID=Europe/Madrid:20241024T193000
DTEND;TZID=Europe/Madrid:20241024T200000
DTSTAMP:20260422T194336
CREATED:20241018T124308Z
LAST-MODIFIED:20241018T124308Z
UID:19898-1729798200-1729800000@psantisimatrinidad.archimadrid.es
SUMMARY:Exposición del Santísimo
DESCRIPTION:👉 Después de la misa de las 19h\, te invitamos a pasar un ratito especial con Jesús Sacramentado a las 19:30h en el templo parroquial. \n\n\n¿Te animas a disfrutar de este momento de reflexión y comunión espiritual?\n\n\nÚnete a nosotros y deja que la presencia de Cristo llene tu corazón de paz. \n\n\n¡No dejes pasar esta maravillosa oportunidad de encuentro con Él!
URL:https://psantisimatrinidad.archimadrid.es/event/exposicion-del-santisimo-104/
CATEGORIES:Eventos Liturgia
ATTACH;FMTTYPE=image/png:https://psantisimatrinidad.archimadrid.es/wp-content/uploads/2024/10/20241024-Exposicion.png
END:VEVENT
BEGIN:VEVENT
DTSTART;TZID=Europe/Madrid:20241025T194500
DTEND;TZID=Europe/Madrid:20241025T203000
DTSTAMP:20260422T194336
CREATED:20241019T164342Z
LAST-MODIFIED:20241019T164342Z
UID:19914-1729885500-1729888200@psantisimatrinidad.archimadrid.es
SUMMARY:Oración Cofradía de Santiago
DESCRIPTION:Hoy\, a las 19:45h la COFRADÍA DE SANTIAGO tendremos nuestro encuentro mensual de oración. \nNos reuniremos en el templo parroquial. \n¡Te esperamos!
URL:https://psantisimatrinidad.archimadrid.es/event/oracion-cofradia-de-santiago-11/
CATEGORIES:Eventos Evangelización
ATTACH;FMTTYPE=image/png:https://psantisimatrinidad.archimadrid.es/wp-content/uploads/2024/10/20241025-cofradia.png
END:VEVENT
BEGIN:VEVENT
DTSTART;TZID=Europe/Madrid:20241025T194500
DTEND;TZID=Europe/Madrid:20241025T211500
DTSTAMP:20260422T194336
CREATED:20241019T162121Z
LAST-MODIFIED:20241019T162121Z
UID:19910-1729885500-1729890900@psantisimatrinidad.archimadrid.es
SUMMARY:Grupo 'Amigos en la fe'
DESCRIPTION:👉🏽Queremos invitar a todos aquellos que deseéis profundizar en vuestra vida espiritual y crecer en la fe junto a otros hermanos\, a que os suméis a «Amigos en la Fe». Este grupo está abierto a todos los mayores de edad que buscan un espacio para caminar en la fe\, guiados por el Señor y acompañados por la comunidad (Hablad previamente con el párroco\, el P. Luis Murillo). \nSe reúnen los viernes de 19:45h a 21:15h en los salones parroquiales.
URL:https://psantisimatrinidad.archimadrid.es/event/grupo-amigos-en-la-fe-4/
CATEGORIES:Eventos Evangelización
ATTACH;FMTTYPE=image/png:https://psantisimatrinidad.archimadrid.es/wp-content/uploads/2024/10/20241025-amigos-en-la-fe.png
END:VEVENT
BEGIN:VEVENT
DTSTART;TZID=Europe/Madrid:20241026T120000
DTEND;TZID=Europe/Madrid:20241026T130000
DTSTAMP:20260422T194336
CREATED:20241019T162241Z
LAST-MODIFIED:20241019T162241Z
UID:19912-1729944000-1729947600@psantisimatrinidad.archimadrid.es
SUMMARY:Confirmación
DESCRIPTION:
URL:https://psantisimatrinidad.archimadrid.es/event/confirmacion/
CATEGORIES:Eventos Evangelización,Eventos Liturgia
ATTACH;FMTTYPE=image/png:https://psantisimatrinidad.archimadrid.es/wp-content/uploads/2024/10/20241026-confirmciones.png
END:VEVENT
BEGIN:VEVENT
DTSTART;TZID=Europe/Madrid:20241028T173000
DTEND;TZID=Europe/Madrid:20241028T183000
DTSTAMP:20260422T194336
CREATED:20241027T204840Z
LAST-MODIFIED:20241027T204840Z
UID:20004-1730136600-1730140200@psantisimatrinidad.archimadrid.es
SUMMARY:Taller para padres
DESCRIPTION:¡No te pierdas la oportunidad de potenciar la inteligencia emocional de tus hijos!  Únete a nuestro emocionante taller para padres que continúa explorando los secretos de la inteligencia emocional en la niñez.\n¡Acércate hoy a los salones parroquiales\, a las 17:30h y pregunta por Inma para sumergirte en esta experiencia enriquecedora!\n¡Juntos construiremos la base emocional sólida que tus hijos merecen!
URL:https://psantisimatrinidad.archimadrid.es/event/taller-para-padres-23/
CATEGORIES:Eventos Evangelización
ATTACH;FMTTYPE=image/png:https://psantisimatrinidad.archimadrid.es/wp-content/uploads/2024/10/20241028-01-Personalizado.png
END:VEVENT
BEGIN:VEVENT
DTSTART;TZID=Europe/Madrid:20241028T203000
DTEND;TZID=Europe/Madrid:20241028T210000
DTSTAMP:20260422T194336
CREATED:20241027T195044Z
LAST-MODIFIED:20241027T212325Z
UID:19984-1730147400-1730149200@psantisimatrinidad.archimadrid.es
SUMMARY:Oración on-line Grupo de Fe
DESCRIPTION:Hoy\, el Grupo de Fe Cristo Roto tiene la oración on-line\, la podrás seguir a partir de las 20:30h en nuestro canal de YouTube en el siguiente enlace: https://youtu.be/DBgTxUHtqmE 
URL:https://psantisimatrinidad.archimadrid.es/event/oracion-on-line-grupo-de-fe-4/
CATEGORIES:Eventos Evangelización
ATTACH;FMTTYPE=image/png:https://psantisimatrinidad.archimadrid.es/wp-content/uploads/2024/10/20241028-02-Personalizado.png
END:VEVENT
BEGIN:VEVENT
DTSTART;TZID=Europe/Madrid:20241029T194500
DTEND;TZID=Europe/Madrid:20241029T204500
DTSTAMP:20260422T194336
CREATED:20241027T195520Z
LAST-MODIFIED:20241027T195551Z
UID:19993-1730231100-1730234700@psantisimatrinidad.archimadrid.es
SUMMARY:Formación parroquial: Bloque psicología y espiritualidad.
DESCRIPTION:👉 Iniciamos la Formación parroquial\, con el bloque formativo: Psicología y Espiritualidad. Este bloque será impartido por el P. Luis\, las primera sesión es una introducción sobre el verdadero esfuerzo y sacrificio que pide Dios. Aspectos psico-espirituales ¿por qué a veces los cristianos somos un poco masoquistas?. \nLas sesiones se realizarán en los salones parroquiales\, a las 19:45h
URL:https://psantisimatrinidad.archimadrid.es/event/19993/
CATEGORIES:Eventos Evangelización
ATTACH;FMTTYPE=image/jpeg:https://psantisimatrinidad.archimadrid.es/wp-content/uploads/2024/10/20241029-Personalizado.jpg
END:VEVENT
BEGIN:VEVENT
DTSTART;TZID=Europe/Madrid:20241030T194500
DTEND;TZID=Europe/Madrid:20241030T211500
DTSTAMP:20260422T194336
CREATED:20241027T201129Z
LAST-MODIFIED:20241027T201129Z
UID:19996-1730317500-1730322900@psantisimatrinidad.archimadrid.es
SUMMARY:Gr. Renovación Carismática
DESCRIPTION:🔥 ¡Experimenta la esencia de la fe cada miércoles con el Grupo Renovación Carismática Católica!\n\n\nTe invitamos a sumergirte en una bonita experiencia de oración a las 19:45h en los salones parroquiales.\n\n\n¡Ven a vivir momentos transformadores llenos de espiritualidad y renovación! 🕊️\n\n\n¿Te unes a nosotros en este viaje espiritual? ¡Te esperamos con los brazos abiertos! \n¡No te pierdas esta oportunidad!
URL:https://psantisimatrinidad.archimadrid.es/event/gr-renovacion-carismatica-24/
CATEGORIES:Eventos Evangelización
ATTACH;FMTTYPE=image/png:https://psantisimatrinidad.archimadrid.es/wp-content/uploads/2024/10/20241030-Personalizado.png
END:VEVENT
BEGIN:VEVENT
DTSTART;TZID=Europe/Madrid:20241031T193000
DTEND;TZID=Europe/Madrid:20241031T200000
DTSTAMP:20260422T194336
CREATED:20241027T203712Z
LAST-MODIFIED:20241027T203712Z
UID:19998-1730403000-1730404800@psantisimatrinidad.archimadrid.es
SUMMARY:Exposición del Santísimo
DESCRIPTION:👉 Después de la misa de las 19h\, te invitamos a pasar un ratito especial con Jesús Sacramentado a las 19:30h en el templo parroquial. \n\n\n¿Te animas a disfrutar de este momento de reflexión y comunión espiritual?\n\n\nÚnete a nosotros y deja que la presencia de Cristo llene tu corazón de paz. \n\n\n¡No dejes pasar esta maravillosa oportunidad de encuentro con Él!
URL:https://psantisimatrinidad.archimadrid.es/event/exposicion-del-santisimo-105/
CATEGORIES:Eventos Cáritas,Eventos Evangelización,Eventos Liturgia
ATTACH;FMTTYPE=image/png:https://psantisimatrinidad.archimadrid.es/wp-content/uploads/2024/10/20241031-Personalizado.png
END:VEVENT
BEGIN:VEVENT
DTSTART;VALUE=DATE:20241101
DTEND;VALUE=DATE:20241102
DTSTAMP:20260422T194336
CREATED:20241027T204521Z
LAST-MODIFIED:20241027T204521Z
UID:20000-1730419200-1730505599@psantisimatrinidad.archimadrid.es
SUMMARY:Todos los Santos
DESCRIPTION:Hoy\, viernes\, 1 de noviembre\, solemnidad de Todos los Santos: Las misas son: 10h-11h-12h-13h y 19h en la Parroquia y a las 16:30h en el cementerio.
URL:https://psantisimatrinidad.archimadrid.es/event/todos-los-santos-2/
ATTACH;FMTTYPE=image/png:https://psantisimatrinidad.archimadrid.es/wp-content/uploads/2024/10/20241101-Personalizado.png
END:VEVENT
BEGIN:VEVENT
DTSTART;VALUE=DATE:20241102
DTEND;VALUE=DATE:20241103
DTSTAMP:20260422T194336
CREATED:20241027T204716Z
LAST-MODIFIED:20241027T204716Z
UID:20002-1730505600-1730591999@psantisimatrinidad.archimadrid.es
SUMMARY:Fieles difuntos
DESCRIPTION:hoy\, sábado 2 de noviembre\, conmemoración de todos los fieles Difuntos: Misas a las 9:30h y 19:00h en la parroquia.
URL:https://psantisimatrinidad.archimadrid.es/event/fieles-difuntos-3/
CATEGORIES:Eventos Cáritas,Eventos Evangelización,Eventos Liturgia
ATTACH;FMTTYPE=image/png:https://psantisimatrinidad.archimadrid.es/wp-content/uploads/2024/10/20241102-Personalizado.png
END:VEVENT
BEGIN:VEVENT
DTSTART;TZID=Europe/Madrid:20241104T173000
DTEND;TZID=Europe/Madrid:20241104T183000
DTSTAMP:20260422T194336
CREATED:20241103T091952Z
LAST-MODIFIED:20241103T091952Z
UID:20082-1730741400-1730745000@psantisimatrinidad.archimadrid.es
SUMMARY:Taller para padres
DESCRIPTION:¡No te pierdas la oportunidad de potenciar la inteligencia emocional de tus hijos!  Únete a nuestro emocionante taller para padres que continúa explorando los secretos de la inteligencia emocional en la niñez.\n¡Acércate hoy a los salones parroquiales\, a las 17:30h y pregunta por Inma para sumergirte en esta experiencia enriquecedora!\n¡Juntos construiremos la base emocional sólida que tus hijos merecen!
URL:https://psantisimatrinidad.archimadrid.es/event/taller-para-padres-24/
CATEGORIES:Eventos Evangelización
ATTACH;FMTTYPE=image/png:https://psantisimatrinidad.archimadrid.es/wp-content/uploads/2024/11/2-Personalizado.png
END:VEVENT
BEGIN:VEVENT
DTSTART;TZID=Europe/Madrid:20241104T194500
DTEND;TZID=Europe/Madrid:20241104T203000
DTSTAMP:20260422T194336
CREATED:20241103T092449Z
LAST-MODIFIED:20241103T134006Z
UID:20089-1730749500-1730752200@psantisimatrinidad.archimadrid.es
SUMMARY:Grupo de Fe Cristo Roto
DESCRIPTION:👉Este lunes\, el Grupo de Fe Cristo Roto\, te invitamos a unirte a nuestra oración a las 19:45h en el oratorio. \n¡Te esperamos para compartir este momento especial!
URL:https://psantisimatrinidad.archimadrid.es/event/grupo-de-fe-cristo-roto-35/
CATEGORIES:Eventos Evangelización
ATTACH;FMTTYPE=image/png:https://psantisimatrinidad.archimadrid.es/wp-content/uploads/2024/11/Business-Management-New-Course-Release-Instagram-Post-Personalizado.png
END:VEVENT
BEGIN:VEVENT
DTSTART;TZID=Europe/Madrid:20241106T194500
DTEND;TZID=Europe/Madrid:20241106T211500
DTSTAMP:20260422T194336
CREATED:20241103T092634Z
LAST-MODIFIED:20241103T092634Z
UID:20091-1730922300-1730927700@psantisimatrinidad.archimadrid.es
SUMMARY:Gr. Renovación Carismática
DESCRIPTION:🔥 ¡Experimenta la esencia de la fe cada miércoles con el Grupo Renovación Carismática Católica!\n\n\nTe invitamos a sumergirte en una bonita experiencia de oración a las 19:45h en los salones parroquiales.\n\n\n¡Ven a vivir momentos transformadores llenos de espiritualidad y renovación! 🕊️\n\n\n¿Te unes a nosotros en este viaje espiritual? ¡Te esperamos con los brazos abiertos! \n¡No te pierdas esta oportunidad!
URL:https://psantisimatrinidad.archimadrid.es/event/gr-renovacion-carismatica-25/
CATEGORIES:Eventos Evangelización
ATTACH;FMTTYPE=image/png:https://psantisimatrinidad.archimadrid.es/wp-content/uploads/2024/11/3-Personalizado.png
END:VEVENT
BEGIN:VEVENT
DTSTART;TZID=Europe/Madrid:20241107T193000
DTEND;TZID=Europe/Madrid:20241107T200000
DTSTAMP:20260422T194336
CREATED:20241103T092743Z
LAST-MODIFIED:20241103T092743Z
UID:20093-1731007800-1731009600@psantisimatrinidad.archimadrid.es
SUMMARY:Exposición del Santísimo
DESCRIPTION:👉 Después de la misa de las 19h\, te invitamos a pasar un ratito especial con Jesús Sacramentado a las 19:30h en el templo parroquial. \n\n\n¿Te animas a disfrutar de este momento de reflexión y comunión espiritual?\n\n\nÚnete a nosotros y deja que la presencia de Cristo llene tu corazón de paz. \n\n\n¡No dejes pasar esta maravillosa oportunidad de encuentro con Él!
URL:https://psantisimatrinidad.archimadrid.es/event/exposicion-del-santisimo-106/
CATEGORIES:Eventos Cáritas,Eventos Evangelización,Eventos Liturgia
ATTACH;FMTTYPE=image/png:https://psantisimatrinidad.archimadrid.es/wp-content/uploads/2024/11/4-Personalizado.png
END:VEVENT
BEGIN:VEVENT
DTSTART;TZID=Europe/Madrid:20241108T194500
DTEND;TZID=Europe/Madrid:20241108T211500
DTSTAMP:20260422T194336
CREATED:20241103T092918Z
LAST-MODIFIED:20241103T092918Z
UID:20095-1731095100-1731100500@psantisimatrinidad.archimadrid.es
SUMMARY:Grupo 'Amigos en la fe'
DESCRIPTION:👉🏽Queremos invitar a todos aquellos que deseéis profundizar en vuestra vida espiritual y crecer en la fe junto a otros hermanos\, a que os suméis a «Amigos en la Fe». Este grupo está abierto a todos los mayores de edad que buscan un espacio para caminar en la fe\, guiados por el Señor y acompañados por la comunidad (Hablad previamente con el párroco\, el P. Luis Murillo). \nSe reunen los viernes de 19:45h a 21:15h en los salones parroquiales.
URL:https://psantisimatrinidad.archimadrid.es/event/grupo-amigos-en-la-fe-5/
CATEGORIES:Eventos Evangelización
ATTACH;FMTTYPE=image/png:https://psantisimatrinidad.archimadrid.es/wp-content/uploads/2024/11/5-Personalizado.png
END:VEVENT
BEGIN:VEVENT
DTSTART;VALUE=DATE:20241110
DTEND;VALUE=DATE:20241111
DTSTAMP:20260422T194336
CREATED:20241103T183523Z
LAST-MODIFIED:20241103T185913Z
UID:20170-1731196800-1731283199@psantisimatrinidad.archimadrid.es
SUMMARY:Día de la Iglesia Diocesana
DESCRIPTION:El domingo\, 10 de noviembre\, celebramos el Día de la Iglesia Diocesana 2024 bajo el lema ‘¿Y si lo que buscas está en tu interior?‘. \nEl horario de misas es 10:00h\, 11:00h\, 12:00h\, 13:00h y 19:00h
URL:https://psantisimatrinidad.archimadrid.es/event/dia-de-la-iglesia-diocesana-4/
CATEGORIES:Eventos Evangelización
ATTACH;FMTTYPE=image/jpeg:https://psantisimatrinidad.archimadrid.es/wp-content/uploads/2024/11/1080x1080_DID24_RRSS_Cs-740x740-1.jpg
END:VEVENT
BEGIN:VEVENT
DTSTART;TZID=Europe/Madrid:20241111T173000
DTEND;TZID=Europe/Madrid:20241111T183000
DTSTAMP:20260422T194336
CREATED:20241110T084038Z
LAST-MODIFIED:20241110T084038Z
UID:20208-1731346200-1731349800@psantisimatrinidad.archimadrid.es
SUMMARY:Taller para padres
DESCRIPTION:¡No te pierdas la oportunidad de potenciar la inteligencia emocional de tus hijos!  Únete a nuestro emocionante taller para padres que continúa explorando los secretos de la inteligencia emocional en la niñez.\n¡Acércate hoy a los salones parroquiales\, a las 17:30h y pregunta por Inma para sumergirte en esta experiencia enriquecedora!\n¡Juntos construiremos la base emocional sólida que tus hijos merecen!
URL:https://psantisimatrinidad.archimadrid.es/event/taller-para-padres-25/
ATTACH;FMTTYPE=image/png:https://psantisimatrinidad.archimadrid.es/wp-content/uploads/2024/11/2.png
END:VEVENT
BEGIN:VEVENT
DTSTART;TZID=Europe/Madrid:20241111T194500
DTEND;TZID=Europe/Madrid:20241111T203000
DTSTAMP:20260422T194336
CREATED:20241110T084204Z
LAST-MODIFIED:20241110T084204Z
UID:20210-1731354300-1731357000@psantisimatrinidad.archimadrid.es
SUMMARY:Grupo de Fe: 'Cristo roto'
DESCRIPTION:👉Este lunes\, el Grupo de Fe Cristo Roto\, te invitamos a unirte a nuestra oración a las 19:45h en el oratorio. \n¡Te esperamos para compartir este momento especial!
URL:https://psantisimatrinidad.archimadrid.es/event/grupo-de-fe-cristo-roto-36/
ATTACH;FMTTYPE=image/png:https://psantisimatrinidad.archimadrid.es/wp-content/uploads/2024/11/1.png
END:VEVENT
BEGIN:VEVENT
DTSTART;TZID=Europe/Madrid:20241112T194500
DTEND;TZID=Europe/Madrid:20241112T204500
DTSTAMP:20260422T194336
CREATED:20241110T084409Z
LAST-MODIFIED:20241110T084409Z
UID:20212-1731440700-1731444300@psantisimatrinidad.archimadrid.es
SUMMARY:Formación parroquial
DESCRIPTION:👉 Continuamos la Formación parroquial\, con el bloque formativo: Psicología y Espiritualidad. Este bloque será impartido por el P. Luis Murillo \nLas sesiones se realizarán en los salones parroquiales\, a las 19:45h
URL:https://psantisimatrinidad.archimadrid.es/event/formacion-parroquial/
CATEGORIES:Eventos Evangelización
ATTACH;FMTTYPE=image/png:https://psantisimatrinidad.archimadrid.es/wp-content/uploads/2024/11/6.png
END:VEVENT
BEGIN:VEVENT
DTSTART;TZID=Europe/Madrid:20241113T194500
DTEND;TZID=Europe/Madrid:20241113T211500
DTSTAMP:20260422T194336
CREATED:20241110T084533Z
LAST-MODIFIED:20241110T084533Z
UID:20214-1731527100-1731532500@psantisimatrinidad.archimadrid.es
SUMMARY:Gr. Renovación Carismática
DESCRIPTION:🔥 ¡Experimenta la esencia de la fe cada miércoles con el Grupo Renovación Carismática Católica!\n\n\nTe invitamos a sumergirte en una bonita experiencia de oración a las 19:45h en los salones parroquiales.\n\n\n¡Ven a vivir momentos transformadores llenos de espiritualidad y renovación! 🕊️\n\n\n¿Te unes a nosotros en este viaje espiritual? ¡Te esperamos con los brazos abiertos! \n¡No te pierdas esta oportunidad!
URL:https://psantisimatrinidad.archimadrid.es/event/gr-renovacion-carismatica-26/
CATEGORIES:Eventos Evangelización
ATTACH;FMTTYPE=image/png:https://psantisimatrinidad.archimadrid.es/wp-content/uploads/2024/11/3.png
END:VEVENT
BEGIN:VEVENT
DTSTART;TZID=Europe/Madrid:20241114T193000
DTEND;TZID=Europe/Madrid:20241114T200000
DTSTAMP:20260422T194336
CREATED:20241110T084632Z
LAST-MODIFIED:20241110T084632Z
UID:20216-1731612600-1731614400@psantisimatrinidad.archimadrid.es
SUMMARY:Exposición del Santísimo
DESCRIPTION:👉 Después de la misa de las 19h\, te invitamos a pasar un ratito especial con Jesús Sacramentado a las 19:30h en el templo parroquial. \n\n\n¿Te animas a disfrutar de este momento de reflexión y comunión espiritual?\n\n\nÚnete a nosotros y deja que la presencia de Cristo llene tu corazón de paz. \n\n\n¡No dejes pasar esta maravillosa oportunidad de encuentro con Él!
URL:https://psantisimatrinidad.archimadrid.es/event/exposicion-del-santisimo-107/
CATEGORIES:Eventos Cáritas,Eventos Evangelización,Eventos Liturgia
ATTACH;FMTTYPE=image/png:https://psantisimatrinidad.archimadrid.es/wp-content/uploads/2024/11/4.png
END:VEVENT
BEGIN:VEVENT
DTSTART;TZID=Europe/Madrid:20241115T190000
DTEND;TZID=Europe/Madrid:20241117T140000
DTSTAMP:20260422T194336
CREATED:20241110T085215Z
LAST-MODIFIED:20241110T085215Z
UID:20222-1731697200-1731852000@psantisimatrinidad.archimadrid.es
SUMMARY:Cursillo de novios
DESCRIPTION:El fin de semana del 15 al 17 tendremos el cursillo de novios.
URL:https://psantisimatrinidad.archimadrid.es/event/cursillo-de-novios-3/
CATEGORIES:Eventos Evangelización
ATTACH;FMTTYPE=image/png:https://psantisimatrinidad.archimadrid.es/wp-content/uploads/2024/11/7.png
END:VEVENT
BEGIN:VEVENT
DTSTART;TZID=Europe/Madrid:20241115T194500
DTEND;TZID=Europe/Madrid:20241115T211500
DTSTAMP:20260422T194336
CREATED:20241110T084751Z
LAST-MODIFIED:20241110T084751Z
UID:20218-1731699900-1731705300@psantisimatrinidad.archimadrid.es
SUMMARY:Grupo 'Amigos en la fe'
DESCRIPTION:👉🏽Queremos invitar a todos aquellos que deseéis profundizar en vuestra vida espiritual y crecer en la fe junto a otros hermanos\, a que os suméis a «Amigos en la Fe». Este grupo está abierto a todos los mayores de edad que buscan un espacio para caminar en la fe\, guiados por el Señor y acompañados por la comunidad (Hablad previamente con el párroco\, el P. Luis Murillo). \nSe reunen los viernes de 19:45h a 21:15h en los salones parroquiales.
URL:https://psantisimatrinidad.archimadrid.es/event/grupo-amigos-en-la-fe-6/
CATEGORIES:Eventos Evangelización
ATTACH;FMTTYPE=image/png:https://psantisimatrinidad.archimadrid.es/wp-content/uploads/2024/11/5.png
END:VEVENT
END:VCALENDAR