BEGIN:VCALENDAR
VERSION:2.0
PRODID:-//Parroquia Santí­sima Trinidad  (Collado Villalba) - ECPv6.15.20//NONSGML v1.0//EN
CALSCALE:GREGORIAN
METHOD:PUBLISH
X-ORIGINAL-URL:https://psantisimatrinidad.archimadrid.es
X-WR-CALDESC:Eventos para Parroquia Santí­sima Trinidad  (Collado Villalba)
REFRESH-INTERVAL;VALUE=DURATION:PT1H
X-Robots-Tag:noindex
X-PUBLISHED-TTL:PT1H
BEGIN:VTIMEZONE
TZID:Europe/Madrid
BEGIN:DAYLIGHT
TZOFFSETFROM:+0100
TZOFFSETTO:+0200
TZNAME:CEST
DTSTART:20230326T010000
END:DAYLIGHT
BEGIN:STANDARD
TZOFFSETFROM:+0200
TZOFFSETTO:+0100
TZNAME:CET
DTSTART:20231029T010000
END:STANDARD
BEGIN:DAYLIGHT
TZOFFSETFROM:+0100
TZOFFSETTO:+0200
TZNAME:CEST
DTSTART:20240331T010000
END:DAYLIGHT
BEGIN:STANDARD
TZOFFSETFROM:+0200
TZOFFSETTO:+0100
TZNAME:CET
DTSTART:20241027T010000
END:STANDARD
BEGIN:DAYLIGHT
TZOFFSETFROM:+0100
TZOFFSETTO:+0200
TZNAME:CEST
DTSTART:20250330T010000
END:DAYLIGHT
BEGIN:STANDARD
TZOFFSETFROM:+0200
TZOFFSETTO:+0100
TZNAME:CET
DTSTART:20251026T010000
END:STANDARD
END:VTIMEZONE
BEGIN:VEVENT
DTSTART;VALUE=DATE:20241201
DTEND;VALUE=DATE:20241202
DTSTAMP:20260422T194107
CREATED:20241127T065130Z
LAST-MODIFIED:20241127T075614Z
UID:20329-1733011200-1733097599@psantisimatrinidad.archimadrid.es
SUMMARY:Inicio Adviento
DESCRIPTION:Iniciamos el tiempo de Adviento\, tiempo de preparación para el nacimiento de Cristo. \nLas misas de hoy son a las 10h\, 11h\, 12h\, 13h y 19h \n 
URL:https://psantisimatrinidad.archimadrid.es/event/inicio-adviento/
CATEGORIES:Eventos Cáritas,Eventos Evangelización,Eventos Liturgia
ATTACH;FMTTYPE=image/png:https://psantisimatrinidad.archimadrid.es/wp-content/uploads/2024/11/8-1.png
END:VEVENT
BEGIN:VEVENT
DTSTART;TZID=Europe/Madrid:20241201T093000
DTEND;TZID=Europe/Madrid:20241201T143000
DTSTAMP:20260422T194107
CREATED:20241127T065741Z
LAST-MODIFIED:20241127T065741Z
UID:20332-1733045400-1733063400@psantisimatrinidad.archimadrid.es
SUMMARY:Desayuno solidario de Cáritas
DESCRIPTION:El 1 de diciembre\, tenemos nuestro Desayuno solidarios de Cáritas. Estaremos al finalizar las misas de la mañana. \nContamos contigo!! Te esperamos!!
URL:https://psantisimatrinidad.archimadrid.es/event/desayuno-solidario-de-caritas/
CATEGORIES:Eventos Cáritas
ATTACH;FMTTYPE=image/png:https://psantisimatrinidad.archimadrid.es/wp-content/uploads/2024/11/7-1.png
END:VEVENT
BEGIN:VEVENT
DTSTART;TZID=Europe/Madrid:20241202T173000
DTEND;TZID=Europe/Madrid:20241202T183000
DTSTAMP:20260422T194107
CREATED:20241130T183134Z
LAST-MODIFIED:20241130T183134Z
UID:20477-1733160600-1733164200@psantisimatrinidad.archimadrid.es
SUMMARY:Taller para padres
DESCRIPTION:¡No te pierdas la oportunidad de potenciar la inteligencia emocional de tus hijos!  Únete a nuestro emocionante taller para padres que continúa explorando los secretos de la inteligencia emocional en la niñez.\n¡Acércate hoy a los salones parroquiales\, a las 17:30h y pregunta por Inma para sumergirte en esta experiencia enriquecedora!\n¡Juntos construiremos la base emocional sólida que tus hijos merecen!
URL:https://psantisimatrinidad.archimadrid.es/event/taller-para-padres-28/
CATEGORIES:Eventos Evangelización
ATTACH;FMTTYPE=image/png:https://psantisimatrinidad.archimadrid.es/wp-content/uploads/2024/11/1-Personalizado-2.png
END:VEVENT
BEGIN:VEVENT
DTSTART;TZID=Europe/Madrid:20241202T194500
DTEND;TZID=Europe/Madrid:20241202T194500
DTSTAMP:20260422T194107
CREATED:20241130T183021Z
LAST-MODIFIED:20241130T183021Z
UID:20475-1733168700-1733168700@psantisimatrinidad.archimadrid.es
SUMMARY:Grupo de Fe Cristo Roto
DESCRIPTION:👉Este lunes\, el Grupo de Fe Cristo Roto\, te invitamos a unirte a nuestra oración a las 19:45h en el oratorio. \n¡Te esperamos para compartir este momento especial!
URL:https://psantisimatrinidad.archimadrid.es/event/grupo-de-fe-cristo-roto-38/
CATEGORIES:Eventos Evangelización
ATTACH;FMTTYPE=image/png:https://psantisimatrinidad.archimadrid.es/wp-content/uploads/2024/11/2-Personalizado-2.png
END:VEVENT
BEGIN:VEVENT
DTSTART;TZID=Europe/Madrid:20241204T173000
DTEND;TZID=Europe/Madrid:20241204T184500
DTSTAMP:20260422T194107
CREATED:20241130T182838Z
LAST-MODIFIED:20241130T182838Z
UID:20464-1733333400-1733337900@psantisimatrinidad.archimadrid.es
SUMMARY:Gr. Vida Ascendente
DESCRIPTION:Nos reunimos los miércoles\, a las 17:30h\, en los salones parroquiales… Si te animas te estamos esperando. \nSomos un Movimiento de Apostolado seglar de personas jubiladas y mayores\, reconocido y aprobado por la Conferencia Episcopal española. Este Movimiento de seglares\, dirigido por seglares tenemos como lema: ESPIRITUALIDAD – APOSTOLADO – AMISTAD.
URL:https://psantisimatrinidad.archimadrid.es/event/gr-vida-ascendente/
CATEGORIES:Eventos Evangelización
ATTACH;FMTTYPE=image/png:https://psantisimatrinidad.archimadrid.es/wp-content/uploads/2024/11/3-2-Personalizado.png
END:VEVENT
BEGIN:VEVENT
DTSTART;TZID=Europe/Madrid:20241204T194500
DTEND;TZID=Europe/Madrid:20241204T211500
DTSTAMP:20260422T194107
CREATED:20241130T183251Z
LAST-MODIFIED:20241130T183509Z
UID:20479-1733341500-1733346900@psantisimatrinidad.archimadrid.es
SUMMARY:Gr. Renovación Carismática
DESCRIPTION:🔥 ¡Experimenta la esencia de la fe cada miércoles con el Grupo Renovación Carismática Católica!\n\n\nTe invitamos a sumergirte en una bonita experiencia de oración a las 19:45h en los salones parroquiales.\n\n\n¡Ven a vivir momentos transformadores llenos de espiritualidad y renovación! 🕊️\n\n\n¿Te unes a nosotros en este viaje espiritual? ¡Te esperamos con los brazos abiertos! \n¡No te pierdas esta oportunidad!
URL:https://psantisimatrinidad.archimadrid.es/event/gr-renovacion-carismatica-29/
CATEGORIES:Eventos Evangelización
ATTACH;FMTTYPE=image/png:https://psantisimatrinidad.archimadrid.es/wp-content/uploads/2024/11/3-Personalizado-2.png
END:VEVENT
BEGIN:VEVENT
DTSTART;TZID=Europe/Madrid:20241205T190000
DTEND;TZID=Europe/Madrid:20241207T193000
DTSTAMP:20260422T194107
CREATED:20241130T183919Z
LAST-MODIFIED:20241201T210547Z
UID:20483-1733425200-1733599800@psantisimatrinidad.archimadrid.es
SUMMARY:Triduo Inmaculada Concepción
DESCRIPTION:Se realizará\, jueves 05\, viernes 06 y sábado 07 em misa de 19h.
URL:https://psantisimatrinidad.archimadrid.es/event/triduo-inmaculada-concepcion-4/
CATEGORIES:Eventos Evangelización
ATTACH;FMTTYPE=image/png:https://psantisimatrinidad.archimadrid.es/wp-content/uploads/2024/11/006-Personalizado.png
END:VEVENT
BEGIN:VEVENT
DTSTART;TZID=Europe/Madrid:20241205T193000
DTEND;TZID=Europe/Madrid:20241205T200000
DTSTAMP:20260422T194107
CREATED:20241130T183427Z
LAST-MODIFIED:20241130T183614Z
UID:20481-1733427000-1733428800@psantisimatrinidad.archimadrid.es
SUMMARY:Exposición del Santísimo
DESCRIPTION:👉 Después de la misa de las 19h\, te invitamos a pasar un ratito especial con Jesús Sacramentado a las 19:30h en el templo parroquial. \n\n\n¿Te animas a disfrutar de este momento de reflexión y comunión espiritual?\n\n\nÚnete a nosotros y deja que la presencia de Cristo llene tu corazón de paz. \n\n\n¡No dejes pasar esta maravillosa oportunidad de encuentro con Él!
URL:https://psantisimatrinidad.archimadrid.es/event/exposicion-del-santisimo-108/
CATEGORIES:Eventos Cáritas,Eventos Evangelización,Eventos Liturgia
ATTACH;FMTTYPE=image/png:https://psantisimatrinidad.archimadrid.es/wp-content/uploads/2024/11/5-Personalizado-2.png
END:VEVENT
BEGIN:VEVENT
DTSTART;TZID=Europe/Madrid:20241206T200000
DTEND;TZID=Europe/Madrid:20241206T210000
DTSTAMP:20260422T194107
CREATED:20241130T184126Z
LAST-MODIFIED:20241130T184126Z
UID:20485-1733515200-1733518800@psantisimatrinidad.archimadrid.es
SUMMARY:Oración de Taizé
DESCRIPTION:🙏🏽 Os recordaros que hoy\, primer viernes de mes\, a las 20:00h\, tendremos la oración de Taizé en nuestro templo. \nLa oración de Taizé es un momento de profunda contemplación y comunión con Dios. Nos brinda la oportunidad de sumergirnos en la belleza de la música\, las palabras y el silencio\, para abrir nuestros corazones a la presencia amorosa de nuestro Señor.
URL:https://psantisimatrinidad.archimadrid.es/event/oracion-de-taize-44/
CATEGORIES:Eventos Evangelización
ATTACH;FMTTYPE=image/png:https://psantisimatrinidad.archimadrid.es/wp-content/uploads/2024/11/viernes-Personalizado.png
END:VEVENT
BEGIN:VEVENT
DTSTART;TZID=Europe/Madrid:20241207T190000
DTEND;TZID=Europe/Madrid:20241207T194500
DTSTAMP:20260422T194107
CREATED:20241130T184251Z
LAST-MODIFIED:20241130T184251Z
UID:20487-1733598000-1733600700@psantisimatrinidad.archimadrid.es
SUMMARY:Misa Sabatina Hdad del Rocío
DESCRIPTION:🙏🏽 Os recordaros que este sábado\, a las 19:00 horas\, celebraremos la Misa sabatina organizada por la Hermandad del Rocío\, en nuestro templo. \nLa Misa sabatina es una oportunidad especial para reunirnos como comunidad en torno al altar del Señor\, encomendando nuestros caminos y anhelos a la intercesión de la Virgen del Rocío.
URL:https://psantisimatrinidad.archimadrid.es/event/misa-sabatina-hdad-del-rocio-10/
CATEGORIES:Eventos Liturgia
ATTACH;FMTTYPE=image/png:https://psantisimatrinidad.archimadrid.es/wp-content/uploads/2024/11/20241102-Personalizado.png
END:VEVENT
BEGIN:VEVENT
DTSTART;VALUE=DATE:20241208
DTEND;VALUE=DATE:20241209
DTSTAMP:20260422T194107
CREATED:20241130T184522Z
LAST-MODIFIED:20241201T210623Z
UID:20489-1733616000-1733702399@psantisimatrinidad.archimadrid.es
SUMMARY:Inmaculada Concepción
DESCRIPTION:Domingo 8 de Diciembre: Día de la Inmaculada. \nMisas a las 10h\, 11h\, 12h\, 13h y 19h
URL:https://psantisimatrinidad.archimadrid.es/event/inmaculada-concepcion/
CATEGORIES:Eventos Liturgia
ATTACH;FMTTYPE=image/png:https://psantisimatrinidad.archimadrid.es/wp-content/uploads/2024/11/010-Personalizado.png
END:VEVENT
BEGIN:VEVENT
DTSTART;TZID=Europe/Madrid:20241209T173000
DTEND;TZID=Europe/Madrid:20241209T183000
DTSTAMP:20260422T194107
CREATED:20241207T140733Z
LAST-MODIFIED:20241207T141205Z
UID:20563-1733765400-1733769000@psantisimatrinidad.archimadrid.es
SUMMARY:Taller para padres
DESCRIPTION:Lunes 9: Taller para padres (17:30h\, salones parroquiales)\nLa familia es la primera escuela de fe y amor. En este taller\, descubriremos herramientas para acompañar a nuestros hijos en su crecimiento humano y espiritual. ¡Te esperamos!
URL:https://psantisimatrinidad.archimadrid.es/event/taller-para-padres-29/
ATTACH;FMTTYPE=image/png:https://psantisimatrinidad.archimadrid.es/wp-content/uploads/2024/12/2-Personalizado-1.png
END:VEVENT
BEGIN:VEVENT
DTSTART;TZID=Europe/Madrid:20241209T194500
DTEND;TZID=Europe/Madrid:20241209T204500
DTSTAMP:20260422T194107
CREATED:20241207T141125Z
LAST-MODIFIED:20241207T141149Z
UID:20574-1733773500-1733777100@psantisimatrinidad.archimadrid.es
SUMMARY:Grupo de fe Cristo roto
DESCRIPTION:Lunes 9: Grupo de fe Cristo roto (19:45h\, oratorio)\nEn nuestras heridas\, Cristo está presente. Únete al Grupo de Fe Cristo Roto y profundicemos juntos en el misterio del amor de Dios que transforma nuestra fragilidad en fuerza.
URL:https://psantisimatrinidad.archimadrid.es/event/grupo-de-fe-cristo-roto-39/
CATEGORIES:Eventos Evangelización
ATTACH;FMTTYPE=image/png:https://psantisimatrinidad.archimadrid.es/wp-content/uploads/2024/12/1-Personalizado-1.png
END:VEVENT
BEGIN:VEVENT
DTSTART;TZID=Europe/Madrid:20241210T194500
DTEND;TZID=Europe/Madrid:20241210T204500
DTSTAMP:20260422T194107
CREATED:20241207T141345Z
LAST-MODIFIED:20241207T141345Z
UID:20578-1733859900-1733863500@psantisimatrinidad.archimadrid.es
SUMMARY:Formación parroquial
DESCRIPTION:Martes 10: Formación parroquial (19:45h\, salones parroquiales)\n“Psicología y Espiritualidad’\, un ciclo que nos invita a conocer cómo cuerpo\, mente y alma forman un todo en nuestra relación con Dios. Una oportunidad para crecer y reflexionar. ¡No faltes!
URL:https://psantisimatrinidad.archimadrid.es/event/formacion-parroquial-3/
CATEGORIES:Eventos Evangelización
ATTACH;FMTTYPE=image/png:https://psantisimatrinidad.archimadrid.es/wp-content/uploads/2024/12/3-Personalizado-1.png
END:VEVENT
BEGIN:VEVENT
DTSTART;TZID=Europe/Madrid:20241211T173000
DTEND;TZID=Europe/Madrid:20241211T183000
DTSTAMP:20260422T194107
CREATED:20241207T153854Z
LAST-MODIFIED:20241207T153854Z
UID:20584-1733938200-1733941800@psantisimatrinidad.archimadrid.es
SUMMARY:Vida ascendente
DESCRIPTION:Miércoles 11: Vida ascendente (17:30h\, salones parroquiales)\nLa sabiduría de los años se convierte en un regalo cuando se comparte. En Vida Ascendente\, los mayores encuentran un lugar para orar\, reflexionar y seguir creciendo en la fe.
URL:https://psantisimatrinidad.archimadrid.es/event/vida-ascendente/
ATTACH;FMTTYPE=image/png:https://psantisimatrinidad.archimadrid.es/wp-content/uploads/2024/12/6-Personalizado.png
END:VEVENT
BEGIN:VEVENT
DTSTART;TZID=Europe/Madrid:20241211T194500
DTEND;TZID=Europe/Madrid:20241211T211500
DTSTAMP:20260422T194107
CREATED:20241207T141546Z
LAST-MODIFIED:20241207T153453Z
UID:20580-1733946300-1733951700@psantisimatrinidad.archimadrid.es
SUMMARY:Gr. Renovación Carismática
DESCRIPTION:Miércoles 11: Grupo Renovación Carismática (19:45h\, salones parroquiales)\n‘Donde está el Espíritu del Señor\, allí hay libertad’ (2 Co 3\, 17). Ven y participa en nuestro encuentro de oración carismática\, un espacio para alabar y renovar nuestra fe en comunidad.
URL:https://psantisimatrinidad.archimadrid.es/event/gr-renovacion-carismatica-30/
CATEGORIES:Eventos Evangelización
ATTACH;FMTTYPE=image/png:https://psantisimatrinidad.archimadrid.es/wp-content/uploads/2024/12/4-Personalizado-1.png
END:VEVENT
BEGIN:VEVENT
DTSTART;TZID=Europe/Madrid:20241212T080000
DTEND;TZID=Europe/Madrid:20241212T170000
DTSTAMP:20260422T194107
CREATED:20241207T154351Z
LAST-MODIFIED:20241207T154351Z
UID:20588-1733990400-1734022800@psantisimatrinidad.archimadrid.es
SUMMARY:Exposición del Santísimo
DESCRIPTION:Jueves 12: Exposición del Santísimo (19:30h\, capilla)\nAdoremos juntos al Señor presente en el Santísimo Sacramento. En el silencio de la capilla\, dejamos que su presencia transforme nuestro corazón.
URL:https://psantisimatrinidad.archimadrid.es/event/exposicion-del-santisimo-109/
CATEGORIES:Eventos Cáritas,Eventos Evangelización,Eventos Liturgia
ATTACH;FMTTYPE=image/png:https://psantisimatrinidad.archimadrid.es/wp-content/uploads/2024/12/5-Personalizado.png
END:VEVENT
BEGIN:VEVENT
DTSTART;TZID=Europe/Madrid:20241213T193000
DTEND;TZID=Europe/Madrid:20241213T201500
DTSTAMP:20260422T194107
CREATED:20241207T154826Z
LAST-MODIFIED:20241207T154826Z
UID:20590-1734118200-1734120900@psantisimatrinidad.archimadrid.es
SUMMARY:Acto penitencial de Adviento
DESCRIPTION:Viernes 13: Acto penitencial de Adviento (19:30h\, después de misa)\nPrepara tu corazón para la Navidad. El Señor nos espera con su perdón y misericordia. Este Adviento\, reconcíliate con Él y experimenta la alegría de su abrazo.
URL:https://psantisimatrinidad.archimadrid.es/event/acto-penitencial-de-adviento/
CATEGORIES:Eventos Liturgia
ATTACH;FMTTYPE=image/png:https://psantisimatrinidad.archimadrid.es/wp-content/uploads/2024/12/7-Personalizado.png
END:VEVENT
BEGIN:VEVENT
DTSTART;TZID=Europe/Madrid:20241213T194500
DTEND;TZID=Europe/Madrid:20241213T211500
DTSTAMP:20260422T194107
CREATED:20241207T155000Z
LAST-MODIFIED:20241207T155000Z
UID:20592-1734119100-1734124500@psantisimatrinidad.archimadrid.es
SUMMARY:Grupo Amigos en la fe
DESCRIPTION:Viernes 13: Grupo Amigos en la fe (19:45h\, salones parroquiales)\nLa amistad se fortalece cuando se vive en Cristo. En el Grupo Amigos en la Fe\, compartimos nuestra vida y nuestra fe\, apoyándonos unos a otros en el camino hacia Dios.
URL:https://psantisimatrinidad.archimadrid.es/event/grupo-amigos-en-la-fe-9/
CATEGORIES:Eventos Evangelización
ATTACH;FMTTYPE=image/png:https://psantisimatrinidad.archimadrid.es/wp-content/uploads/2024/12/8-Personalizado.png
END:VEVENT
BEGIN:VEVENT
DTSTART;TZID=Europe/Madrid:20241214T120000
DTEND;TZID=Europe/Madrid:20241214T133000
DTSTAMP:20260422T194107
CREATED:20241207T155143Z
LAST-MODIFIED:20241208T194017Z
UID:20594-1734177600-1734183000@psantisimatrinidad.archimadrid.es
SUMMARY:Fiesta parroquial de Navidad
DESCRIPTION:Sábado 14: Fiesta parroquial de Navidad (12:00h\, templo)\nLa alegría de la Navidad se vive en comunidad. Ven al Festival Parroquial y celebraremos juntos el nacimiento de Jesús con cantos\, actuaciones y momentos inolvidables. ¡Te esperamos!
URL:https://psantisimatrinidad.archimadrid.es/event/fiesta-parroquial-de-navidad/
CATEGORIES:Eventos Cáritas,Eventos Evangelización,Eventos Liturgia
ATTACH;FMTTYPE=image/png:https://psantisimatrinidad.archimadrid.es/wp-content/uploads/2024/12/festi-Personalizado.png
END:VEVENT
BEGIN:VEVENT
DTSTART;TZID=Europe/Madrid:20241216T173000
DTEND;TZID=Europe/Madrid:20241216T183000
DTSTAMP:20260422T194107
CREATED:20241216T081716Z
LAST-MODIFIED:20241216T081716Z
UID:20636-1734370200-1734373800@psantisimatrinidad.archimadrid.es
SUMMARY:Taller para padres
DESCRIPTION:Lunes 16: Taller para padres (17:30h\, salones parroquiales)\nLa familia es la primera escuela de fe y amor. En este taller\, descubriremos herramientas para acompañar a nuestros hijos en su crecimiento humano y espiritual. ¡Te esperamos!
URL:https://psantisimatrinidad.archimadrid.es/event/taller-para-padres-30/
CATEGORIES:Eventos Evangelización
ATTACH;FMTTYPE=image/png:https://psantisimatrinidad.archimadrid.es/wp-content/uploads/2024/12/1-Personalizado-3.png
END:VEVENT
BEGIN:VEVENT
DTSTART;TZID=Europe/Madrid:20241216T194500
DTEND;TZID=Europe/Madrid:20241216T204500
DTSTAMP:20260422T194107
CREATED:20241216T081838Z
LAST-MODIFIED:20241216T081838Z
UID:20645-1734378300-1734381900@psantisimatrinidad.archimadrid.es
SUMMARY:Grupo de Fe 'Cristo roto'
DESCRIPTION:Lunes 16: Grupo de fe Cristo roto (19:45h\, oratorio)\nEn nuestras heridas\, Cristo está presente. Únete al Grupo de Fe Cristo Roto y profundicemos juntos en el misterio del amor de Dios que transforma nuestra fragilidad en fuerza.
URL:https://psantisimatrinidad.archimadrid.es/event/grupo-de-fe-cristo-roto-40/
CATEGORIES:Eventos Evangelización
ATTACH;FMTTYPE=image/png:https://psantisimatrinidad.archimadrid.es/wp-content/uploads/2024/12/2-Personalizado-3.png
END:VEVENT
BEGIN:VEVENT
DTSTART;TZID=Europe/Madrid:20241218T173000
DTEND;TZID=Europe/Madrid:20241218T183000
DTSTAMP:20260422T194107
CREATED:20241216T082000Z
LAST-MODIFIED:20241216T082000Z
UID:20647-1734543000-1734546600@psantisimatrinidad.archimadrid.es
SUMMARY:Vida ascendente
DESCRIPTION:Miércoles 18: Vida ascendente (17:30h\, salones parroquiales)\nLa sabiduría de los años se convierte en un regalo cuando se comparte. En Vida Ascendente\, los mayores encuentran un lugar para orar\, reflexionar y seguir creciendo en la fe.
URL:https://psantisimatrinidad.archimadrid.es/event/vida-ascendente-2/
CATEGORIES:Eventos Evangelización
ATTACH;FMTTYPE=image/png:https://psantisimatrinidad.archimadrid.es/wp-content/uploads/2024/12/4-Personalizado-2.png
END:VEVENT
BEGIN:VEVENT
DTSTART;TZID=Europe/Madrid:20241218T194500
DTEND;TZID=Europe/Madrid:20241218T211500
DTSTAMP:20260422T194107
CREATED:20241216T082119Z
LAST-MODIFIED:20241216T082119Z
UID:20649-1734551100-1734556500@psantisimatrinidad.archimadrid.es
SUMMARY:Gr. Renovación Carismática
DESCRIPTION:Miércoles 18: Grupo Renovación Carismática (19:45h\, salones parroquiales)\n‘Donde está el Espíritu del Señor\, allí hay libertad’ (2 Co 3\, 17). Ven y participa en nuestro encuentro de oración carismática\, un espacio para alabar y renovar nuestra fe en comunidad.
URL:https://psantisimatrinidad.archimadrid.es/event/gr-renovacion-carismatica-31/
CATEGORIES:Eventos Evangelización
ATTACH;FMTTYPE=image/png:https://psantisimatrinidad.archimadrid.es/wp-content/uploads/2024/12/3-Personalizado-3.png
END:VEVENT
BEGIN:VEVENT
DTSTART;TZID=Europe/Madrid:20241219T193000
DTEND;TZID=Europe/Madrid:20241219T200000
DTSTAMP:20260422T194107
CREATED:20241216T114655Z
LAST-MODIFIED:20241216T114655Z
UID:20654-1734636600-1734638400@psantisimatrinidad.archimadrid.es
SUMMARY:Exposición del Santísimo
DESCRIPTION:Jueves 19: Exposición del Santísimo (19:30h\, capilla)\nAdoremos juntos al Señor presente en el Santísimo Sacramento. En el silencio de la capilla\, dejamos que su presencia transforme nuestro corazón.
URL:https://psantisimatrinidad.archimadrid.es/event/exposicion-del-santisimo-110/
CATEGORIES:Eventos Liturgia
ATTACH;FMTTYPE=image/png:https://psantisimatrinidad.archimadrid.es/wp-content/uploads/2024/12/5-Personalizado-1.png
END:VEVENT
BEGIN:VEVENT
DTSTART;TZID=Europe/Madrid:20241220T194500
DTEND;TZID=Europe/Madrid:20241220T211500
DTSTAMP:20260422T194107
CREATED:20241216T114811Z
LAST-MODIFIED:20241216T114811Z
UID:20656-1734723900-1734729300@psantisimatrinidad.archimadrid.es
SUMMARY:Gr. Amigos en la fe
DESCRIPTION:Viernes 20: Grupo Amigos en la fe (19:45h\, salones parroquiales)\nLa amistad se fortalece cuando se vive en Cristo. En el Grupo Amigos en la Fe\, compartimos nuestra vida y nuestra fe\, apoyándonos unos a otros en el camino hacia Dios.
URL:https://psantisimatrinidad.archimadrid.es/event/gr-amigos-en-la-fe/
CATEGORIES:Eventos Evangelización
ATTACH;FMTTYPE=image/png:https://psantisimatrinidad.archimadrid.es/wp-content/uploads/2024/12/6-Personalizado-2.png
END:VEVENT
BEGIN:VEVENT
DTSTART;TZID=Europe/Madrid:20241222T100000
DTEND;TZID=Europe/Madrid:20241222T100000
DTSTAMP:20260422T194107
CREATED:20241216T115055Z
LAST-MODIFIED:20241222T093413Z
UID:20658-1734861600-1734861600@psantisimatrinidad.archimadrid.es
SUMMARY:Bendición de las imágenes de los Niños Jesús
DESCRIPTION:Bendición de los Niños Jesús de los belenes\nEn todas las misas del día (10:00h\, 11:00h\, 12:00h\, 13:00h y 19:00h)\, bendeciremos las imágenes del Niño Jesús de vuestros belenes.\n\n\n Prepara tu hogar para la llegada del Salvador trayendo al Niño Jesús que presidirá vuestro belén familiar. Con esta bendición\, pedimos al Señor que llene vuestras familias de paz\, amor y alegría en esta Navidad.\n\n\n «Y el Verbo se hizo carne y habitó entre nosotros» (Jn 1\, 14). Ven y celebra con nosotros la alegría del Emmanuel\, Dios con nosotros.\n\n\n¡Os esperamos con ilusión para vivir juntos esta hermosa tradición navideña!
URL:https://psantisimatrinidad.archimadrid.es/event/bendicion-de-las-imagenes-de-los-ninos-jesus/
CATEGORIES:Eventos Evangelización
ATTACH;FMTTYPE=image/png:https://psantisimatrinidad.archimadrid.es/wp-content/uploads/2024/12/7-Personalizado-1.png
END:VEVENT
BEGIN:VEVENT
DTSTART;TZID=Europe/Madrid:20241223T194500
DTEND;TZID=Europe/Madrid:20241223T203000
DTSTAMP:20260422T194107
CREATED:20241220T123711Z
LAST-MODIFIED:20241220T123711Z
UID:20665-1734983100-1734985800@psantisimatrinidad.archimadrid.es
SUMMARY:Grupo de Fe Cristo Roto
DESCRIPTION:¡Te invitamos a un momento de oración especial!\nEl Grupo de Fe Cristo Roto invita a toda la comunidad parroquial a participar en una oración frente al Belén parroquial\, donde juntos contemplaremos el misterio del Nacimiento del Salvador. \n📅 Lunes 23 de diciembre\n🕒 19:45h\n📍 En el templo parroquial \nVen y vive un momento de recogimiento\, adoración y alegría en este tiempo de preparación para la Navidad. ¡No faltes\, te esperamos con los brazos abiertos! \n 
URL:https://psantisimatrinidad.archimadrid.es/event/grupo-de-fe-cristo-roto-41/
CATEGORIES:Eventos Evangelización
ATTACH;FMTTYPE=image/png:https://psantisimatrinidad.archimadrid.es/wp-content/uploads/2024/12/Post-de-Instagram-Queridos-Reyes-Magos-moderna-fotografica-colorida.png
END:VEVENT
BEGIN:VEVENT
DTSTART;TZID=Europe/Madrid:20241224T093000
DTEND;TZID=Europe/Madrid:20241224T093000
DTSTAMP:20260422T194107
CREATED:20241220T123853Z
LAST-MODIFIED:20241222T093342Z
UID:20675-1735032600-1735032600@psantisimatrinidad.archimadrid.es
SUMMARY:Misas 24 de diciembre – Nochebuena
DESCRIPTION:«La virgen concebirá y dará a luz un hijo\, y le pondrán por nombre Emmanuel\, que significa «Dios-con-nosotros»».\nHoy celebramos la maravilla del Emmanuel: Dios que habita entre nosotros. En el silencio de la noche\, el cielo se abre para traer esperanza a la humanidad. Acoge esta presencia divina en tu corazón\, porque en Él encontramos nuestra paz.
URL:https://psantisimatrinidad.archimadrid.es/event/misas-24-de-diciembre-nochebuena/
ATTACH;FMTTYPE=image/png:https://psantisimatrinidad.archimadrid.es/wp-content/uploads/2024/12/1.png
END:VEVENT
BEGIN:VEVENT
DTSTART;TZID=Europe/Madrid:20241225T110000
DTEND;TZID=Europe/Madrid:20241225T110000
DTSTAMP:20260422T194107
CREATED:20241220T124012Z
LAST-MODIFIED:20241222T093443Z
UID:20677-1735124400-1735124400@psantisimatrinidad.archimadrid.es
SUMMARY:Misas 25 de diciembre – Navidad
DESCRIPTION:«Os ha nacido un Salvador\, el Mesías\, el Señor».\nEl Salvador ha nacido en la humildad de un pesebre\, recordándonos que Dios se hace pequeño para caminar a nuestro lado. Que su luz ilumine nuestras vidas\, llenándolas de amor\, alegría y esperanza renovada.
URL:https://psantisimatrinidad.archimadrid.es/event/misas-25-de-diciembre-navidad/
CATEGORIES:Eventos Liturgia
ATTACH;FMTTYPE=image/png:https://psantisimatrinidad.archimadrid.es/wp-content/uploads/2024/12/2.png
END:VEVENT
END:VCALENDAR